BEGIN:VCALENDAR
VERSION:2.0
PRODID:-//Dr. Mark Kauffman Ministries, New Castle PA - ECPv6.15.19//NONSGML v1.0//EN
CALSCALE:GREGORIAN
METHOD:PUBLISH
X-WR-CALNAME:Dr. Mark Kauffman Ministries, New Castle PA
X-ORIGINAL-URL:https://drmarkkauffman.org
X-WR-CALDESC:Events for Dr. Mark Kauffman Ministries, New Castle PA
REFRESH-INTERVAL;VALUE=DURATION:PT1H
X-Robots-Tag:noindex
X-PUBLISHED-TTL:PT1H
BEGIN:VTIMEZONE
TZID:America/New_York
BEGIN:DAYLIGHT
TZOFFSETFROM:-0500
TZOFFSETTO:-0400
TZNAME:EDT
DTSTART:20230312T070000
END:DAYLIGHT
BEGIN:STANDARD
TZOFFSETFROM:-0400
TZOFFSETTO:-0500
TZNAME:EST
DTSTART:20231105T060000
END:STANDARD
BEGIN:DAYLIGHT
TZOFFSETFROM:-0500
TZOFFSETTO:-0400
TZNAME:EDT
DTSTART:20240310T070000
END:DAYLIGHT
BEGIN:STANDARD
TZOFFSETFROM:-0400
TZOFFSETTO:-0500
TZNAME:EST
DTSTART:20241103T060000
END:STANDARD
BEGIN:DAYLIGHT
TZOFFSETFROM:-0500
TZOFFSETTO:-0400
TZNAME:EDT
DTSTART:20250309T070000
END:DAYLIGHT
BEGIN:STANDARD
TZOFFSETFROM:-0400
TZOFFSETTO:-0500
TZNAME:EST
DTSTART:20251102T060000
END:STANDARD
END:VTIMEZONE
BEGIN:VEVENT
DTSTART;TZID=America/New_York:20240715T070000
DTEND;TZID=America/New_York:20240715T073000
DTSTAMP:20260421T213424
CREATED:20230502T173111Z
LAST-MODIFIED:20230502T173331Z
UID:10000954-1721026800-1721028600@drmarkkauffman.org
SUMMARY:Apostolic Voice on Best Life TV
DESCRIPTION:Join Drs. Mark and Jill every day for the Apostolic Voice on Best Life TV Network at 2:00 AM\, 2:00 PM\, 7:00 AM\, and 7:00 PM. \n \nBest Life TV\nBest Life TV provides hope\, healing\, and entertainment for Christian singles and families with 24/7 programming and video on demand!\nJoin us on Roku\, Amazon Fire\, and Apple TV. Watch what you want\, when you want to watch it!
URL:https://drmarkkauffman.org/event/apostolic-voice-on-best-life-tv-2/2024-07-15/
LOCATION:PA
END:VEVENT
BEGIN:VEVENT
DTSTART;TZID=America/New_York:20240715T120000
DTEND;TZID=America/New_York:20240715T123000
DTSTAMP:20260421T213424
CREATED:20240307T141940Z
LAST-MODIFIED:20240307T235758Z
UID:10002030-1721044800-1721046600@drmarkkauffman.org
SUMMARY:Apostolic Voice on Dominion TV
DESCRIPTION:Join Drs. Mark & Jill Kauffman every Sunday and Monday for the Apostolic Voice on DominionTV as they bring insight and understanding to the Word of God. \n \n\nDominion Studios and Dominion.TV are the World Wide Media Outreach ministries of Dr. Joseph & Lynette Dutton\, and Dominion Harvest Ministries\, Inc.  Broadcasting from beautiful Myrtle Beach\, SC.\n\n 
URL:https://drmarkkauffman.org/event/apostolic-voice-2/2024-07-15/
LOCATION:PA
CATEGORIES:Broadcasting
END:VEVENT
END:VCALENDAR