BEGIN:VCALENDAR
VERSION:2.0
PRODID:-//Dr. Mark Kauffman Ministries, New Castle PA - ECPv6.15.19//NONSGML v1.0//EN
CALSCALE:GREGORIAN
METHOD:PUBLISH
X-WR-CALNAME:Dr. Mark Kauffman Ministries, New Castle PA
X-ORIGINAL-URL:https://drmarkkauffman.org
X-WR-CALDESC:Events for Dr. Mark Kauffman Ministries, New Castle PA
REFRESH-INTERVAL;VALUE=DURATION:PT1H
X-Robots-Tag:noindex
X-PUBLISHED-TTL:PT1H
BEGIN:VTIMEZONE
TZID:America/New_York
BEGIN:DAYLIGHT
TZOFFSETFROM:-0500
TZOFFSETTO:-0400
TZNAME:EDT
DTSTART:20230312T070000
END:DAYLIGHT
BEGIN:STANDARD
TZOFFSETFROM:-0400
TZOFFSETTO:-0500
TZNAME:EST
DTSTART:20231105T060000
END:STANDARD
BEGIN:DAYLIGHT
TZOFFSETFROM:-0500
TZOFFSETTO:-0400
TZNAME:EDT
DTSTART:20240310T070000
END:DAYLIGHT
BEGIN:STANDARD
TZOFFSETFROM:-0400
TZOFFSETTO:-0500
TZNAME:EST
DTSTART:20241103T060000
END:STANDARD
BEGIN:DAYLIGHT
TZOFFSETFROM:-0500
TZOFFSETTO:-0400
TZNAME:EDT
DTSTART:20250309T070000
END:DAYLIGHT
BEGIN:STANDARD
TZOFFSETFROM:-0400
TZOFFSETTO:-0500
TZNAME:EST
DTSTART:20251102T060000
END:STANDARD
END:VTIMEZONE
BEGIN:VEVENT
DTSTART;TZID=America/New_York:20240818T070000
DTEND;TZID=America/New_York:20240818T073000
DTSTAMP:20260421T193642
CREATED:20230502T173111Z
LAST-MODIFIED:20230502T173331Z
UID:10000988-1723964400-1723966200@drmarkkauffman.org
SUMMARY:Apostolic Voice on Best Life TV
DESCRIPTION:Join Drs. Mark and Jill every day for the Apostolic Voice on Best Life TV Network at 2:00 AM\, 2:00 PM\, 7:00 AM\, and 7:00 PM. \n \nBest Life TV\nBest Life TV provides hope\, healing\, and entertainment for Christian singles and families with 24/7 programming and video on demand!\nJoin us on Roku\, Amazon Fire\, and Apple TV. Watch what you want\, when you want to watch it!
URL:https://drmarkkauffman.org/event/apostolic-voice-on-best-life-tv-2/2024-08-18/
LOCATION:PA
END:VEVENT
BEGIN:VEVENT
DTSTART;TZID=America/New_York:20240818T103000
DTEND;TZID=America/New_York:20240818T123000
DTSTAMP:20260421T193642
CREATED:20221116T195313Z
LAST-MODIFIED:20240308T002835Z
UID:10002257-1723977000-1723984200@drmarkkauffman.org
SUMMARY:Celebration Sunday
DESCRIPTION:
URL:https://drmarkkauffman.org/event/celebration-sunday/2024-08-18/
LOCATION:Jubilee Ministries International\, 14 East Chartes St\, New Castle\, PA\, 16102\, United States
CATEGORIES:Weekly Services
END:VEVENT
BEGIN:VEVENT
DTSTART;TZID=America/New_York:20240818T203000
DTEND;TZID=America/New_York:20240818T210000
DTSTAMP:20260421T193642
CREATED:20220517T170018Z
LAST-MODIFIED:20240308T000015Z
UID:10001837-1724013000-1724014800@drmarkkauffman.org
SUMMARY:Apostolic Voice on Dominion TV
DESCRIPTION:Join Drs. Mark & Jill Kauffman every Sunday and Monday for the Apostolic Voice on DominionTV as they bring insight and understanding to the Word of God. \n \n\nDominion Studios and Dominion.TV are the World Wide Media Outreach ministries of Dr. Joseph & Lynette Dutton\, and Dominion Harvest Ministries\, Inc.  Broadcasting from beautiful Myrtle Beach\, SC.\n\n 
URL:https://drmarkkauffman.org/event/apostolic-voice-3/2024-08-18/
LOCATION:PA
CATEGORIES:Broadcasting
END:VEVENT
END:VCALENDAR