BEGIN:VCALENDAR
VERSION:2.0
PRODID:-//Dr. Mark Kauffman Ministries, New Castle PA - ECPv6.15.19//NONSGML v1.0//EN
CALSCALE:GREGORIAN
METHOD:PUBLISH
X-WR-CALNAME:Dr. Mark Kauffman Ministries, New Castle PA
X-ORIGINAL-URL:https://drmarkkauffman.org
X-WR-CALDESC:Events for Dr. Mark Kauffman Ministries, New Castle PA
REFRESH-INTERVAL;VALUE=DURATION:PT1H
X-Robots-Tag:noindex
X-PUBLISHED-TTL:PT1H
BEGIN:VTIMEZONE
TZID:America/New_York
BEGIN:DAYLIGHT
TZOFFSETFROM:-0500
TZOFFSETTO:-0400
TZNAME:EDT
DTSTART:20240310T070000
END:DAYLIGHT
BEGIN:STANDARD
TZOFFSETFROM:-0400
TZOFFSETTO:-0500
TZNAME:EST
DTSTART:20241103T060000
END:STANDARD
BEGIN:DAYLIGHT
TZOFFSETFROM:-0500
TZOFFSETTO:-0400
TZNAME:EDT
DTSTART:20250309T070000
END:DAYLIGHT
BEGIN:STANDARD
TZOFFSETFROM:-0400
TZOFFSETTO:-0500
TZNAME:EST
DTSTART:20251102T060000
END:STANDARD
BEGIN:DAYLIGHT
TZOFFSETFROM:-0500
TZOFFSETTO:-0400
TZNAME:EDT
DTSTART:20260308T070000
END:DAYLIGHT
BEGIN:STANDARD
TZOFFSETFROM:-0400
TZOFFSETTO:-0500
TZNAME:EST
DTSTART:20261101T060000
END:STANDARD
END:VTIMEZONE
BEGIN:VEVENT
DTSTART;TZID=America/New_York:20250208T130000
DTEND;TZID=America/New_York:20250208T170000
DTSTAMP:20260421T030602
CREATED:20250127T025841Z
LAST-MODIFIED:20250206T152030Z
UID:10008352-1739019600-1739034000@drmarkkauffman.org
SUMMARY:2025 KCIA Pressing into the Prophetic Symposium
DESCRIPTION:Join Dr. Kauffman for a prophetic gathering hosted by KCIA. \nSchedule (All times below are EST): Note the times on the flyer are Pacific Time \n\nFriday\, February 7th\, 7:30 PM – 11:00 PM: Opening Night Session ~ Tim Sheets Prophetic Symposium Watch Party\nSaturday\, February 8th\, 1:00 PM – 5:00 PM: Workshop Session 7:00 PM – 10:00 PM: Closing Night Session\n\n                       Dr\, Kauffman will be ministering on Saturday\, February 8th at 7:30 PM.  \nThis is a free virtual event\, but registration is required for planning purposes. The symposium will feature worship\, teaching\, and prophetic ministry alongside KCIA President Dr. Wende Jones and Vice President Carlton Reed. \nDon’t miss this opportunity to gather with believers as we seek prophetic insight for the year ahead. \n                                                   Register by clicking on the Website link to the right.                      
URL:https://drmarkkauffman.org/event/2025-kcia-pressing-into-the-prophetic-symposium/2025-02-08/1/
LOCATION:
END:VEVENT
BEGIN:VEVENT
DTSTART;TZID=America/New_York:20250208T180000
DTEND;TZID=America/New_York:20250208T183000
DTSTAMP:20260421T030602
CREATED:20240307T235306Z
LAST-MODIFIED:20240307T235306Z
UID:10002540-1739037600-1739039400@drmarkkauffman.org
SUMMARY:Apostolic Voice on Faith TV
DESCRIPTION:Watch The Apostolic Voice with Drs. Mark & Jill Kauffman on Direct TV Channel 379 at 6:00 PM every Saturday!
URL:https://drmarkkauffman.org/event/apostolic-voice-on-faith-tv/2025-02-08/
LOCATION:PA
END:VEVENT
BEGIN:VEVENT
DTSTART;TZID=America/New_York:20250208T190000
DTEND;TZID=America/New_York:20250208T220000
DTSTAMP:20260421T030602
CREATED:20250127T025841Z
LAST-MODIFIED:20250206T152030Z
UID:10008353-1739041200-1739052000@drmarkkauffman.org
SUMMARY:2025 KCIA Pressing into the Prophetic Symposium
DESCRIPTION:Join Dr. Kauffman for a prophetic gathering hosted by KCIA. \nSchedule (All times below are EST): Note the times on the flyer are Pacific Time \n\nFriday\, February 7th\, 7:30 PM – 11:00 PM: Opening Night Session ~ Tim Sheets Prophetic Symposium Watch Party\nSaturday\, February 8th\, 1:00 PM – 5:00 PM: Workshop Session 7:00 PM – 10:00 PM: Closing Night Session\n\n                       Dr\, Kauffman will be ministering on Saturday\, February 8th at 7:30 PM.  \nThis is a free virtual event\, but registration is required for planning purposes. The symposium will feature worship\, teaching\, and prophetic ministry alongside KCIA President Dr. Wende Jones and Vice President Carlton Reed. \nDon’t miss this opportunity to gather with believers as we seek prophetic insight for the year ahead. \n                                                   Register by clicking on the Website link to the right.                      
URL:https://drmarkkauffman.org/event/2025-kcia-pressing-into-the-prophetic-symposium/2025-02-08/2/
LOCATION:
END:VEVENT
END:VCALENDAR