BEGIN:VCALENDAR
VERSION:2.0
PRODID:-//Dr. Mark Kauffman Ministries, New Castle PA - ECPv6.15.19//NONSGML v1.0//EN
CALSCALE:GREGORIAN
METHOD:PUBLISH
X-ORIGINAL-URL:https://drmarkkauffman.org
X-WR-CALDESC:Events for Dr. Mark Kauffman Ministries, New Castle PA
REFRESH-INTERVAL;VALUE=DURATION:PT1H
X-Robots-Tag:noindex
X-PUBLISHED-TTL:PT1H
BEGIN:VTIMEZONE
TZID:America/New_York
BEGIN:DAYLIGHT
TZOFFSETFROM:-0500
TZOFFSETTO:-0400
TZNAME:EDT
DTSTART:20240310T070000
END:DAYLIGHT
BEGIN:STANDARD
TZOFFSETFROM:-0400
TZOFFSETTO:-0500
TZNAME:EST
DTSTART:20241103T060000
END:STANDARD
BEGIN:DAYLIGHT
TZOFFSETFROM:-0500
TZOFFSETTO:-0400
TZNAME:EDT
DTSTART:20250309T070000
END:DAYLIGHT
BEGIN:STANDARD
TZOFFSETFROM:-0400
TZOFFSETTO:-0500
TZNAME:EST
DTSTART:20251102T060000
END:STANDARD
BEGIN:DAYLIGHT
TZOFFSETFROM:-0500
TZOFFSETTO:-0400
TZNAME:EDT
DTSTART:20260308T070000
END:DAYLIGHT
BEGIN:STANDARD
TZOFFSETFROM:-0400
TZOFFSETTO:-0500
TZNAME:EST
DTSTART:20261101T060000
END:STANDARD
END:VTIMEZONE
BEGIN:VEVENT
DTSTART;VALUE=DATE:20250424
DTEND;VALUE=DATE:20250428
DTSTAMP:20260420T231523
CREATED:20240919T172303Z
LAST-MODIFIED:20250212T144155Z
UID:10004217-1745452800-1745798399@drmarkkauffman.org
SUMMARY:4th Annual International Network of Kingdom Leaders’ Summit ~ Champions of Change
DESCRIPTION:We are excited to announce the 4th Annual International Network of Kingdom Leaders’ Summit ~ Champions of Change hosted by Dr. Mark and Dr. Jill Kauffman\, Thursday\, April 24 – Sunday\, April 27\, 2025. Our keynote speakers will be Prophet Keith Miller and Prophet Tom Hamon. \nClick on the flyer below to register.  \nEvent Schedule: \nThursday\, April 24th \n\n7 PM: Reception\, Hors d’oeuvres\, & Entertainment @ KBN Studios\n\nFriday\, April 25th \n\n8 AM-2 PM: INK Leaders’ Summit at KBN Studios (Continental Breakfast & Lunch Served)\n7 PM: Service at Jubilee Ministries International City Church\n\nSaturday\, April 26th \n\n8 AM-2 PM: INK Leaders’ Summit at KBN Studios (Continental Breakfast & Lunch Served)\n6:30 PM: Service at Jubilee Ministries International City Church\n\nSunday\, April 27th \n\n10:00 AM: Service at Jubilee Ministries International City Church
URL:https://drmarkkauffman.org/event/4th-annual-international-network-of-kingdom-leaders-summit/
LOCATION:Kingdom Broadcasting Network Studio\, 2801 Wilmington Rd\, New Castle\, PA\, 16105\, United States
END:VEVENT
BEGIN:VEVENT
DTSTART;TZID=America/New_York:20250427T203000
DTEND;TZID=America/New_York:20250427T210000
DTSTAMP:20260420T231523
CREATED:20220517T170018Z
LAST-MODIFIED:20240308T000015Z
UID:10001873-1745785800-1745787600@drmarkkauffman.org
SUMMARY:Apostolic Voice on Dominion TV
DESCRIPTION:Join Drs. Mark & Jill Kauffman every Sunday and Monday for the Apostolic Voice on DominionTV as they bring insight and understanding to the Word of God. \n \n\nDominion Studios and Dominion.TV are the World Wide Media Outreach ministries of Dr. Joseph & Lynette Dutton\, and Dominion Harvest Ministries\, Inc.  Broadcasting from beautiful Myrtle Beach\, SC.\n\n 
URL:https://drmarkkauffman.org/event/apostolic-voice-3/2025-04-27/
LOCATION:PA
CATEGORIES:Broadcasting
END:VEVENT
END:VCALENDAR