BEGIN:VCALENDAR
VERSION:2.0
PRODID:-//Dr. Mark Kauffman Ministries, New Castle PA - ECPv6.15.19//NONSGML v1.0//EN
CALSCALE:GREGORIAN
METHOD:PUBLISH
X-ORIGINAL-URL:https://drmarkkauffman.org
X-WR-CALDESC:Events for Dr. Mark Kauffman Ministries, New Castle PA
REFRESH-INTERVAL;VALUE=DURATION:PT1H
X-Robots-Tag:noindex
X-PUBLISHED-TTL:PT1H
BEGIN:VTIMEZONE
TZID:America/New_York
BEGIN:DAYLIGHT
TZOFFSETFROM:-0500
TZOFFSETTO:-0400
TZNAME:EDT
DTSTART:20240310T070000
END:DAYLIGHT
BEGIN:STANDARD
TZOFFSETFROM:-0400
TZOFFSETTO:-0500
TZNAME:EST
DTSTART:20241103T060000
END:STANDARD
BEGIN:DAYLIGHT
TZOFFSETFROM:-0500
TZOFFSETTO:-0400
TZNAME:EDT
DTSTART:20250309T070000
END:DAYLIGHT
BEGIN:STANDARD
TZOFFSETFROM:-0400
TZOFFSETTO:-0500
TZNAME:EST
DTSTART:20251102T060000
END:STANDARD
BEGIN:DAYLIGHT
TZOFFSETFROM:-0500
TZOFFSETTO:-0400
TZNAME:EDT
DTSTART:20260308T070000
END:DAYLIGHT
BEGIN:STANDARD
TZOFFSETFROM:-0400
TZOFFSETTO:-0500
TZNAME:EST
DTSTART:20261101T060000
END:STANDARD
END:VTIMEZONE
BEGIN:VEVENT
DTSTART;VALUE=DATE:20250515
DTEND;VALUE=DATE:20250519
DTSTAMP:20260420T212427
CREATED:20250501T190928Z
LAST-MODIFIED:20250501T222938Z
UID:10008403-1747267200-1747612799@drmarkkauffman.org
SUMMARY:Unleashing Heaven's Wealth - Joan Hunter Ministries
DESCRIPTION:Dr Kauffman will be ministering at the Unleashing Heaven’s Wealth – Joan Hunter Ministries on Thursday\, May 15th -Sunday\, May 18th \nSERVICE SCHEDULE: \nThursday\, May 15\, 2025 – 7:00 pm CDT\nFriday\, May 16\, 2025 – 10:00 am CDT\, 2:30 pm CDT & 7:00 pm CDT\nSaturday\, May 17\, 2025 – 10:00 am CDT\, 2:30 pm CDT & 7:00 pm CDT\nSunday\, May 18\, 2025 – Hour of Power @ 4:00 PM CDT & Night of Refreshing @ 6:00 PM CDT \nWith Guest Speakers:\n– Bob & Laurie Bertelsen\, Kynan Bridges\, Robert Henderson\, Barbara Wentroble\, Dr. Mark Kauffman\, Charity Bradshaw\, & Joan Hunter \nDr. Kauffman will be ministering: \n Friday\, May 16\, 2025\, 3:30 pm\n Saturday\, May 17\, 2025\, 2:30 pm; 3:30 pm: Panel Discussion (All speakers )\n Sunday\, May 18\, 2025\, 6:00 pm:\nJoin in person or online! \n4 Corners Conference Center\nJoan Hunter\n130 Agg Road\nTomball\, TX 77375\nwww.joanhunter.org \nFor more information:\nEmail admin@joanhunter.org or Call (281) 789 – 7500
URL:https://drmarkkauffman.org/event/unleashing-heavens-wealth-joan-hunter-ministries/
LOCATION:4 Corners Conference Center\, 130 Agg Road\, Tombell\, TX\, 77375\, United States
ORGANIZER;CN="Joan Hunter":MAILTO:admin@joanhunter.org
END:VEVENT
BEGIN:VEVENT
DTSTART;TZID=America/New_York:20250517T180000
DTEND;TZID=America/New_York:20250517T183000
DTSTAMP:20260420T212427
CREATED:20240307T235306Z
LAST-MODIFIED:20240307T235306Z
UID:10002554-1747504800-1747506600@drmarkkauffman.org
SUMMARY:Apostolic Voice on Faith TV
DESCRIPTION:Watch The Apostolic Voice with Drs. Mark & Jill Kauffman on Direct TV Channel 379 at 6:00 PM every Saturday!
URL:https://drmarkkauffman.org/event/apostolic-voice-on-faith-tv/2025-05-17/
LOCATION:PA
END:VEVENT
END:VCALENDAR