BEGIN:VCALENDAR
VERSION:2.0
PRODID:-//Dr. Mark Kauffman Ministries, New Castle PA - ECPv6.15.19//NONSGML v1.0//EN
CALSCALE:GREGORIAN
METHOD:PUBLISH
X-ORIGINAL-URL:https://drmarkkauffman.org
X-WR-CALDESC:Events for Dr. Mark Kauffman Ministries, New Castle PA
REFRESH-INTERVAL;VALUE=DURATION:PT1H
X-Robots-Tag:noindex
X-PUBLISHED-TTL:PT1H
BEGIN:VTIMEZONE
TZID:America/New_York
BEGIN:DAYLIGHT
TZOFFSETFROM:-0500
TZOFFSETTO:-0400
TZNAME:EDT
DTSTART:20240310T070000
END:DAYLIGHT
BEGIN:STANDARD
TZOFFSETFROM:-0400
TZOFFSETTO:-0500
TZNAME:EST
DTSTART:20241103T060000
END:STANDARD
BEGIN:DAYLIGHT
TZOFFSETFROM:-0500
TZOFFSETTO:-0400
TZNAME:EDT
DTSTART:20250309T070000
END:DAYLIGHT
BEGIN:STANDARD
TZOFFSETFROM:-0400
TZOFFSETTO:-0500
TZNAME:EST
DTSTART:20251102T060000
END:STANDARD
BEGIN:DAYLIGHT
TZOFFSETFROM:-0500
TZOFFSETTO:-0400
TZNAME:EDT
DTSTART:20260308T070000
END:DAYLIGHT
BEGIN:STANDARD
TZOFFSETFROM:-0400
TZOFFSETTO:-0500
TZNAME:EST
DTSTART:20261101T060000
END:STANDARD
END:VTIMEZONE
BEGIN:VEVENT
DTSTART;VALUE=DATE:20250523
DTEND;VALUE=DATE:20250526
DTSTAMP:20260420T212557
CREATED:20250501T193130Z
LAST-MODIFIED:20250501T193130Z
UID:10008404-1747958400-1748217599@drmarkkauffman.org
SUMMARY:Fan the Flame Conference ~ Oasis of Love Church in Shippensburg\, PA
DESCRIPTION:Fan the Flame – Conference 2025\nMay 23–25\, 2025 | Oasis of Love Church | Shippensburg\, Pennsylvania \nReignite your faith. Rekindle your fire. Reawaken your calling. \nJoin us Memorial Day weekend for Fan the Flame – Conference 2025\, hosted at Oasis of Love Church in Shippensburg\, PA. This dynamic three-day gathering is designed to stir hearts\, revive purpose\, and equip believers to walk boldly in the power of the Holy Spirit. \nInspired by 2 Timothy 1:6 (AMPC) – “Fan into flame the gracious gift of God…” – this conference is a call to action for individuals ready to embrace their God-given destiny with renewed passion and purpose. \nFeatured Guest Speakers:\n\n\nRev. Phil Cappuccio – Nationally recognized prophetic voice and revivalist \n\n\nDr. Mark Kauffman – Author\, apostolic leader\, and founder of Jubilee Ministries \n\n\nWhether you’re a pastor\, ministry leader\, or believer\, this weekend will be filled with anointed preaching\, prophetic impartation\, and worship that sets the atmosphere for breakthrough. \nEvent Details:\n\n\nDates: Friday\, May 23 – Sunday\, May 25\, 2025 \n\n\nLocation: Oasis of Love Church\, 303 South Washington Street\, Shippensburg\, PA \n\n\nContact: 717.532.5112 for more information \n\n\nWhy Attend Fan the Flame 2025?\n\n\nEncounter a fresh move of the Holy Spirit \n\n\nReceive prophetic insight for your season \n\n\nBe equipped and activated for Kingdom impact \n\n\nNetwork with like-minded believers and leaders \n\n\nMake plans now to attend. \nFor more details\, directions\, or accommodations\, contact Oasis of Love Church directly.
URL:https://drmarkkauffman.org/event/fan-the-flame-conference-oasis-of-love-church-in-shippensburg-pa/
LOCATION:Oasis Love Church\, 303 S. Washington St\, Shippensburg\, PA\, United States
END:VEVENT
BEGIN:VEVENT
DTSTART;TZID=America/New_York:20250525T203000
DTEND;TZID=America/New_York:20250525T210000
DTSTAMP:20260420T212557
CREATED:20220517T170018Z
LAST-MODIFIED:20240308T000015Z
UID:10001877-1748205000-1748206800@drmarkkauffman.org
SUMMARY:Apostolic Voice on Dominion TV
DESCRIPTION:Join Drs. Mark & Jill Kauffman every Sunday and Monday for the Apostolic Voice on DominionTV as they bring insight and understanding to the Word of God. \n \n\nDominion Studios and Dominion.TV are the World Wide Media Outreach ministries of Dr. Joseph & Lynette Dutton\, and Dominion Harvest Ministries\, Inc.  Broadcasting from beautiful Myrtle Beach\, SC.\n\n 
URL:https://drmarkkauffman.org/event/apostolic-voice-3/2025-05-25/
LOCATION:PA
CATEGORIES:Broadcasting
END:VEVENT
END:VCALENDAR