BEGIN:VCALENDAR
VERSION:2.0
PRODID:-//Dr. Mark Kauffman Ministries, New Castle PA - ECPv6.15.19//NONSGML v1.0//EN
CALSCALE:GREGORIAN
METHOD:PUBLISH
X-WR-CALNAME:Dr. Mark Kauffman Ministries, New Castle PA
X-ORIGINAL-URL:https://drmarkkauffman.org
X-WR-CALDESC:Events for Dr. Mark Kauffman Ministries, New Castle PA
REFRESH-INTERVAL;VALUE=DURATION:PT1H
X-Robots-Tag:noindex
X-PUBLISHED-TTL:PT1H
BEGIN:VTIMEZONE
TZID:America/New_York
BEGIN:DAYLIGHT
TZOFFSETFROM:-0500
TZOFFSETTO:-0400
TZNAME:EDT
DTSTART:20240310T070000
END:DAYLIGHT
BEGIN:STANDARD
TZOFFSETFROM:-0400
TZOFFSETTO:-0500
TZNAME:EST
DTSTART:20241103T060000
END:STANDARD
BEGIN:DAYLIGHT
TZOFFSETFROM:-0500
TZOFFSETTO:-0400
TZNAME:EDT
DTSTART:20250309T070000
END:DAYLIGHT
BEGIN:STANDARD
TZOFFSETFROM:-0400
TZOFFSETTO:-0500
TZNAME:EST
DTSTART:20251102T060000
END:STANDARD
BEGIN:DAYLIGHT
TZOFFSETFROM:-0500
TZOFFSETTO:-0400
TZNAME:EDT
DTSTART:20260308T070000
END:DAYLIGHT
BEGIN:STANDARD
TZOFFSETFROM:-0400
TZOFFSETTO:-0500
TZNAME:EST
DTSTART:20261101T060000
END:STANDARD
END:VTIMEZONE
BEGIN:VEVENT
DTSTART;TZID=America/New_York:20251005T100000
DTEND;TZID=America/New_York:20251005T120000
DTSTAMP:20260420T014220
CREATED:20250930T200253Z
LAST-MODIFIED:20250930T201855Z
UID:10008417-1759658400-1759665600@drmarkkauffman.org
SUMMARY:Special Services – Freedom Fellowship Church (Apple Creek\, OH)
DESCRIPTION:Dates: Friday–Sunday\, October 3–5\, 2025Host Ministry: Apostle Urie & Amanda HershbergerSpeaker: Dr. Mark Kauffman \nVenue:Freedom Fellowship Church6209 South Carr Road\, Apple Creek\, Ohio 44606 \nService Times (local): \n\n\nFri\, Oct 3 – 7:00 p.m. \n\n\nSat\, Oct 4 – 6:00 p.m. \n\n\nSun\, Oct 5 – 10:00 a.m. \n\n\nSun\, Oct 5 – 2:00 p.m.
URL:https://drmarkkauffman.org/event/special-services-freedom-fellowship-church-apple-creek-oh/2025-10-05/1/
LOCATION:Freedom Fellowship Church\, 6209 Carr Rd.\, Apple Creek\, OH\, 44606\, United States
END:VEVENT
BEGIN:VEVENT
DTSTART;TZID=America/New_York:20251005T140000
DTEND;TZID=America/New_York:20251005T163000
DTSTAMP:20260420T014220
CREATED:20250930T200253Z
LAST-MODIFIED:20250930T201855Z
UID:10008418-1759672800-1759681800@drmarkkauffman.org
SUMMARY:Special Services – Freedom Fellowship Church (Apple Creek\, OH)
DESCRIPTION:Dates: Friday–Sunday\, October 3–5\, 2025Host Ministry: Apostle Urie & Amanda HershbergerSpeaker: Dr. Mark Kauffman \nVenue:Freedom Fellowship Church6209 South Carr Road\, Apple Creek\, Ohio 44606 \nService Times (local): \n\n\nFri\, Oct 3 – 7:00 p.m. \n\n\nSat\, Oct 4 – 6:00 p.m. \n\n\nSun\, Oct 5 – 10:00 a.m. \n\n\nSun\, Oct 5 – 2:00 p.m.
URL:https://drmarkkauffman.org/event/special-services-freedom-fellowship-church-apple-creek-oh/2025-10-05/3/
LOCATION:Freedom Fellowship Church\, 6209 Carr Rd.\, Apple Creek\, OH\, 44606\, United States
END:VEVENT
BEGIN:VEVENT
DTSTART;TZID=America/New_York:20251005T203000
DTEND;TZID=America/New_York:20251005T210000
DTSTAMP:20260420T014220
CREATED:20220517T170018Z
LAST-MODIFIED:20240308T000015Z
UID:10001896-1759696200-1759698000@drmarkkauffman.org
SUMMARY:Apostolic Voice on Dominion TV
DESCRIPTION:Join Drs. Mark & Jill Kauffman every Sunday and Monday for the Apostolic Voice on DominionTV as they bring insight and understanding to the Word of God. \n \n\nDominion Studios and Dominion.TV are the World Wide Media Outreach ministries of Dr. Joseph & Lynette Dutton\, and Dominion Harvest Ministries\, Inc.  Broadcasting from beautiful Myrtle Beach\, SC.\n\n 
URL:https://drmarkkauffman.org/event/apostolic-voice-3/2025-10-05/
LOCATION:PA
CATEGORIES:Broadcasting
END:VEVENT
END:VCALENDAR