BEGIN:VCALENDAR
VERSION:2.0
PRODID:-//Dr. Mark Kauffman Ministries, New Castle PA - ECPv6.15.19//NONSGML v1.0//EN
CALSCALE:GREGORIAN
METHOD:PUBLISH
X-ORIGINAL-URL:https://drmarkkauffman.org
X-WR-CALDESC:Events for Dr. Mark Kauffman Ministries, New Castle PA
REFRESH-INTERVAL;VALUE=DURATION:PT1H
X-Robots-Tag:noindex
X-PUBLISHED-TTL:PT1H
BEGIN:VTIMEZONE
TZID:America/New_York
BEGIN:DAYLIGHT
TZOFFSETFROM:-0500
TZOFFSETTO:-0400
TZNAME:EDT
DTSTART:20240310T070000
END:DAYLIGHT
BEGIN:STANDARD
TZOFFSETFROM:-0400
TZOFFSETTO:-0500
TZNAME:EST
DTSTART:20241103T060000
END:STANDARD
BEGIN:DAYLIGHT
TZOFFSETFROM:-0500
TZOFFSETTO:-0400
TZNAME:EDT
DTSTART:20250309T070000
END:DAYLIGHT
BEGIN:STANDARD
TZOFFSETFROM:-0400
TZOFFSETTO:-0500
TZNAME:EST
DTSTART:20251102T060000
END:STANDARD
BEGIN:DAYLIGHT
TZOFFSETFROM:-0500
TZOFFSETTO:-0400
TZNAME:EDT
DTSTART:20260308T070000
END:DAYLIGHT
BEGIN:STANDARD
TZOFFSETFROM:-0400
TZOFFSETTO:-0500
TZNAME:EST
DTSTART:20261101T060000
END:STANDARD
END:VTIMEZONE
BEGIN:VEVENT
DTSTART;TZID=America/New_York:20251011T100000
DTEND;TZID=America/New_York:20251012T100000
DTSTAMP:20260420T015650
CREATED:20250926T013610Z
LAST-MODIFIED:20250926T013610Z
UID:10008410-1760176800-1760263200@drmarkkauffman.org
SUMMARY:Word Life Center International
DESCRIPTION:Word Life Center International – Kannapolis\, NC\nJoin Dr. Kauffman in Kannapolis as Word Life Center International celebrates 24 years of ministry and Kingdom momentum. Expect a faith-building time of teaching\, prophetic ministry\, and impartation. \nEvent: Celebrating 24 Years of Kingdom Momentum\nDates: Saturday–Sunday\, October 11–12\, 2025\nTime: 10:00 AM ET each day\nVenue: Word Life Center International\nAddress: 1124 Rosewood Avenue\, Kannapolis\, NC 28081\nConference Hosts: Pastors Jeff & Michelle Sanders\nGuest Speaker: Apostle/Dr. Mark Kauffman (New Castle\, PA) \nDetails: \n\nContact the host church for seating/childcare details.\n\n      Graphic Credit: Word Life Center International – “Celebrating 24 Years of Kingdom Momentum.”
URL:https://drmarkkauffman.org/event/word-life-center-international/
LOCATION:Word Life Center International Address: 1124 Rosewood Avenue\, Kannapolis\, NC 28081\, 1124 Rosewood Avenue\, NC\, 28081\, United States
END:VEVENT
BEGIN:VEVENT
DTSTART;TZID=America/New_York:20251011T180000
DTEND;TZID=America/New_York:20251011T183000
DTSTAMP:20260420T015650
CREATED:20240307T235306Z
LAST-MODIFIED:20240307T235306Z
UID:10002575-1760205600-1760207400@drmarkkauffman.org
SUMMARY:Apostolic Voice on Faith TV
DESCRIPTION:Watch The Apostolic Voice with Drs. Mark & Jill Kauffman on Direct TV Channel 379 at 6:00 PM every Saturday!
URL:https://drmarkkauffman.org/event/apostolic-voice-on-faith-tv/2025-10-11/
LOCATION:PA
END:VEVENT
END:VCALENDAR