BEGIN:VCALENDAR
VERSION:2.0
PRODID:-//Dr. Mark Kauffman Ministries, New Castle PA - ECPv6.15.19//NONSGML v1.0//EN
CALSCALE:GREGORIAN
METHOD:PUBLISH
X-ORIGINAL-URL:https://drmarkkauffman.org
X-WR-CALDESC:Events for Dr. Mark Kauffman Ministries, New Castle PA
REFRESH-INTERVAL;VALUE=DURATION:PT1H
X-Robots-Tag:noindex
X-PUBLISHED-TTL:PT1H
BEGIN:VTIMEZONE
TZID:America/New_York
BEGIN:DAYLIGHT
TZOFFSETFROM:-0500
TZOFFSETTO:-0400
TZNAME:EDT
DTSTART:20250309T070000
END:DAYLIGHT
BEGIN:STANDARD
TZOFFSETFROM:-0400
TZOFFSETTO:-0500
TZNAME:EST
DTSTART:20251102T060000
END:STANDARD
BEGIN:DAYLIGHT
TZOFFSETFROM:-0500
TZOFFSETTO:-0400
TZNAME:EDT
DTSTART:20260308T070000
END:DAYLIGHT
BEGIN:STANDARD
TZOFFSETFROM:-0400
TZOFFSETTO:-0500
TZNAME:EST
DTSTART:20261101T060000
END:STANDARD
BEGIN:DAYLIGHT
TZOFFSETFROM:-0500
TZOFFSETTO:-0400
TZNAME:EDT
DTSTART:20270314T070000
END:DAYLIGHT
BEGIN:STANDARD
TZOFFSETFROM:-0400
TZOFFSETTO:-0500
TZNAME:EST
DTSTART:20271107T060000
END:STANDARD
END:VTIMEZONE
BEGIN:VEVENT
DTSTART;VALUE=DATE:20260611
DTEND;VALUE=DATE:20260614
DTSTAMP:20260419T171934
CREATED:20251008T004923Z
LAST-MODIFIED:20251008T004923Z
UID:10008420-1781136000-1781395199@drmarkkauffman.org
SUMMARY:1st Annual Apostolic Congress of Pennsylvania Summit
DESCRIPTION:Save the Date:June 11–13\, 2026 \nJoin Dr. Kauffman for the 1st Annual Apostolic Congress of Pennsylvania Summit—a gathering of apostolic and prophetic leaders committed to reviving\, renewing\, and restoring the heart of the church while advancing Kingdom leadership across the region.This three-day summit will feature impactful keynote sessions\, worship\, and apostolic impartation from nationally recognized leaders. \nLocation:2801 Wilmington Rd.| New Castle\, Pennsylvania 16105 \nSummit Hosts:Dr. Mark KauffmanDr. Jill Kauffman \nKeynote Speakers:Dr. Mark KauffmanBishop Joseph GarlingtonClay NashRuth WillardAbby Albidness \nContact:For questions or registration inquiries\, please email: apostolic.congress@drmarkkauffman.org
URL:https://drmarkkauffman.org/event/1st-annual-apostolic-congress-of-pennsylvania-summit/
LOCATION:KBN Studios\, 2801 Wilmington Rd\, New Castle\, PA\, 16105\, United States
END:VEVENT
END:VCALENDAR