BEGIN:VCALENDAR
VERSION:2.0
PRODID:-//Dr. Mark Kauffman Ministries, New Castle PA - ECPv6.15.20//NONSGML v1.0//EN
CALSCALE:GREGORIAN
METHOD:PUBLISH
X-WR-CALNAME:Dr. Mark Kauffman Ministries, New Castle PA
X-ORIGINAL-URL:https://drmarkkauffman.org
X-WR-CALDESC:Events for Dr. Mark Kauffman Ministries, New Castle PA
REFRESH-INTERVAL;VALUE=DURATION:PT1H
X-Robots-Tag:noindex
X-PUBLISHED-TTL:PT1H
BEGIN:VTIMEZONE
TZID:UTC
BEGIN:STANDARD
TZOFFSETFROM:+0000
TZOFFSETTO:+0000
TZNAME:UTC
DTSTART:20210101T000000
END:STANDARD
END:VTIMEZONE
BEGIN:VTIMEZONE
TZID:America/New_York
BEGIN:DAYLIGHT
TZOFFSETFROM:-0500
TZOFFSETTO:-0400
TZNAME:EDT
DTSTART:20210314T070000
END:DAYLIGHT
BEGIN:STANDARD
TZOFFSETFROM:-0400
TZOFFSETTO:-0500
TZNAME:EST
DTSTART:20211107T060000
END:STANDARD
BEGIN:DAYLIGHT
TZOFFSETFROM:-0500
TZOFFSETTO:-0400
TZNAME:EDT
DTSTART:20220313T070000
END:DAYLIGHT
BEGIN:STANDARD
TZOFFSETFROM:-0400
TZOFFSETTO:-0500
TZNAME:EST
DTSTART:20221106T060000
END:STANDARD
BEGIN:DAYLIGHT
TZOFFSETFROM:-0500
TZOFFSETTO:-0400
TZNAME:EDT
DTSTART:20230312T070000
END:DAYLIGHT
BEGIN:STANDARD
TZOFFSETFROM:-0400
TZOFFSETTO:-0500
TZNAME:EST
DTSTART:20231105T060000
END:STANDARD
END:VTIMEZONE
BEGIN:VEVENT
DTSTART;TZID=UTC:20220723T190000
DTEND;TZID=UTC:20220723T210000
DTSTAMP:20260424T132731
CREATED:20220711T135230Z
LAST-MODIFIED:20220711T135628Z
UID:10002135-1658602800-1658610000@drmarkkauffman.org
SUMMARY:SOAR - Dallas Texas
DESCRIPTION:IT IS TIME TO SOAR! \nDr. Mark Kauffman will be at The Factory of God Church July 20-23 with Senior Pastor Prophet Richard Gyamfi and honored quests Prophet Joseph Dutton and Prophetess Kelly Crews. \nThis will be a powerful encounter with the Lord… It shall be more than the days of Elijah\, it shall be more than the AZUZA…… \n 
URL:https://drmarkkauffman.org/event/soar-dallas-texas/2022-07-23/
LOCATION:The Factory of God Church\, 12021 Plano Rd.\, Ste. 140 & 130\, Dallas\, TX\, 75243\, United States
CATEGORIES:Conference
END:VEVENT
BEGIN:VEVENT
DTSTART;TZID=UTC:20220722T190000
DTEND;TZID=UTC:20220722T210000
DTSTAMP:20260424T132731
CREATED:20220711T135230Z
LAST-MODIFIED:20220711T135628Z
UID:10002134-1658516400-1658523600@drmarkkauffman.org
SUMMARY:SOAR - Dallas Texas
DESCRIPTION:IT IS TIME TO SOAR! \nDr. Mark Kauffman will be at The Factory of God Church July 20-23 with Senior Pastor Prophet Richard Gyamfi and honored quests Prophet Joseph Dutton and Prophetess Kelly Crews. \nThis will be a powerful encounter with the Lord… It shall be more than the days of Elijah\, it shall be more than the AZUZA…… \n 
URL:https://drmarkkauffman.org/event/soar-dallas-texas/2022-07-22/
LOCATION:The Factory of God Church\, 12021 Plano Rd.\, Ste. 140 & 130\, Dallas\, TX\, 75243\, United States
CATEGORIES:Conference
END:VEVENT
BEGIN:VEVENT
DTSTART;TZID=UTC:20220721T190000
DTEND;TZID=UTC:20220721T210000
DTSTAMP:20260424T132731
CREATED:20220711T135230Z
LAST-MODIFIED:20220711T135628Z
UID:10002133-1658430000-1658437200@drmarkkauffman.org
SUMMARY:SOAR - Dallas Texas
DESCRIPTION:IT IS TIME TO SOAR! \nDr. Mark Kauffman will be at The Factory of God Church July 20-23 with Senior Pastor Prophet Richard Gyamfi and honored quests Prophet Joseph Dutton and Prophetess Kelly Crews. \nThis will be a powerful encounter with the Lord… It shall be more than the days of Elijah\, it shall be more than the AZUZA…… \n 
URL:https://drmarkkauffman.org/event/soar-dallas-texas/2022-07-21/
LOCATION:The Factory of God Church\, 12021 Plano Rd.\, Ste. 140 & 130\, Dallas\, TX\, 75243\, United States
CATEGORIES:Conference
END:VEVENT
BEGIN:VEVENT
DTSTART;TZID=UTC:20220720T190000
DTEND;TZID=UTC:20220720T210000
DTSTAMP:20260424T132731
CREATED:20220711T135230Z
LAST-MODIFIED:20220711T135628Z
UID:10002132-1658343600-1658350800@drmarkkauffman.org
SUMMARY:SOAR - Dallas Texas
DESCRIPTION:IT IS TIME TO SOAR! \nDr. Mark Kauffman will be at The Factory of God Church July 20-23 with Senior Pastor Prophet Richard Gyamfi and honored quests Prophet Joseph Dutton and Prophetess Kelly Crews. \nThis will be a powerful encounter with the Lord… It shall be more than the days of Elijah\, it shall be more than the AZUZA…… \n 
URL:https://drmarkkauffman.org/event/soar-dallas-texas/2022-07-20/
LOCATION:The Factory of God Church\, 12021 Plano Rd.\, Ste. 140 & 130\, Dallas\, TX\, 75243\, United States
CATEGORIES:Conference
END:VEVENT
BEGIN:VEVENT
DTSTART;TZID=America/New_York:20220619T190000
DTEND;TZID=America/New_York:20220619T210000
DTSTAMP:20260424T132731
CREATED:20220518T174926Z
LAST-MODIFIED:20220518T174926Z
UID:10002426-1655665200-1655672400@drmarkkauffman.org
SUMMARY:Kingdom Conquest
DESCRIPTION:Join Drs. Mark & Jill Kauffman as they host Dr. Vincent Valentyn & Apostle Bo Salisbury for Kingdom Conquest at Jubilee Ministries in New Castle\, PA.
URL:https://drmarkkauffman.org/event/kingdom-conquest/2022-06-19/
LOCATION:Jubilee Ministries International\, 14 East Chartes St\, New Castle\, PA\, 16102\, United States
CATEGORIES:Conference
END:VEVENT
BEGIN:VEVENT
DTSTART;TZID=America/New_York:20220617T190000
DTEND;TZID=America/New_York:20220617T210000
DTSTAMP:20260424T132731
CREATED:20220518T174926Z
LAST-MODIFIED:20220518T174926Z
UID:10002425-1655492400-1655499600@drmarkkauffman.org
SUMMARY:Kingdom Conquest
DESCRIPTION:Join Drs. Mark & Jill Kauffman as they host Dr. Vincent Valentyn & Apostle Bo Salisbury for Kingdom Conquest at Jubilee Ministries in New Castle\, PA.
URL:https://drmarkkauffman.org/event/kingdom-conquest/2022-06-17/
LOCATION:Jubilee Ministries International\, 14 East Chartes St\, New Castle\, PA\, 16102\, United States
CATEGORIES:Conference
END:VEVENT
END:VCALENDAR