BEGIN:VCALENDAR
VERSION:2.0
PRODID:-//Dr. Mark Kauffman Ministries, New Castle PA - ECPv6.15.20//NONSGML v1.0//EN
CALSCALE:GREGORIAN
METHOD:PUBLISH
X-WR-CALNAME:Dr. Mark Kauffman Ministries, New Castle PA
X-ORIGINAL-URL:https://drmarkkauffman.org
X-WR-CALDESC:Events for Dr. Mark Kauffman Ministries, New Castle PA
REFRESH-INTERVAL;VALUE=DURATION:PT1H
X-Robots-Tag:noindex
X-PUBLISHED-TTL:PT1H
BEGIN:VTIMEZONE
TZID:America/New_York
BEGIN:DAYLIGHT
TZOFFSETFROM:-0500
TZOFFSETTO:-0400
TZNAME:EDT
DTSTART:20230312T070000
END:DAYLIGHT
BEGIN:STANDARD
TZOFFSETFROM:-0400
TZOFFSETTO:-0500
TZNAME:EST
DTSTART:20231105T060000
END:STANDARD
BEGIN:DAYLIGHT
TZOFFSETFROM:-0500
TZOFFSETTO:-0400
TZNAME:EDT
DTSTART:20240310T070000
END:DAYLIGHT
BEGIN:STANDARD
TZOFFSETFROM:-0400
TZOFFSETTO:-0500
TZNAME:EST
DTSTART:20241103T060000
END:STANDARD
BEGIN:DAYLIGHT
TZOFFSETFROM:-0500
TZOFFSETTO:-0400
TZNAME:EDT
DTSTART:20250309T070000
END:DAYLIGHT
BEGIN:STANDARD
TZOFFSETFROM:-0400
TZOFFSETTO:-0500
TZNAME:EST
DTSTART:20251102T060000
END:STANDARD
END:VTIMEZONE
BEGIN:VTIMEZONE
TZID:America/Los_Angeles
BEGIN:DAYLIGHT
TZOFFSETFROM:-0800
TZOFFSETTO:-0700
TZNAME:PDT
DTSTART:20230312T100000
END:DAYLIGHT
BEGIN:STANDARD
TZOFFSETFROM:-0700
TZOFFSETTO:-0800
TZNAME:PST
DTSTART:20231105T090000
END:STANDARD
BEGIN:DAYLIGHT
TZOFFSETFROM:-0800
TZOFFSETTO:-0700
TZNAME:PDT
DTSTART:20240310T100000
END:DAYLIGHT
BEGIN:STANDARD
TZOFFSETFROM:-0700
TZOFFSETTO:-0800
TZNAME:PST
DTSTART:20241103T090000
END:STANDARD
BEGIN:DAYLIGHT
TZOFFSETFROM:-0800
TZOFFSETTO:-0700
TZNAME:PDT
DTSTART:20250309T100000
END:DAYLIGHT
BEGIN:STANDARD
TZOFFSETFROM:-0700
TZOFFSETTO:-0800
TZNAME:PST
DTSTART:20251102T090000
END:STANDARD
END:VTIMEZONE
BEGIN:VEVENT
DTSTART;TZID=America/New_York:20240208T020000
DTEND;TZID=America/New_York:20240208T023000
DTSTAMP:20260424T092401
CREATED:20230502T172839Z
LAST-MODIFIED:20230502T172839Z
UID:10000486-1707357600-1707359400@drmarkkauffman.org
SUMMARY:Apostolic Voice on Best Life TV
DESCRIPTION:Join Drs. Mark and Jill every day for the Apostolic Voice on Best Life TV Network at 2:00 AM\, 2:00 PM\, 7:00 AM\, and 7:00 PM. \n \nBest Life TV\nBest Life TV provides hope\, healing\, and entertainment for Christian singles and families with 24/7 programming and video on demand!\nJoin us on Roku\, Amazon Fire\, and Apple TV. Watch what you want\, when you want to watch it!
URL:https://drmarkkauffman.org/event/apostolic-voice-on-best-life-tv/2024-02-08/
LOCATION:PA
CATEGORIES:Broadcasting
END:VEVENT
BEGIN:VEVENT
DTSTART;TZID=America/New_York:20240208T070000
DTEND;TZID=America/New_York:20240208T073000
DTSTAMP:20260424T092401
CREATED:20230502T173111Z
LAST-MODIFIED:20230502T173331Z
UID:10000796-1707375600-1707377400@drmarkkauffman.org
SUMMARY:Apostolic Voice on Best Life TV
DESCRIPTION:Join Drs. Mark and Jill every day for the Apostolic Voice on Best Life TV Network at 2:00 AM\, 2:00 PM\, 7:00 AM\, and 7:00 PM. \n \nBest Life TV\nBest Life TV provides hope\, healing\, and entertainment for Christian singles and families with 24/7 programming and video on demand!\nJoin us on Roku\, Amazon Fire\, and Apple TV. Watch what you want\, when you want to watch it!
URL:https://drmarkkauffman.org/event/apostolic-voice-on-best-life-tv-2/2024-02-08/
LOCATION:PA
END:VEVENT
BEGIN:VEVENT
DTSTART;TZID=America/New_York:20240209T020000
DTEND;TZID=America/New_York:20240209T023000
DTSTAMP:20260424T092401
CREATED:20230502T172839Z
LAST-MODIFIED:20230502T172839Z
UID:10000487-1707444000-1707445800@drmarkkauffman.org
SUMMARY:Apostolic Voice on Best Life TV
DESCRIPTION:Join Drs. Mark and Jill every day for the Apostolic Voice on Best Life TV Network at 2:00 AM\, 2:00 PM\, 7:00 AM\, and 7:00 PM. \n \nBest Life TV\nBest Life TV provides hope\, healing\, and entertainment for Christian singles and families with 24/7 programming and video on demand!\nJoin us on Roku\, Amazon Fire\, and Apple TV. Watch what you want\, when you want to watch it!
URL:https://drmarkkauffman.org/event/apostolic-voice-on-best-life-tv/2024-02-09/
LOCATION:PA
CATEGORIES:Broadcasting
END:VEVENT
BEGIN:VEVENT
DTSTART;TZID=America/New_York:20240209T070000
DTEND;TZID=America/New_York:20240209T073000
DTSTAMP:20260424T092401
CREATED:20230502T173111Z
LAST-MODIFIED:20230502T173331Z
UID:10000797-1707462000-1707463800@drmarkkauffman.org
SUMMARY:Apostolic Voice on Best Life TV
DESCRIPTION:Join Drs. Mark and Jill every day for the Apostolic Voice on Best Life TV Network at 2:00 AM\, 2:00 PM\, 7:00 AM\, and 7:00 PM. \n \nBest Life TV\nBest Life TV provides hope\, healing\, and entertainment for Christian singles and families with 24/7 programming and video on demand!\nJoin us on Roku\, Amazon Fire\, and Apple TV. Watch what you want\, when you want to watch it!
URL:https://drmarkkauffman.org/event/apostolic-voice-on-best-life-tv-2/2024-02-09/
LOCATION:PA
END:VEVENT
BEGIN:VEVENT
DTSTART;TZID=America/Los_Angeles:20240209T160000
DTEND;TZID=America/Los_Angeles:20240209T190000
DTSTAMP:20260424T092401
CREATED:20240130T182129Z
LAST-MODIFIED:20240130T182129Z
UID:10002484-1707494400-1707505200@drmarkkauffman.org
SUMMARY:KCIA 2024 Prophetic Symposium: The Spoils of War
DESCRIPTION:Dr. Mark Kauffman is a keynote speaker at the KCIA 2024 Prophetic Symposium on Friday\, February 9\, 4:00 – 7:00 PM (PT)\, and Saturday\, February 10\, 10:00 AM – 2:00 PM (PT). *** Please note these times are Pacific Time*** \nAttendance is virtual only; there is no in-person access. Purchase your ticket at KCIA 2024 Prophetic Symposium – KCIA (kcialliance.org) \nDr Kauffman is scheduled to speak on Saturday\, February 10 at or about 1:15 PM (Eastern Standard Time).  \nSYMPOSIUM HIGHLIGHTS:\nPowerful Keynotes\nProphetic Insights for 2024\nInteractive discussions \nCorporate declarations for 2024
URL:https://drmarkkauffman.org/event/kcia-2024-prophetic-symposium-the-spoils-of-war/2024-02-09/
LOCATION:PA
END:VEVENT
BEGIN:VEVENT
DTSTART;TZID=America/New_York:20240210T020000
DTEND;TZID=America/New_York:20240210T023000
DTSTAMP:20260424T092401
CREATED:20230502T172839Z
LAST-MODIFIED:20230502T172839Z
UID:10000488-1707530400-1707532200@drmarkkauffman.org
SUMMARY:Apostolic Voice on Best Life TV
DESCRIPTION:Join Drs. Mark and Jill every day for the Apostolic Voice on Best Life TV Network at 2:00 AM\, 2:00 PM\, 7:00 AM\, and 7:00 PM. \n \nBest Life TV\nBest Life TV provides hope\, healing\, and entertainment for Christian singles and families with 24/7 programming and video on demand!\nJoin us on Roku\, Amazon Fire\, and Apple TV. Watch what you want\, when you want to watch it!
URL:https://drmarkkauffman.org/event/apostolic-voice-on-best-life-tv/2024-02-10/
LOCATION:PA
CATEGORIES:Broadcasting
END:VEVENT
BEGIN:VEVENT
DTSTART;TZID=America/New_York:20240210T070000
DTEND;TZID=America/New_York:20240210T073000
DTSTAMP:20260424T092401
CREATED:20230502T173111Z
LAST-MODIFIED:20230502T173331Z
UID:10000798-1707548400-1707550200@drmarkkauffman.org
SUMMARY:Apostolic Voice on Best Life TV
DESCRIPTION:Join Drs. Mark and Jill every day for the Apostolic Voice on Best Life TV Network at 2:00 AM\, 2:00 PM\, 7:00 AM\, and 7:00 PM. \n \nBest Life TV\nBest Life TV provides hope\, healing\, and entertainment for Christian singles and families with 24/7 programming and video on demand!\nJoin us on Roku\, Amazon Fire\, and Apple TV. Watch what you want\, when you want to watch it!
URL:https://drmarkkauffman.org/event/apostolic-voice-on-best-life-tv-2/2024-02-10/
LOCATION:PA
END:VEVENT
BEGIN:VEVENT
DTSTART;TZID=America/Los_Angeles:20240210T100000
DTEND;TZID=America/Los_Angeles:20240210T140000
DTSTAMP:20260424T092401
CREATED:20240130T182129Z
LAST-MODIFIED:20240130T182129Z
UID:10002485-1707559200-1707573600@drmarkkauffman.org
SUMMARY:KCIA 2024 Prophetic Symposium: The Spoils of War
DESCRIPTION:Dr. Mark Kauffman is a keynote speaker at the KCIA 2024 Prophetic Symposium on Friday\, February 9\, 4:00 – 7:00 PM (PT)\, and Saturday\, February 10\, 10:00 AM – 2:00 PM (PT). *** Please note these times are Pacific Time*** \nAttendance is virtual only; there is no in-person access. Purchase your ticket at KCIA 2024 Prophetic Symposium – KCIA (kcialliance.org) \nDr Kauffman is scheduled to speak on Saturday\, February 10 at or about 1:15 PM (Eastern Standard Time).  \nSYMPOSIUM HIGHLIGHTS:\nPowerful Keynotes\nProphetic Insights for 2024\nInteractive discussions \nCorporate declarations for 2024
URL:https://drmarkkauffman.org/event/kcia-2024-prophetic-symposium-the-spoils-of-war/2024-02-10/
LOCATION:PA
END:VEVENT
BEGIN:VEVENT
DTSTART;TZID=America/New_York:20240211T020000
DTEND;TZID=America/New_York:20240211T023000
DTSTAMP:20260424T092401
CREATED:20230502T172839Z
LAST-MODIFIED:20230502T172839Z
UID:10000489-1707616800-1707618600@drmarkkauffman.org
SUMMARY:Apostolic Voice on Best Life TV
DESCRIPTION:Join Drs. Mark and Jill every day for the Apostolic Voice on Best Life TV Network at 2:00 AM\, 2:00 PM\, 7:00 AM\, and 7:00 PM. \n \nBest Life TV\nBest Life TV provides hope\, healing\, and entertainment for Christian singles and families with 24/7 programming and video on demand!\nJoin us on Roku\, Amazon Fire\, and Apple TV. Watch what you want\, when you want to watch it!
URL:https://drmarkkauffman.org/event/apostolic-voice-on-best-life-tv/2024-02-11/
LOCATION:PA
CATEGORIES:Broadcasting
END:VEVENT
BEGIN:VEVENT
DTSTART;TZID=America/New_York:20240211T070000
DTEND;TZID=America/New_York:20240211T073000
DTSTAMP:20260424T092401
CREATED:20230502T173111Z
LAST-MODIFIED:20230502T173331Z
UID:10000799-1707634800-1707636600@drmarkkauffman.org
SUMMARY:Apostolic Voice on Best Life TV
DESCRIPTION:Join Drs. Mark and Jill every day for the Apostolic Voice on Best Life TV Network at 2:00 AM\, 2:00 PM\, 7:00 AM\, and 7:00 PM. \n \nBest Life TV\nBest Life TV provides hope\, healing\, and entertainment for Christian singles and families with 24/7 programming and video on demand!\nJoin us on Roku\, Amazon Fire\, and Apple TV. Watch what you want\, when you want to watch it!
URL:https://drmarkkauffman.org/event/apostolic-voice-on-best-life-tv-2/2024-02-11/
LOCATION:PA
END:VEVENT
BEGIN:VEVENT
DTSTART;TZID=America/New_York:20240211T103000
DTEND;TZID=America/New_York:20240211T123000
DTSTAMP:20260424T092401
CREATED:20221116T195313Z
LAST-MODIFIED:20240308T002835Z
UID:10002230-1707647400-1707654600@drmarkkauffman.org
SUMMARY:Celebration Sunday
DESCRIPTION:
URL:https://drmarkkauffman.org/event/celebration-sunday/2024-02-11/
LOCATION:Jubilee Ministries International\, 14 East Chartes St\, New Castle\, PA\, 16102\, United States
CATEGORIES:Weekly Services
END:VEVENT
BEGIN:VEVENT
DTSTART;TZID=America/New_York:20240211T203000
DTEND;TZID=America/New_York:20240211T210000
DTSTAMP:20260424T092401
CREATED:20220517T170018Z
LAST-MODIFIED:20240308T000015Z
UID:10001810-1707683400-1707685200@drmarkkauffman.org
SUMMARY:Apostolic Voice on Dominion TV
DESCRIPTION:Join Drs. Mark & Jill Kauffman every Sunday and Monday for the Apostolic Voice on DominionTV as they bring insight and understanding to the Word of God. \n \n\nDominion Studios and Dominion.TV are the World Wide Media Outreach ministries of Dr. Joseph & Lynette Dutton\, and Dominion Harvest Ministries\, Inc.  Broadcasting from beautiful Myrtle Beach\, SC.\n\n 
URL:https://drmarkkauffman.org/event/apostolic-voice-3/2024-02-11/
LOCATION:PA
CATEGORIES:Broadcasting
END:VEVENT
BEGIN:VEVENT
DTSTART;TZID=America/New_York:20240212T020000
DTEND;TZID=America/New_York:20240212T023000
DTSTAMP:20260424T092401
CREATED:20230502T172839Z
LAST-MODIFIED:20230502T172839Z
UID:10000490-1707703200-1707705000@drmarkkauffman.org
SUMMARY:Apostolic Voice on Best Life TV
DESCRIPTION:Join Drs. Mark and Jill every day for the Apostolic Voice on Best Life TV Network at 2:00 AM\, 2:00 PM\, 7:00 AM\, and 7:00 PM. \n \nBest Life TV\nBest Life TV provides hope\, healing\, and entertainment for Christian singles and families with 24/7 programming and video on demand!\nJoin us on Roku\, Amazon Fire\, and Apple TV. Watch what you want\, when you want to watch it!
URL:https://drmarkkauffman.org/event/apostolic-voice-on-best-life-tv/2024-02-12/
LOCATION:PA
CATEGORIES:Broadcasting
END:VEVENT
BEGIN:VEVENT
DTSTART;TZID=America/New_York:20240212T070000
DTEND;TZID=America/New_York:20240212T073000
DTSTAMP:20260424T092401
CREATED:20230502T173111Z
LAST-MODIFIED:20230502T173331Z
UID:10000800-1707721200-1707723000@drmarkkauffman.org
SUMMARY:Apostolic Voice on Best Life TV
DESCRIPTION:Join Drs. Mark and Jill every day for the Apostolic Voice on Best Life TV Network at 2:00 AM\, 2:00 PM\, 7:00 AM\, and 7:00 PM. \n \nBest Life TV\nBest Life TV provides hope\, healing\, and entertainment for Christian singles and families with 24/7 programming and video on demand!\nJoin us on Roku\, Amazon Fire\, and Apple TV. Watch what you want\, when you want to watch it!
URL:https://drmarkkauffman.org/event/apostolic-voice-on-best-life-tv-2/2024-02-12/
LOCATION:PA
END:VEVENT
BEGIN:VEVENT
DTSTART;TZID=America/New_York:20240212T120000
DTEND;TZID=America/New_York:20240212T123000
DTSTAMP:20260424T092401
CREATED:20240307T141940Z
LAST-MODIFIED:20240307T235758Z
UID:10002008-1707739200-1707741000@drmarkkauffman.org
SUMMARY:Apostolic Voice on Dominion TV
DESCRIPTION:Join Drs. Mark & Jill Kauffman every Sunday and Monday for the Apostolic Voice on DominionTV as they bring insight and understanding to the Word of God. \n \n\nDominion Studios and Dominion.TV are the World Wide Media Outreach ministries of Dr. Joseph & Lynette Dutton\, and Dominion Harvest Ministries\, Inc.  Broadcasting from beautiful Myrtle Beach\, SC.\n\n 
URL:https://drmarkkauffman.org/event/apostolic-voice-2/2024-02-12/
LOCATION:PA
CATEGORIES:Broadcasting
END:VEVENT
BEGIN:VEVENT
DTSTART;TZID=America/New_York:20240213T020000
DTEND;TZID=America/New_York:20240213T023000
DTSTAMP:20260424T092401
CREATED:20230502T172839Z
LAST-MODIFIED:20230502T172839Z
UID:10000491-1707789600-1707791400@drmarkkauffman.org
SUMMARY:Apostolic Voice on Best Life TV
DESCRIPTION:Join Drs. Mark and Jill every day for the Apostolic Voice on Best Life TV Network at 2:00 AM\, 2:00 PM\, 7:00 AM\, and 7:00 PM. \n \nBest Life TV\nBest Life TV provides hope\, healing\, and entertainment for Christian singles and families with 24/7 programming and video on demand!\nJoin us on Roku\, Amazon Fire\, and Apple TV. Watch what you want\, when you want to watch it!
URL:https://drmarkkauffman.org/event/apostolic-voice-on-best-life-tv/2024-02-13/
LOCATION:PA
CATEGORIES:Broadcasting
END:VEVENT
BEGIN:VEVENT
DTSTART;TZID=America/New_York:20240213T070000
DTEND;TZID=America/New_York:20240213T073000
DTSTAMP:20260424T092401
CREATED:20230502T173111Z
LAST-MODIFIED:20230502T173331Z
UID:10000801-1707807600-1707809400@drmarkkauffman.org
SUMMARY:Apostolic Voice on Best Life TV
DESCRIPTION:Join Drs. Mark and Jill every day for the Apostolic Voice on Best Life TV Network at 2:00 AM\, 2:00 PM\, 7:00 AM\, and 7:00 PM. \n \nBest Life TV\nBest Life TV provides hope\, healing\, and entertainment for Christian singles and families with 24/7 programming and video on demand!\nJoin us on Roku\, Amazon Fire\, and Apple TV. Watch what you want\, when you want to watch it!
URL:https://drmarkkauffman.org/event/apostolic-voice-on-best-life-tv-2/2024-02-13/
LOCATION:PA
END:VEVENT
BEGIN:VEVENT
DTSTART;TZID=America/New_York:20240214T020000
DTEND;TZID=America/New_York:20240214T023000
DTSTAMP:20260424T092401
CREATED:20230502T172839Z
LAST-MODIFIED:20230502T172839Z
UID:10000492-1707876000-1707877800@drmarkkauffman.org
SUMMARY:Apostolic Voice on Best Life TV
DESCRIPTION:Join Drs. Mark and Jill every day for the Apostolic Voice on Best Life TV Network at 2:00 AM\, 2:00 PM\, 7:00 AM\, and 7:00 PM. \n \nBest Life TV\nBest Life TV provides hope\, healing\, and entertainment for Christian singles and families with 24/7 programming and video on demand!\nJoin us on Roku\, Amazon Fire\, and Apple TV. Watch what you want\, when you want to watch it!
URL:https://drmarkkauffman.org/event/apostolic-voice-on-best-life-tv/2024-02-14/
LOCATION:PA
CATEGORIES:Broadcasting
END:VEVENT
BEGIN:VEVENT
DTSTART;TZID=America/New_York:20240214T070000
DTEND;TZID=America/New_York:20240214T073000
DTSTAMP:20260424T092401
CREATED:20230502T173111Z
LAST-MODIFIED:20230502T173331Z
UID:10000802-1707894000-1707895800@drmarkkauffman.org
SUMMARY:Apostolic Voice on Best Life TV
DESCRIPTION:Join Drs. Mark and Jill every day for the Apostolic Voice on Best Life TV Network at 2:00 AM\, 2:00 PM\, 7:00 AM\, and 7:00 PM. \n \nBest Life TV\nBest Life TV provides hope\, healing\, and entertainment for Christian singles and families with 24/7 programming and video on demand!\nJoin us on Roku\, Amazon Fire\, and Apple TV. Watch what you want\, when you want to watch it!
URL:https://drmarkkauffman.org/event/apostolic-voice-on-best-life-tv-2/2024-02-14/
LOCATION:PA
END:VEVENT
BEGIN:VEVENT
DTSTART;TZID=America/New_York:20240214T190000
DTEND;TZID=America/New_York:20240214T200000
DTSTAMP:20260424T092401
CREATED:20220518T191308Z
LAST-MODIFIED:20220518T191308Z
UID:10000092-1707937200-1707940800@drmarkkauffman.org
SUMMARY:The Royal Kingdom Academy
DESCRIPTION:Join Dr. Mark Kauffman each week for the Royal Kingdom Academy at Jubilee Ministries International City Church in New Castle\, PA.
URL:https://drmarkkauffman.org/event/the-royal-kingdom-academy/2024-02-14/
LOCATION:Jubilee Ministries International\, 14 East Chartes St\, New Castle\, PA\, 16102\, United States
CATEGORIES:Weekly Services
END:VEVENT
BEGIN:VEVENT
DTSTART;TZID=America/New_York:20240215T020000
DTEND;TZID=America/New_York:20240215T023000
DTSTAMP:20260424T092401
CREATED:20230502T172839Z
LAST-MODIFIED:20230502T172839Z
UID:10000493-1707962400-1707964200@drmarkkauffman.org
SUMMARY:Apostolic Voice on Best Life TV
DESCRIPTION:Join Drs. Mark and Jill every day for the Apostolic Voice on Best Life TV Network at 2:00 AM\, 2:00 PM\, 7:00 AM\, and 7:00 PM. \n \nBest Life TV\nBest Life TV provides hope\, healing\, and entertainment for Christian singles and families with 24/7 programming and video on demand!\nJoin us on Roku\, Amazon Fire\, and Apple TV. Watch what you want\, when you want to watch it!
URL:https://drmarkkauffman.org/event/apostolic-voice-on-best-life-tv/2024-02-15/
LOCATION:PA
CATEGORIES:Broadcasting
END:VEVENT
BEGIN:VEVENT
DTSTART;TZID=America/New_York:20240215T070000
DTEND;TZID=America/New_York:20240215T073000
DTSTAMP:20260424T092401
CREATED:20230502T173111Z
LAST-MODIFIED:20230502T173331Z
UID:10000803-1707980400-1707982200@drmarkkauffman.org
SUMMARY:Apostolic Voice on Best Life TV
DESCRIPTION:Join Drs. Mark and Jill every day for the Apostolic Voice on Best Life TV Network at 2:00 AM\, 2:00 PM\, 7:00 AM\, and 7:00 PM. \n \nBest Life TV\nBest Life TV provides hope\, healing\, and entertainment for Christian singles and families with 24/7 programming and video on demand!\nJoin us on Roku\, Amazon Fire\, and Apple TV. Watch what you want\, when you want to watch it!
URL:https://drmarkkauffman.org/event/apostolic-voice-on-best-life-tv-2/2024-02-15/
LOCATION:PA
END:VEVENT
BEGIN:VEVENT
DTSTART;TZID=America/New_York:20240216T020000
DTEND;TZID=America/New_York:20240216T023000
DTSTAMP:20260424T092401
CREATED:20230502T172839Z
LAST-MODIFIED:20230502T172839Z
UID:10000494-1708048800-1708050600@drmarkkauffman.org
SUMMARY:Apostolic Voice on Best Life TV
DESCRIPTION:Join Drs. Mark and Jill every day for the Apostolic Voice on Best Life TV Network at 2:00 AM\, 2:00 PM\, 7:00 AM\, and 7:00 PM. \n \nBest Life TV\nBest Life TV provides hope\, healing\, and entertainment for Christian singles and families with 24/7 programming and video on demand!\nJoin us on Roku\, Amazon Fire\, and Apple TV. Watch what you want\, when you want to watch it!
URL:https://drmarkkauffman.org/event/apostolic-voice-on-best-life-tv/2024-02-16/
LOCATION:PA
CATEGORIES:Broadcasting
END:VEVENT
BEGIN:VEVENT
DTSTART;TZID=America/New_York:20240216T070000
DTEND;TZID=America/New_York:20240216T073000
DTSTAMP:20260424T092401
CREATED:20230502T173111Z
LAST-MODIFIED:20230502T173331Z
UID:10000804-1708066800-1708068600@drmarkkauffman.org
SUMMARY:Apostolic Voice on Best Life TV
DESCRIPTION:Join Drs. Mark and Jill every day for the Apostolic Voice on Best Life TV Network at 2:00 AM\, 2:00 PM\, 7:00 AM\, and 7:00 PM. \n \nBest Life TV\nBest Life TV provides hope\, healing\, and entertainment for Christian singles and families with 24/7 programming and video on demand!\nJoin us on Roku\, Amazon Fire\, and Apple TV. Watch what you want\, when you want to watch it!
URL:https://drmarkkauffman.org/event/apostolic-voice-on-best-life-tv-2/2024-02-16/
LOCATION:PA
END:VEVENT
BEGIN:VEVENT
DTSTART;TZID=America/New_York:20240217T020000
DTEND;TZID=America/New_York:20240217T023000
DTSTAMP:20260424T092401
CREATED:20230502T172839Z
LAST-MODIFIED:20230502T172839Z
UID:10000495-1708135200-1708137000@drmarkkauffman.org
SUMMARY:Apostolic Voice on Best Life TV
DESCRIPTION:Join Drs. Mark and Jill every day for the Apostolic Voice on Best Life TV Network at 2:00 AM\, 2:00 PM\, 7:00 AM\, and 7:00 PM. \n \nBest Life TV\nBest Life TV provides hope\, healing\, and entertainment for Christian singles and families with 24/7 programming and video on demand!\nJoin us on Roku\, Amazon Fire\, and Apple TV. Watch what you want\, when you want to watch it!
URL:https://drmarkkauffman.org/event/apostolic-voice-on-best-life-tv/2024-02-17/
LOCATION:PA
CATEGORIES:Broadcasting
END:VEVENT
BEGIN:VEVENT
DTSTART;TZID=America/New_York:20240217T070000
DTEND;TZID=America/New_York:20240217T073000
DTSTAMP:20260424T092401
CREATED:20230502T173111Z
LAST-MODIFIED:20230502T173331Z
UID:10000805-1708153200-1708155000@drmarkkauffman.org
SUMMARY:Apostolic Voice on Best Life TV
DESCRIPTION:Join Drs. Mark and Jill every day for the Apostolic Voice on Best Life TV Network at 2:00 AM\, 2:00 PM\, 7:00 AM\, and 7:00 PM. \n \nBest Life TV\nBest Life TV provides hope\, healing\, and entertainment for Christian singles and families with 24/7 programming and video on demand!\nJoin us on Roku\, Amazon Fire\, and Apple TV. Watch what you want\, when you want to watch it!
URL:https://drmarkkauffman.org/event/apostolic-voice-on-best-life-tv-2/2024-02-17/
LOCATION:PA
END:VEVENT
BEGIN:VEVENT
DTSTART;TZID=America/New_York:20240218T020000
DTEND;TZID=America/New_York:20240218T023000
DTSTAMP:20260424T092401
CREATED:20230502T172839Z
LAST-MODIFIED:20230502T172839Z
UID:10000496-1708221600-1708223400@drmarkkauffman.org
SUMMARY:Apostolic Voice on Best Life TV
DESCRIPTION:Join Drs. Mark and Jill every day for the Apostolic Voice on Best Life TV Network at 2:00 AM\, 2:00 PM\, 7:00 AM\, and 7:00 PM. \n \nBest Life TV\nBest Life TV provides hope\, healing\, and entertainment for Christian singles and families with 24/7 programming and video on demand!\nJoin us on Roku\, Amazon Fire\, and Apple TV. Watch what you want\, when you want to watch it!
URL:https://drmarkkauffman.org/event/apostolic-voice-on-best-life-tv/2024-02-18/
LOCATION:PA
CATEGORIES:Broadcasting
END:VEVENT
BEGIN:VEVENT
DTSTART;TZID=America/New_York:20240218T070000
DTEND;TZID=America/New_York:20240218T073000
DTSTAMP:20260424T092401
CREATED:20230502T173111Z
LAST-MODIFIED:20230502T173331Z
UID:10000806-1708239600-1708241400@drmarkkauffman.org
SUMMARY:Apostolic Voice on Best Life TV
DESCRIPTION:Join Drs. Mark and Jill every day for the Apostolic Voice on Best Life TV Network at 2:00 AM\, 2:00 PM\, 7:00 AM\, and 7:00 PM. \n \nBest Life TV\nBest Life TV provides hope\, healing\, and entertainment for Christian singles and families with 24/7 programming and video on demand!\nJoin us on Roku\, Amazon Fire\, and Apple TV. Watch what you want\, when you want to watch it!
URL:https://drmarkkauffman.org/event/apostolic-voice-on-best-life-tv-2/2024-02-18/
LOCATION:PA
END:VEVENT
BEGIN:VEVENT
DTSTART;TZID=America/New_York:20240218T103000
DTEND;TZID=America/New_York:20240218T123000
DTSTAMP:20260424T092401
CREATED:20221116T195313Z
LAST-MODIFIED:20240308T002835Z
UID:10002231-1708252200-1708259400@drmarkkauffman.org
SUMMARY:Celebration Sunday
DESCRIPTION:
URL:https://drmarkkauffman.org/event/celebration-sunday/2024-02-18/
LOCATION:Jubilee Ministries International\, 14 East Chartes St\, New Castle\, PA\, 16102\, United States
CATEGORIES:Weekly Services
END:VEVENT
BEGIN:VEVENT
DTSTART;TZID=America/New_York:20240218T203000
DTEND;TZID=America/New_York:20240218T210000
DTSTAMP:20260424T092401
CREATED:20220517T170018Z
LAST-MODIFIED:20240308T000015Z
UID:10001811-1708288200-1708290000@drmarkkauffman.org
SUMMARY:Apostolic Voice on Dominion TV
DESCRIPTION:Join Drs. Mark & Jill Kauffman every Sunday and Monday for the Apostolic Voice on DominionTV as they bring insight and understanding to the Word of God. \n \n\nDominion Studios and Dominion.TV are the World Wide Media Outreach ministries of Dr. Joseph & Lynette Dutton\, and Dominion Harvest Ministries\, Inc.  Broadcasting from beautiful Myrtle Beach\, SC.\n\n 
URL:https://drmarkkauffman.org/event/apostolic-voice-3/2024-02-18/
LOCATION:PA
CATEGORIES:Broadcasting
END:VEVENT
END:VCALENDAR