BEGIN:VCALENDAR
VERSION:2.0
PRODID:-//Dr. Mark Kauffman Ministries, New Castle PA - ECPv6.15.19//NONSGML v1.0//EN
CALSCALE:GREGORIAN
METHOD:PUBLISH
X-ORIGINAL-URL:https://drmarkkauffman.org
X-WR-CALDESC:Events for Dr. Mark Kauffman Ministries, New Castle PA
REFRESH-INTERVAL;VALUE=DURATION:PT1H
X-Robots-Tag:noindex
X-PUBLISHED-TTL:PT1H
BEGIN:VTIMEZONE
TZID:America/New_York
BEGIN:DAYLIGHT
TZOFFSETFROM:-0500
TZOFFSETTO:-0400
TZNAME:EDT
DTSTART:20240310T070000
END:DAYLIGHT
BEGIN:STANDARD
TZOFFSETFROM:-0400
TZOFFSETTO:-0500
TZNAME:EST
DTSTART:20241103T060000
END:STANDARD
BEGIN:DAYLIGHT
TZOFFSETFROM:-0500
TZOFFSETTO:-0400
TZNAME:EDT
DTSTART:20250309T070000
END:DAYLIGHT
BEGIN:STANDARD
TZOFFSETFROM:-0400
TZOFFSETTO:-0500
TZNAME:EST
DTSTART:20251102T060000
END:STANDARD
BEGIN:DAYLIGHT
TZOFFSETFROM:-0500
TZOFFSETTO:-0400
TZNAME:EDT
DTSTART:20260308T070000
END:DAYLIGHT
BEGIN:STANDARD
TZOFFSETFROM:-0400
TZOFFSETTO:-0500
TZNAME:EST
DTSTART:20261101T060000
END:STANDARD
END:VTIMEZONE
BEGIN:VEVENT
DTSTART;TZID=America/New_York:20251026T203000
DTEND;TZID=America/New_York:20251026T210000
DTSTAMP:20260420T020420
CREATED:20220517T170018Z
LAST-MODIFIED:20240308T000015Z
UID:10001899-1761510600-1761512400@drmarkkauffman.org
SUMMARY:Apostolic Voice on Dominion TV
DESCRIPTION:Join Drs. Mark & Jill Kauffman every Sunday and Monday for the Apostolic Voice on DominionTV as they bring insight and understanding to the Word of God. \n \n\nDominion Studios and Dominion.TV are the World Wide Media Outreach ministries of Dr. Joseph & Lynette Dutton\, and Dominion Harvest Ministries\, Inc.  Broadcasting from beautiful Myrtle Beach\, SC.\n\n 
URL:https://drmarkkauffman.org/event/apostolic-voice-3/2025-10-26/
LOCATION:PA
CATEGORIES:Broadcasting
END:VEVENT
BEGIN:VEVENT
DTSTART;TZID=America/New_York:20251027T120000
DTEND;TZID=America/New_York:20251027T123000
DTSTAMP:20260420T020420
CREATED:20240307T141940Z
LAST-MODIFIED:20240307T235758Z
UID:10002097-1761566400-1761568200@drmarkkauffman.org
SUMMARY:Apostolic Voice on Dominion TV
DESCRIPTION:Join Drs. Mark & Jill Kauffman every Sunday and Monday for the Apostolic Voice on DominionTV as they bring insight and understanding to the Word of God. \n \n\nDominion Studios and Dominion.TV are the World Wide Media Outreach ministries of Dr. Joseph & Lynette Dutton\, and Dominion Harvest Ministries\, Inc.  Broadcasting from beautiful Myrtle Beach\, SC.\n\n 
URL:https://drmarkkauffman.org/event/apostolic-voice-2/2025-10-27/
LOCATION:PA
CATEGORIES:Broadcasting
END:VEVENT
BEGIN:VEVENT
DTSTART;TZID=America/New_York:20251029T153000
DTEND;TZID=America/New_York:20251029T160000
DTSTAMP:20260420T020420
CREATED:20240308T000620Z
LAST-MODIFIED:20240308T000620Z
UID:10003673-1761751800-1761753600@drmarkkauffman.org
SUMMARY:Apostolic Voice on Faith TV
DESCRIPTION:Watch The Apostolic Voice with Drs. Mark & Jill Kauffman on Direct TV Channel 379 at 3:30 PM every Wednesday!
URL:https://drmarkkauffman.org/event/apostolic-voice-on-faith-tv-2/2025-10-29/
LOCATION:PA
END:VEVENT
BEGIN:VEVENT
DTSTART;TZID=America/New_York:20251029T190000
DTEND;TZID=America/New_York:20251029T200000
DTSTAMP:20260420T020420
CREATED:20220518T191308Z
LAST-MODIFIED:20220518T191308Z
UID:10000181-1761764400-1761768000@drmarkkauffman.org
SUMMARY:The Royal Kingdom Academy
DESCRIPTION:Join Dr. Mark Kauffman each week for the Royal Kingdom Academy at Jubilee Ministries International City Church in New Castle\, PA.
URL:https://drmarkkauffman.org/event/the-royal-kingdom-academy/2025-10-29/
LOCATION:Jubilee Ministries International\, 14 East Chartes St\, New Castle\, PA\, 16102\, United States
CATEGORIES:Weekly Services
END:VEVENT
BEGIN:VEVENT
DTSTART;TZID=America/New_York:20251031T183000
DTEND;TZID=America/New_York:20251031T203000
DTSTAMP:20260420T020420
CREATED:20251008T003106Z
LAST-MODIFIED:20251008T003106Z
UID:10008419-1761935400-1761942600@drmarkkauffman.org
SUMMARY:The Kingdom\, The Power\, The Glory – One Night Only Service in Wellsville\, OH
DESCRIPTION:Join Dr. Mark Kauffman for a special service at The Living Well: \nEvent: The Kingdom\, The Power\, The Glory – One Night Only Service\nDate: Friday\, October 31\, 2025\nTime: 6:30 PM\nHosts: Pastor Dirk and Stephanie Hall\nGuest Speaker: Dr. Mark Kauffman\nLocation: 403 17th St.\, Wellsville\, OH 43968 \nExperience an evening of worship\, inspiring teaching\, and a life-changing encounter with God. \nWe look forward to seeing you there!
URL:https://drmarkkauffman.org/event/the-kingdom-the-power-the-glory-one-night-only-service-in-wellsville-oh/
LOCATION:Living Well Church\, 403 17th Street\, Wellsville\, PA\, 43968\, United States
END:VEVENT
BEGIN:VEVENT
DTSTART;TZID=America/New_York:20251101T180000
DTEND;TZID=America/New_York:20251101T183000
DTSTAMP:20260420T020420
CREATED:20240307T235306Z
LAST-MODIFIED:20240307T235306Z
UID:10002578-1762020000-1762021800@drmarkkauffman.org
SUMMARY:Apostolic Voice on Faith TV
DESCRIPTION:Watch The Apostolic Voice with Drs. Mark & Jill Kauffman on Direct TV Channel 379 at 6:00 PM every Saturday!
URL:https://drmarkkauffman.org/event/apostolic-voice-on-faith-tv/2025-11-01/
LOCATION:PA
END:VEVENT
BEGIN:VEVENT
DTSTART;TZID=America/New_York:20251102T203000
DTEND;TZID=America/New_York:20251102T210000
DTSTAMP:20260420T020420
CREATED:20220517T170018Z
LAST-MODIFIED:20240308T000015Z
UID:10001900-1762115400-1762117200@drmarkkauffman.org
SUMMARY:Apostolic Voice on Dominion TV
DESCRIPTION:Join Drs. Mark & Jill Kauffman every Sunday and Monday for the Apostolic Voice on DominionTV as they bring insight and understanding to the Word of God. \n \n\nDominion Studios and Dominion.TV are the World Wide Media Outreach ministries of Dr. Joseph & Lynette Dutton\, and Dominion Harvest Ministries\, Inc.  Broadcasting from beautiful Myrtle Beach\, SC.\n\n 
URL:https://drmarkkauffman.org/event/apostolic-voice-3/2025-11-02/
LOCATION:PA
CATEGORIES:Broadcasting
END:VEVENT
BEGIN:VEVENT
DTSTART;TZID=America/New_York:20251103T120000
DTEND;TZID=America/New_York:20251103T123000
DTSTAMP:20260420T020420
CREATED:20240307T141940Z
LAST-MODIFIED:20240307T235758Z
UID:10002098-1762171200-1762173000@drmarkkauffman.org
SUMMARY:Apostolic Voice on Dominion TV
DESCRIPTION:Join Drs. Mark & Jill Kauffman every Sunday and Monday for the Apostolic Voice on DominionTV as they bring insight and understanding to the Word of God. \n \n\nDominion Studios and Dominion.TV are the World Wide Media Outreach ministries of Dr. Joseph & Lynette Dutton\, and Dominion Harvest Ministries\, Inc.  Broadcasting from beautiful Myrtle Beach\, SC.\n\n 
URL:https://drmarkkauffman.org/event/apostolic-voice-2/2025-11-03/
LOCATION:PA
CATEGORIES:Broadcasting
END:VEVENT
BEGIN:VEVENT
DTSTART;TZID=America/New_York:20251105T153000
DTEND;TZID=America/New_York:20251105T160000
DTSTAMP:20260420T020420
CREATED:20240308T000620Z
LAST-MODIFIED:20240308T000620Z
UID:10003674-1762356600-1762358400@drmarkkauffman.org
SUMMARY:Apostolic Voice on Faith TV
DESCRIPTION:Watch The Apostolic Voice with Drs. Mark & Jill Kauffman on Direct TV Channel 379 at 3:30 PM every Wednesday!
URL:https://drmarkkauffman.org/event/apostolic-voice-on-faith-tv-2/2025-11-05/
LOCATION:PA
END:VEVENT
BEGIN:VEVENT
DTSTART;TZID=America/New_York:20251105T190000
DTEND;TZID=America/New_York:20251105T200000
DTSTAMP:20260420T020420
CREATED:20220518T191308Z
LAST-MODIFIED:20220518T191308Z
UID:10000182-1762369200-1762372800@drmarkkauffman.org
SUMMARY:The Royal Kingdom Academy
DESCRIPTION:Join Dr. Mark Kauffman each week for the Royal Kingdom Academy at Jubilee Ministries International City Church in New Castle\, PA.
URL:https://drmarkkauffman.org/event/the-royal-kingdom-academy/2025-11-05/
LOCATION:Jubilee Ministries International\, 14 East Chartes St\, New Castle\, PA\, 16102\, United States
CATEGORIES:Weekly Services
END:VEVENT
BEGIN:VEVENT
DTSTART;TZID=America/New_York:20251108T180000
DTEND;TZID=America/New_York:20251108T183000
DTSTAMP:20260420T020420
CREATED:20240307T235306Z
LAST-MODIFIED:20240307T235306Z
UID:10002579-1762624800-1762626600@drmarkkauffman.org
SUMMARY:Apostolic Voice on Faith TV
DESCRIPTION:Watch The Apostolic Voice with Drs. Mark & Jill Kauffman on Direct TV Channel 379 at 6:00 PM every Saturday!
URL:https://drmarkkauffman.org/event/apostolic-voice-on-faith-tv/2025-11-08/
LOCATION:PA
END:VEVENT
BEGIN:VEVENT
DTSTART;TZID=America/New_York:20251109T203000
DTEND;TZID=America/New_York:20251109T210000
DTSTAMP:20260420T020420
CREATED:20220517T170018Z
LAST-MODIFIED:20240308T000015Z
UID:10001901-1762720200-1762722000@drmarkkauffman.org
SUMMARY:Apostolic Voice on Dominion TV
DESCRIPTION:Join Drs. Mark & Jill Kauffman every Sunday and Monday for the Apostolic Voice on DominionTV as they bring insight and understanding to the Word of God. \n \n\nDominion Studios and Dominion.TV are the World Wide Media Outreach ministries of Dr. Joseph & Lynette Dutton\, and Dominion Harvest Ministries\, Inc.  Broadcasting from beautiful Myrtle Beach\, SC.\n\n 
URL:https://drmarkkauffman.org/event/apostolic-voice-3/2025-11-09/
LOCATION:PA
CATEGORIES:Broadcasting
END:VEVENT
BEGIN:VEVENT
DTSTART;TZID=America/New_York:20251110T120000
DTEND;TZID=America/New_York:20251110T123000
DTSTAMP:20260420T020420
CREATED:20240307T141940Z
LAST-MODIFIED:20240307T235758Z
UID:10002099-1762776000-1762777800@drmarkkauffman.org
SUMMARY:Apostolic Voice on Dominion TV
DESCRIPTION:Join Drs. Mark & Jill Kauffman every Sunday and Monday for the Apostolic Voice on DominionTV as they bring insight and understanding to the Word of God. \n \n\nDominion Studios and Dominion.TV are the World Wide Media Outreach ministries of Dr. Joseph & Lynette Dutton\, and Dominion Harvest Ministries\, Inc.  Broadcasting from beautiful Myrtle Beach\, SC.\n\n 
URL:https://drmarkkauffman.org/event/apostolic-voice-2/2025-11-10/
LOCATION:PA
CATEGORIES:Broadcasting
END:VEVENT
BEGIN:VEVENT
DTSTART;TZID=America/New_York:20251112T153000
DTEND;TZID=America/New_York:20251112T160000
DTSTAMP:20260420T020420
CREATED:20240308T000620Z
LAST-MODIFIED:20240308T000620Z
UID:10003675-1762961400-1762963200@drmarkkauffman.org
SUMMARY:Apostolic Voice on Faith TV
DESCRIPTION:Watch The Apostolic Voice with Drs. Mark & Jill Kauffman on Direct TV Channel 379 at 3:30 PM every Wednesday!
URL:https://drmarkkauffman.org/event/apostolic-voice-on-faith-tv-2/2025-11-12/
LOCATION:PA
END:VEVENT
BEGIN:VEVENT
DTSTART;TZID=America/New_York:20251112T190000
DTEND;TZID=America/New_York:20251112T200000
DTSTAMP:20260420T020420
CREATED:20220518T191308Z
LAST-MODIFIED:20220518T191308Z
UID:10000183-1762974000-1762977600@drmarkkauffman.org
SUMMARY:The Royal Kingdom Academy
DESCRIPTION:Join Dr. Mark Kauffman each week for the Royal Kingdom Academy at Jubilee Ministries International City Church in New Castle\, PA.
URL:https://drmarkkauffman.org/event/the-royal-kingdom-academy/2025-11-12/
LOCATION:Jubilee Ministries International\, 14 East Chartes St\, New Castle\, PA\, 16102\, United States
CATEGORIES:Weekly Services
END:VEVENT
BEGIN:VEVENT
DTSTART;TZID=America/New_York:20251114T183000
DTEND;TZID=America/New_York:20251114T203000
DTSTAMP:20260420T020420
CREATED:20250206T151256Z
LAST-MODIFIED:20250206T151256Z
UID:10008357-1763145000-1763152200@drmarkkauffman.org
SUMMARY:MAN CAVE
DESCRIPTION:ATTENTION ALL MEN!Register  NOW for the upcoming  ManCave with Dr. Mark Kauffman. This is not just a men’s meeting it is a MOVEMENT! \nGo to https://drmarkkauffman.org/the-man-cave/ or scan the QR code!
URL:https://drmarkkauffman.org/event/man-cave-5/
LOCATION:KBN Studios\, 2801 Wilmington Rd\, New Castle\, PA\, 16105\, United States
END:VEVENT
BEGIN:VEVENT
DTSTART;TZID=America/New_York:20251115T180000
DTEND;TZID=America/New_York:20251115T183000
DTSTAMP:20260420T020420
CREATED:20240307T235306Z
LAST-MODIFIED:20240307T235306Z
UID:10002580-1763229600-1763231400@drmarkkauffman.org
SUMMARY:Apostolic Voice on Faith TV
DESCRIPTION:Watch The Apostolic Voice with Drs. Mark & Jill Kauffman on Direct TV Channel 379 at 6:00 PM every Saturday!
URL:https://drmarkkauffman.org/event/apostolic-voice-on-faith-tv/2025-11-15/
LOCATION:PA
END:VEVENT
BEGIN:VEVENT
DTSTART;TZID=America/New_York:20251116T203000
DTEND;TZID=America/New_York:20251116T210000
DTSTAMP:20260420T020420
CREATED:20220517T170018Z
LAST-MODIFIED:20240308T000015Z
UID:10001902-1763325000-1763326800@drmarkkauffman.org
SUMMARY:Apostolic Voice on Dominion TV
DESCRIPTION:Join Drs. Mark & Jill Kauffman every Sunday and Monday for the Apostolic Voice on DominionTV as they bring insight and understanding to the Word of God. \n \n\nDominion Studios and Dominion.TV are the World Wide Media Outreach ministries of Dr. Joseph & Lynette Dutton\, and Dominion Harvest Ministries\, Inc.  Broadcasting from beautiful Myrtle Beach\, SC.\n\n 
URL:https://drmarkkauffman.org/event/apostolic-voice-3/2025-11-16/
LOCATION:PA
CATEGORIES:Broadcasting
END:VEVENT
BEGIN:VEVENT
DTSTART;TZID=America/New_York:20251117T120000
DTEND;TZID=America/New_York:20251117T123000
DTSTAMP:20260420T020420
CREATED:20240307T141940Z
LAST-MODIFIED:20240307T235758Z
UID:10002100-1763380800-1763382600@drmarkkauffman.org
SUMMARY:Apostolic Voice on Dominion TV
DESCRIPTION:Join Drs. Mark & Jill Kauffman every Sunday and Monday for the Apostolic Voice on DominionTV as they bring insight and understanding to the Word of God. \n \n\nDominion Studios and Dominion.TV are the World Wide Media Outreach ministries of Dr. Joseph & Lynette Dutton\, and Dominion Harvest Ministries\, Inc.  Broadcasting from beautiful Myrtle Beach\, SC.\n\n 
URL:https://drmarkkauffman.org/event/apostolic-voice-2/2025-11-17/
LOCATION:PA
CATEGORIES:Broadcasting
END:VEVENT
BEGIN:VEVENT
DTSTART;TZID=America/New_York:20251119T153000
DTEND;TZID=America/New_York:20251119T160000
DTSTAMP:20260420T020420
CREATED:20240308T000620Z
LAST-MODIFIED:20240308T000620Z
UID:10003676-1763566200-1763568000@drmarkkauffman.org
SUMMARY:Apostolic Voice on Faith TV
DESCRIPTION:Watch The Apostolic Voice with Drs. Mark & Jill Kauffman on Direct TV Channel 379 at 3:30 PM every Wednesday!
URL:https://drmarkkauffman.org/event/apostolic-voice-on-faith-tv-2/2025-11-19/
LOCATION:PA
END:VEVENT
BEGIN:VEVENT
DTSTART;TZID=America/New_York:20251119T190000
DTEND;TZID=America/New_York:20251119T200000
DTSTAMP:20260420T020420
CREATED:20220518T191308Z
LAST-MODIFIED:20220518T191308Z
UID:10000184-1763578800-1763582400@drmarkkauffman.org
SUMMARY:The Royal Kingdom Academy
DESCRIPTION:Join Dr. Mark Kauffman each week for the Royal Kingdom Academy at Jubilee Ministries International City Church in New Castle\, PA.
URL:https://drmarkkauffman.org/event/the-royal-kingdom-academy/2025-11-19/
LOCATION:Jubilee Ministries International\, 14 East Chartes St\, New Castle\, PA\, 16102\, United States
CATEGORIES:Weekly Services
END:VEVENT
BEGIN:VEVENT
DTSTART;TZID=America/New_York:20251122T180000
DTEND;TZID=America/New_York:20251122T183000
DTSTAMP:20260420T020420
CREATED:20240307T235306Z
LAST-MODIFIED:20240307T235306Z
UID:10002581-1763834400-1763836200@drmarkkauffman.org
SUMMARY:Apostolic Voice on Faith TV
DESCRIPTION:Watch The Apostolic Voice with Drs. Mark & Jill Kauffman on Direct TV Channel 379 at 6:00 PM every Saturday!
URL:https://drmarkkauffman.org/event/apostolic-voice-on-faith-tv/2025-11-22/
LOCATION:PA
END:VEVENT
BEGIN:VEVENT
DTSTART;TZID=America/New_York:20251123T203000
DTEND;TZID=America/New_York:20251123T210000
DTSTAMP:20260420T020420
CREATED:20220517T170018Z
LAST-MODIFIED:20240308T000015Z
UID:10001903-1763929800-1763931600@drmarkkauffman.org
SUMMARY:Apostolic Voice on Dominion TV
DESCRIPTION:Join Drs. Mark & Jill Kauffman every Sunday and Monday for the Apostolic Voice on DominionTV as they bring insight and understanding to the Word of God. \n \n\nDominion Studios and Dominion.TV are the World Wide Media Outreach ministries of Dr. Joseph & Lynette Dutton\, and Dominion Harvest Ministries\, Inc.  Broadcasting from beautiful Myrtle Beach\, SC.\n\n 
URL:https://drmarkkauffman.org/event/apostolic-voice-3/2025-11-23/
LOCATION:PA
CATEGORIES:Broadcasting
END:VEVENT
BEGIN:VEVENT
DTSTART;TZID=America/New_York:20251124T120000
DTEND;TZID=America/New_York:20251124T123000
DTSTAMP:20260420T020420
CREATED:20240307T141940Z
LAST-MODIFIED:20240307T235758Z
UID:10002101-1763985600-1763987400@drmarkkauffman.org
SUMMARY:Apostolic Voice on Dominion TV
DESCRIPTION:Join Drs. Mark & Jill Kauffman every Sunday and Monday for the Apostolic Voice on DominionTV as they bring insight and understanding to the Word of God. \n \n\nDominion Studios and Dominion.TV are the World Wide Media Outreach ministries of Dr. Joseph & Lynette Dutton\, and Dominion Harvest Ministries\, Inc.  Broadcasting from beautiful Myrtle Beach\, SC.\n\n 
URL:https://drmarkkauffman.org/event/apostolic-voice-2/2025-11-24/
LOCATION:PA
CATEGORIES:Broadcasting
END:VEVENT
BEGIN:VEVENT
DTSTART;TZID=America/New_York:20251126T153000
DTEND;TZID=America/New_York:20251126T160000
DTSTAMP:20260420T020420
CREATED:20240308T000620Z
LAST-MODIFIED:20240308T000620Z
UID:10003677-1764171000-1764172800@drmarkkauffman.org
SUMMARY:Apostolic Voice on Faith TV
DESCRIPTION:Watch The Apostolic Voice with Drs. Mark & Jill Kauffman on Direct TV Channel 379 at 3:30 PM every Wednesday!
URL:https://drmarkkauffman.org/event/apostolic-voice-on-faith-tv-2/2025-11-26/
LOCATION:PA
END:VEVENT
BEGIN:VEVENT
DTSTART;TZID=America/New_York:20251126T190000
DTEND;TZID=America/New_York:20251126T200000
DTSTAMP:20260420T020420
CREATED:20220518T191308Z
LAST-MODIFIED:20220518T191308Z
UID:10000185-1764183600-1764187200@drmarkkauffman.org
SUMMARY:The Royal Kingdom Academy
DESCRIPTION:Join Dr. Mark Kauffman each week for the Royal Kingdom Academy at Jubilee Ministries International City Church in New Castle\, PA.
URL:https://drmarkkauffman.org/event/the-royal-kingdom-academy/2025-11-26/
LOCATION:Jubilee Ministries International\, 14 East Chartes St\, New Castle\, PA\, 16102\, United States
CATEGORIES:Weekly Services
END:VEVENT
BEGIN:VEVENT
DTSTART;TZID=America/New_York:20251129T180000
DTEND;TZID=America/New_York:20251129T183000
DTSTAMP:20260420T020420
CREATED:20240307T235306Z
LAST-MODIFIED:20240307T235306Z
UID:10002582-1764439200-1764441000@drmarkkauffman.org
SUMMARY:Apostolic Voice on Faith TV
DESCRIPTION:Watch The Apostolic Voice with Drs. Mark & Jill Kauffman on Direct TV Channel 379 at 6:00 PM every Saturday!
URL:https://drmarkkauffman.org/event/apostolic-voice-on-faith-tv/2025-11-29/
LOCATION:PA
END:VEVENT
BEGIN:VEVENT
DTSTART;TZID=America/New_York:20251130T203000
DTEND;TZID=America/New_York:20251130T210000
DTSTAMP:20260420T020420
CREATED:20220517T170018Z
LAST-MODIFIED:20240308T000015Z
UID:10001904-1764534600-1764536400@drmarkkauffman.org
SUMMARY:Apostolic Voice on Dominion TV
DESCRIPTION:Join Drs. Mark & Jill Kauffman every Sunday and Monday for the Apostolic Voice on DominionTV as they bring insight and understanding to the Word of God. \n \n\nDominion Studios and Dominion.TV are the World Wide Media Outreach ministries of Dr. Joseph & Lynette Dutton\, and Dominion Harvest Ministries\, Inc.  Broadcasting from beautiful Myrtle Beach\, SC.\n\n 
URL:https://drmarkkauffman.org/event/apostolic-voice-3/2025-11-30/
LOCATION:PA
CATEGORIES:Broadcasting
END:VEVENT
BEGIN:VEVENT
DTSTART;TZID=America/New_York:20251201T120000
DTEND;TZID=America/New_York:20251201T123000
DTSTAMP:20260420T020420
CREATED:20240307T141940Z
LAST-MODIFIED:20240307T235758Z
UID:10002102-1764590400-1764592200@drmarkkauffman.org
SUMMARY:Apostolic Voice on Dominion TV
DESCRIPTION:Join Drs. Mark & Jill Kauffman every Sunday and Monday for the Apostolic Voice on DominionTV as they bring insight and understanding to the Word of God. \n \n\nDominion Studios and Dominion.TV are the World Wide Media Outreach ministries of Dr. Joseph & Lynette Dutton\, and Dominion Harvest Ministries\, Inc.  Broadcasting from beautiful Myrtle Beach\, SC.\n\n 
URL:https://drmarkkauffman.org/event/apostolic-voice-2/2025-12-01/
LOCATION:PA
CATEGORIES:Broadcasting
END:VEVENT
BEGIN:VEVENT
DTSTART;TZID=America/New_York:20251203T153000
DTEND;TZID=America/New_York:20251203T160000
DTSTAMP:20260420T020420
CREATED:20240308T000620Z
LAST-MODIFIED:20240308T000620Z
UID:10003678-1764775800-1764777600@drmarkkauffman.org
SUMMARY:Apostolic Voice on Faith TV
DESCRIPTION:Watch The Apostolic Voice with Drs. Mark & Jill Kauffman on Direct TV Channel 379 at 3:30 PM every Wednesday!
URL:https://drmarkkauffman.org/event/apostolic-voice-on-faith-tv-2/2025-12-03/
LOCATION:PA
END:VEVENT
END:VCALENDAR