BEGIN:VCALENDAR
VERSION:2.0
PRODID:-//Dr. Mark Kauffman Ministries, New Castle PA - ECPv6.15.19//NONSGML v1.0//EN
CALSCALE:GREGORIAN
METHOD:PUBLISH
X-ORIGINAL-URL:https://drmarkkauffman.org
X-WR-CALDESC:Events for Dr. Mark Kauffman Ministries, New Castle PA
REFRESH-INTERVAL;VALUE=DURATION:PT1H
X-Robots-Tag:noindex
X-PUBLISHED-TTL:PT1H
BEGIN:VTIMEZONE
TZID:America/New_York
BEGIN:DAYLIGHT
TZOFFSETFROM:-0500
TZOFFSETTO:-0400
TZNAME:EDT
DTSTART:20240310T070000
END:DAYLIGHT
BEGIN:STANDARD
TZOFFSETFROM:-0400
TZOFFSETTO:-0500
TZNAME:EST
DTSTART:20241103T060000
END:STANDARD
BEGIN:DAYLIGHT
TZOFFSETFROM:-0500
TZOFFSETTO:-0400
TZNAME:EDT
DTSTART:20250309T070000
END:DAYLIGHT
BEGIN:STANDARD
TZOFFSETFROM:-0400
TZOFFSETTO:-0500
TZNAME:EST
DTSTART:20251102T060000
END:STANDARD
BEGIN:DAYLIGHT
TZOFFSETFROM:-0500
TZOFFSETTO:-0400
TZNAME:EDT
DTSTART:20260308T070000
END:DAYLIGHT
BEGIN:STANDARD
TZOFFSETFROM:-0400
TZOFFSETTO:-0500
TZNAME:EST
DTSTART:20261101T060000
END:STANDARD
END:VTIMEZONE
BEGIN:VEVENT
DTSTART;TZID=America/New_York:20251122T180000
DTEND;TZID=America/New_York:20251122T183000
DTSTAMP:20260420T020429
CREATED:20240307T235306Z
LAST-MODIFIED:20240307T235306Z
UID:10002581-1763834400-1763836200@drmarkkauffman.org
SUMMARY:Apostolic Voice on Faith TV
DESCRIPTION:Watch The Apostolic Voice with Drs. Mark & Jill Kauffman on Direct TV Channel 379 at 6:00 PM every Saturday!
URL:https://drmarkkauffman.org/event/apostolic-voice-on-faith-tv/2025-11-22/
LOCATION:PA
END:VEVENT
BEGIN:VEVENT
DTSTART;TZID=America/New_York:20251123T203000
DTEND;TZID=America/New_York:20251123T210000
DTSTAMP:20260420T020429
CREATED:20220517T170018Z
LAST-MODIFIED:20240308T000015Z
UID:10001903-1763929800-1763931600@drmarkkauffman.org
SUMMARY:Apostolic Voice on Dominion TV
DESCRIPTION:Join Drs. Mark & Jill Kauffman every Sunday and Monday for the Apostolic Voice on DominionTV as they bring insight and understanding to the Word of God. \n \n\nDominion Studios and Dominion.TV are the World Wide Media Outreach ministries of Dr. Joseph & Lynette Dutton\, and Dominion Harvest Ministries\, Inc.  Broadcasting from beautiful Myrtle Beach\, SC.\n\n 
URL:https://drmarkkauffman.org/event/apostolic-voice-3/2025-11-23/
LOCATION:PA
CATEGORIES:Broadcasting
END:VEVENT
BEGIN:VEVENT
DTSTART;TZID=America/New_York:20251124T120000
DTEND;TZID=America/New_York:20251124T123000
DTSTAMP:20260420T020429
CREATED:20240307T141940Z
LAST-MODIFIED:20240307T235758Z
UID:10002101-1763985600-1763987400@drmarkkauffman.org
SUMMARY:Apostolic Voice on Dominion TV
DESCRIPTION:Join Drs. Mark & Jill Kauffman every Sunday and Monday for the Apostolic Voice on DominionTV as they bring insight and understanding to the Word of God. \n \n\nDominion Studios and Dominion.TV are the World Wide Media Outreach ministries of Dr. Joseph & Lynette Dutton\, and Dominion Harvest Ministries\, Inc.  Broadcasting from beautiful Myrtle Beach\, SC.\n\n 
URL:https://drmarkkauffman.org/event/apostolic-voice-2/2025-11-24/
LOCATION:PA
CATEGORIES:Broadcasting
END:VEVENT
BEGIN:VEVENT
DTSTART;TZID=America/New_York:20251126T153000
DTEND;TZID=America/New_York:20251126T160000
DTSTAMP:20260420T020429
CREATED:20240308T000620Z
LAST-MODIFIED:20240308T000620Z
UID:10003677-1764171000-1764172800@drmarkkauffman.org
SUMMARY:Apostolic Voice on Faith TV
DESCRIPTION:Watch The Apostolic Voice with Drs. Mark & Jill Kauffman on Direct TV Channel 379 at 3:30 PM every Wednesday!
URL:https://drmarkkauffman.org/event/apostolic-voice-on-faith-tv-2/2025-11-26/
LOCATION:PA
END:VEVENT
BEGIN:VEVENT
DTSTART;TZID=America/New_York:20251126T190000
DTEND;TZID=America/New_York:20251126T200000
DTSTAMP:20260420T020429
CREATED:20220518T191308Z
LAST-MODIFIED:20220518T191308Z
UID:10000185-1764183600-1764187200@drmarkkauffman.org
SUMMARY:The Royal Kingdom Academy
DESCRIPTION:Join Dr. Mark Kauffman each week for the Royal Kingdom Academy at Jubilee Ministries International City Church in New Castle\, PA.
URL:https://drmarkkauffman.org/event/the-royal-kingdom-academy/2025-11-26/
LOCATION:Jubilee Ministries International\, 14 East Chartes St\, New Castle\, PA\, 16102\, United States
CATEGORIES:Weekly Services
END:VEVENT
BEGIN:VEVENT
DTSTART;TZID=America/New_York:20251129T180000
DTEND;TZID=America/New_York:20251129T183000
DTSTAMP:20260420T020429
CREATED:20240307T235306Z
LAST-MODIFIED:20240307T235306Z
UID:10002582-1764439200-1764441000@drmarkkauffman.org
SUMMARY:Apostolic Voice on Faith TV
DESCRIPTION:Watch The Apostolic Voice with Drs. Mark & Jill Kauffman on Direct TV Channel 379 at 6:00 PM every Saturday!
URL:https://drmarkkauffman.org/event/apostolic-voice-on-faith-tv/2025-11-29/
LOCATION:PA
END:VEVENT
BEGIN:VEVENT
DTSTART;TZID=America/New_York:20251130T203000
DTEND;TZID=America/New_York:20251130T210000
DTSTAMP:20260420T020429
CREATED:20220517T170018Z
LAST-MODIFIED:20240308T000015Z
UID:10001904-1764534600-1764536400@drmarkkauffman.org
SUMMARY:Apostolic Voice on Dominion TV
DESCRIPTION:Join Drs. Mark & Jill Kauffman every Sunday and Monday for the Apostolic Voice on DominionTV as they bring insight and understanding to the Word of God. \n \n\nDominion Studios and Dominion.TV are the World Wide Media Outreach ministries of Dr. Joseph & Lynette Dutton\, and Dominion Harvest Ministries\, Inc.  Broadcasting from beautiful Myrtle Beach\, SC.\n\n 
URL:https://drmarkkauffman.org/event/apostolic-voice-3/2025-11-30/
LOCATION:PA
CATEGORIES:Broadcasting
END:VEVENT
BEGIN:VEVENT
DTSTART;TZID=America/New_York:20251201T120000
DTEND;TZID=America/New_York:20251201T123000
DTSTAMP:20260420T020429
CREATED:20240307T141940Z
LAST-MODIFIED:20240307T235758Z
UID:10002102-1764590400-1764592200@drmarkkauffman.org
SUMMARY:Apostolic Voice on Dominion TV
DESCRIPTION:Join Drs. Mark & Jill Kauffman every Sunday and Monday for the Apostolic Voice on DominionTV as they bring insight and understanding to the Word of God. \n \n\nDominion Studios and Dominion.TV are the World Wide Media Outreach ministries of Dr. Joseph & Lynette Dutton\, and Dominion Harvest Ministries\, Inc.  Broadcasting from beautiful Myrtle Beach\, SC.\n\n 
URL:https://drmarkkauffman.org/event/apostolic-voice-2/2025-12-01/
LOCATION:PA
CATEGORIES:Broadcasting
END:VEVENT
BEGIN:VEVENT
DTSTART;TZID=America/New_York:20251203T153000
DTEND;TZID=America/New_York:20251203T160000
DTSTAMP:20260420T020429
CREATED:20240308T000620Z
LAST-MODIFIED:20240308T000620Z
UID:10003678-1764775800-1764777600@drmarkkauffman.org
SUMMARY:Apostolic Voice on Faith TV
DESCRIPTION:Watch The Apostolic Voice with Drs. Mark & Jill Kauffman on Direct TV Channel 379 at 3:30 PM every Wednesday!
URL:https://drmarkkauffman.org/event/apostolic-voice-on-faith-tv-2/2025-12-03/
LOCATION:PA
END:VEVENT
BEGIN:VEVENT
DTSTART;TZID=America/New_York:20251203T190000
DTEND;TZID=America/New_York:20251203T200000
DTSTAMP:20260420T020429
CREATED:20220518T191308Z
LAST-MODIFIED:20220518T191308Z
UID:10000186-1764788400-1764792000@drmarkkauffman.org
SUMMARY:The Royal Kingdom Academy
DESCRIPTION:Join Dr. Mark Kauffman each week for the Royal Kingdom Academy at Jubilee Ministries International City Church in New Castle\, PA.
URL:https://drmarkkauffman.org/event/the-royal-kingdom-academy/2025-12-03/
LOCATION:Jubilee Ministries International\, 14 East Chartes St\, New Castle\, PA\, 16102\, United States
CATEGORIES:Weekly Services
END:VEVENT
BEGIN:VEVENT
DTSTART;TZID=America/New_York:20251206T180000
DTEND;TZID=America/New_York:20251206T183000
DTSTAMP:20260420T020429
CREATED:20240307T235306Z
LAST-MODIFIED:20240307T235306Z
UID:10002583-1765044000-1765045800@drmarkkauffman.org
SUMMARY:Apostolic Voice on Faith TV
DESCRIPTION:Watch The Apostolic Voice with Drs. Mark & Jill Kauffman on Direct TV Channel 379 at 6:00 PM every Saturday!
URL:https://drmarkkauffman.org/event/apostolic-voice-on-faith-tv/2025-12-06/
LOCATION:PA
END:VEVENT
BEGIN:VEVENT
DTSTART;TZID=America/New_York:20251207T203000
DTEND;TZID=America/New_York:20251207T210000
DTSTAMP:20260420T020429
CREATED:20220517T170018Z
LAST-MODIFIED:20240308T000015Z
UID:10001905-1765139400-1765141200@drmarkkauffman.org
SUMMARY:Apostolic Voice on Dominion TV
DESCRIPTION:Join Drs. Mark & Jill Kauffman every Sunday and Monday for the Apostolic Voice on DominionTV as they bring insight and understanding to the Word of God. \n \n\nDominion Studios and Dominion.TV are the World Wide Media Outreach ministries of Dr. Joseph & Lynette Dutton\, and Dominion Harvest Ministries\, Inc.  Broadcasting from beautiful Myrtle Beach\, SC.\n\n 
URL:https://drmarkkauffman.org/event/apostolic-voice-3/2025-12-07/
LOCATION:PA
CATEGORIES:Broadcasting
END:VEVENT
BEGIN:VEVENT
DTSTART;TZID=America/New_York:20251208T120000
DTEND;TZID=America/New_York:20251208T123000
DTSTAMP:20260420T020429
CREATED:20240307T141940Z
LAST-MODIFIED:20240307T235758Z
UID:10002103-1765195200-1765197000@drmarkkauffman.org
SUMMARY:Apostolic Voice on Dominion TV
DESCRIPTION:Join Drs. Mark & Jill Kauffman every Sunday and Monday for the Apostolic Voice on DominionTV as they bring insight and understanding to the Word of God. \n \n\nDominion Studios and Dominion.TV are the World Wide Media Outreach ministries of Dr. Joseph & Lynette Dutton\, and Dominion Harvest Ministries\, Inc.  Broadcasting from beautiful Myrtle Beach\, SC.\n\n 
URL:https://drmarkkauffman.org/event/apostolic-voice-2/2025-12-08/
LOCATION:PA
CATEGORIES:Broadcasting
END:VEVENT
BEGIN:VEVENT
DTSTART;TZID=America/New_York:20251210T153000
DTEND;TZID=America/New_York:20251210T160000
DTSTAMP:20260420T020429
CREATED:20240308T000620Z
LAST-MODIFIED:20240308T000620Z
UID:10003679-1765380600-1765382400@drmarkkauffman.org
SUMMARY:Apostolic Voice on Faith TV
DESCRIPTION:Watch The Apostolic Voice with Drs. Mark & Jill Kauffman on Direct TV Channel 379 at 3:30 PM every Wednesday!
URL:https://drmarkkauffman.org/event/apostolic-voice-on-faith-tv-2/2025-12-10/
LOCATION:PA
END:VEVENT
BEGIN:VEVENT
DTSTART;TZID=America/New_York:20251210T190000
DTEND;TZID=America/New_York:20251210T200000
DTSTAMP:20260420T020429
CREATED:20220518T191308Z
LAST-MODIFIED:20220518T191308Z
UID:10000187-1765393200-1765396800@drmarkkauffman.org
SUMMARY:The Royal Kingdom Academy
DESCRIPTION:Join Dr. Mark Kauffman each week for the Royal Kingdom Academy at Jubilee Ministries International City Church in New Castle\, PA.
URL:https://drmarkkauffman.org/event/the-royal-kingdom-academy/2025-12-10/
LOCATION:Jubilee Ministries International\, 14 East Chartes St\, New Castle\, PA\, 16102\, United States
CATEGORIES:Weekly Services
END:VEVENT
BEGIN:VEVENT
DTSTART;TZID=America/New_York:20251213T180000
DTEND;TZID=America/New_York:20251213T183000
DTSTAMP:20260420T020429
CREATED:20240307T235306Z
LAST-MODIFIED:20240307T235306Z
UID:10002584-1765648800-1765650600@drmarkkauffman.org
SUMMARY:Apostolic Voice on Faith TV
DESCRIPTION:Watch The Apostolic Voice with Drs. Mark & Jill Kauffman on Direct TV Channel 379 at 6:00 PM every Saturday!
URL:https://drmarkkauffman.org/event/apostolic-voice-on-faith-tv/2025-12-13/
LOCATION:PA
END:VEVENT
BEGIN:VEVENT
DTSTART;TZID=America/New_York:20251214T203000
DTEND;TZID=America/New_York:20251214T210000
DTSTAMP:20260420T020429
CREATED:20220517T170018Z
LAST-MODIFIED:20240308T000015Z
UID:10001906-1765744200-1765746000@drmarkkauffman.org
SUMMARY:Apostolic Voice on Dominion TV
DESCRIPTION:Join Drs. Mark & Jill Kauffman every Sunday and Monday for the Apostolic Voice on DominionTV as they bring insight and understanding to the Word of God. \n \n\nDominion Studios and Dominion.TV are the World Wide Media Outreach ministries of Dr. Joseph & Lynette Dutton\, and Dominion Harvest Ministries\, Inc.  Broadcasting from beautiful Myrtle Beach\, SC.\n\n 
URL:https://drmarkkauffman.org/event/apostolic-voice-3/2025-12-14/
LOCATION:PA
CATEGORIES:Broadcasting
END:VEVENT
BEGIN:VEVENT
DTSTART;TZID=America/New_York:20251215T120000
DTEND;TZID=America/New_York:20251215T123000
DTSTAMP:20260420T020429
CREATED:20240307T141940Z
LAST-MODIFIED:20240307T235758Z
UID:10002104-1765800000-1765801800@drmarkkauffman.org
SUMMARY:Apostolic Voice on Dominion TV
DESCRIPTION:Join Drs. Mark & Jill Kauffman every Sunday and Monday for the Apostolic Voice on DominionTV as they bring insight and understanding to the Word of God. \n \n\nDominion Studios and Dominion.TV are the World Wide Media Outreach ministries of Dr. Joseph & Lynette Dutton\, and Dominion Harvest Ministries\, Inc.  Broadcasting from beautiful Myrtle Beach\, SC.\n\n 
URL:https://drmarkkauffman.org/event/apostolic-voice-2/2025-12-15/
LOCATION:PA
CATEGORIES:Broadcasting
END:VEVENT
BEGIN:VEVENT
DTSTART;TZID=America/New_York:20251217T153000
DTEND;TZID=America/New_York:20251217T160000
DTSTAMP:20260420T020429
CREATED:20240308T000620Z
LAST-MODIFIED:20240308T000620Z
UID:10003680-1765985400-1765987200@drmarkkauffman.org
SUMMARY:Apostolic Voice on Faith TV
DESCRIPTION:Watch The Apostolic Voice with Drs. Mark & Jill Kauffman on Direct TV Channel 379 at 3:30 PM every Wednesday!
URL:https://drmarkkauffman.org/event/apostolic-voice-on-faith-tv-2/2025-12-17/
LOCATION:PA
END:VEVENT
BEGIN:VEVENT
DTSTART;TZID=America/New_York:20251217T190000
DTEND;TZID=America/New_York:20251217T200000
DTSTAMP:20260420T020429
CREATED:20220518T191308Z
LAST-MODIFIED:20220518T191308Z
UID:10000188-1765998000-1766001600@drmarkkauffman.org
SUMMARY:The Royal Kingdom Academy
DESCRIPTION:Join Dr. Mark Kauffman each week for the Royal Kingdom Academy at Jubilee Ministries International City Church in New Castle\, PA.
URL:https://drmarkkauffman.org/event/the-royal-kingdom-academy/2025-12-17/
LOCATION:Jubilee Ministries International\, 14 East Chartes St\, New Castle\, PA\, 16102\, United States
CATEGORIES:Weekly Services
END:VEVENT
BEGIN:VEVENT
DTSTART;TZID=America/New_York:20251220T180000
DTEND;TZID=America/New_York:20251220T183000
DTSTAMP:20260420T020429
CREATED:20240307T235306Z
LAST-MODIFIED:20240307T235306Z
UID:10002585-1766253600-1766255400@drmarkkauffman.org
SUMMARY:Apostolic Voice on Faith TV
DESCRIPTION:Watch The Apostolic Voice with Drs. Mark & Jill Kauffman on Direct TV Channel 379 at 6:00 PM every Saturday!
URL:https://drmarkkauffman.org/event/apostolic-voice-on-faith-tv/2025-12-20/
LOCATION:PA
END:VEVENT
BEGIN:VEVENT
DTSTART;TZID=America/New_York:20251221T203000
DTEND;TZID=America/New_York:20251221T210000
DTSTAMP:20260420T020429
CREATED:20220517T170018Z
LAST-MODIFIED:20240308T000015Z
UID:10001907-1766349000-1766350800@drmarkkauffman.org
SUMMARY:Apostolic Voice on Dominion TV
DESCRIPTION:Join Drs. Mark & Jill Kauffman every Sunday and Monday for the Apostolic Voice on DominionTV as they bring insight and understanding to the Word of God. \n \n\nDominion Studios and Dominion.TV are the World Wide Media Outreach ministries of Dr. Joseph & Lynette Dutton\, and Dominion Harvest Ministries\, Inc.  Broadcasting from beautiful Myrtle Beach\, SC.\n\n 
URL:https://drmarkkauffman.org/event/apostolic-voice-3/2025-12-21/
LOCATION:PA
CATEGORIES:Broadcasting
END:VEVENT
BEGIN:VEVENT
DTSTART;TZID=America/New_York:20251222T120000
DTEND;TZID=America/New_York:20251222T123000
DTSTAMP:20260420T020429
CREATED:20240307T141940Z
LAST-MODIFIED:20240307T235758Z
UID:10002105-1766404800-1766406600@drmarkkauffman.org
SUMMARY:Apostolic Voice on Dominion TV
DESCRIPTION:Join Drs. Mark & Jill Kauffman every Sunday and Monday for the Apostolic Voice on DominionTV as they bring insight and understanding to the Word of God. \n \n\nDominion Studios and Dominion.TV are the World Wide Media Outreach ministries of Dr. Joseph & Lynette Dutton\, and Dominion Harvest Ministries\, Inc.  Broadcasting from beautiful Myrtle Beach\, SC.\n\n 
URL:https://drmarkkauffman.org/event/apostolic-voice-2/2025-12-22/
LOCATION:PA
CATEGORIES:Broadcasting
END:VEVENT
BEGIN:VEVENT
DTSTART;TZID=America/New_York:20251224T153000
DTEND;TZID=America/New_York:20251224T160000
DTSTAMP:20260420T020429
CREATED:20240308T000620Z
LAST-MODIFIED:20240308T000620Z
UID:10003681-1766590200-1766592000@drmarkkauffman.org
SUMMARY:Apostolic Voice on Faith TV
DESCRIPTION:Watch The Apostolic Voice with Drs. Mark & Jill Kauffman on Direct TV Channel 379 at 3:30 PM every Wednesday!
URL:https://drmarkkauffman.org/event/apostolic-voice-on-faith-tv-2/2025-12-24/
LOCATION:PA
END:VEVENT
BEGIN:VEVENT
DTSTART;TZID=America/New_York:20251224T190000
DTEND;TZID=America/New_York:20251224T200000
DTSTAMP:20260420T020429
CREATED:20220518T191308Z
LAST-MODIFIED:20220518T191308Z
UID:10000189-1766602800-1766606400@drmarkkauffman.org
SUMMARY:The Royal Kingdom Academy
DESCRIPTION:Join Dr. Mark Kauffman each week for the Royal Kingdom Academy at Jubilee Ministries International City Church in New Castle\, PA.
URL:https://drmarkkauffman.org/event/the-royal-kingdom-academy/2025-12-24/
LOCATION:Jubilee Ministries International\, 14 East Chartes St\, New Castle\, PA\, 16102\, United States
CATEGORIES:Weekly Services
END:VEVENT
BEGIN:VEVENT
DTSTART;TZID=America/New_York:20251227T180000
DTEND;TZID=America/New_York:20251227T183000
DTSTAMP:20260420T020429
CREATED:20240307T235306Z
LAST-MODIFIED:20240307T235306Z
UID:10002586-1766858400-1766860200@drmarkkauffman.org
SUMMARY:Apostolic Voice on Faith TV
DESCRIPTION:Watch The Apostolic Voice with Drs. Mark & Jill Kauffman on Direct TV Channel 379 at 6:00 PM every Saturday!
URL:https://drmarkkauffman.org/event/apostolic-voice-on-faith-tv/2025-12-27/
LOCATION:PA
END:VEVENT
BEGIN:VEVENT
DTSTART;TZID=America/New_York:20251228T203000
DTEND;TZID=America/New_York:20251228T210000
DTSTAMP:20260420T020429
CREATED:20220517T170018Z
LAST-MODIFIED:20240308T000015Z
UID:10001908-1766953800-1766955600@drmarkkauffman.org
SUMMARY:Apostolic Voice on Dominion TV
DESCRIPTION:Join Drs. Mark & Jill Kauffman every Sunday and Monday for the Apostolic Voice on DominionTV as they bring insight and understanding to the Word of God. \n \n\nDominion Studios and Dominion.TV are the World Wide Media Outreach ministries of Dr. Joseph & Lynette Dutton\, and Dominion Harvest Ministries\, Inc.  Broadcasting from beautiful Myrtle Beach\, SC.\n\n 
URL:https://drmarkkauffman.org/event/apostolic-voice-3/2025-12-28/
LOCATION:PA
CATEGORIES:Broadcasting
END:VEVENT
BEGIN:VEVENT
DTSTART;TZID=America/New_York:20251229T120000
DTEND;TZID=America/New_York:20251229T123000
DTSTAMP:20260420T020429
CREATED:20240307T141940Z
LAST-MODIFIED:20240307T235758Z
UID:10002106-1767009600-1767011400@drmarkkauffman.org
SUMMARY:Apostolic Voice on Dominion TV
DESCRIPTION:Join Drs. Mark & Jill Kauffman every Sunday and Monday for the Apostolic Voice on DominionTV as they bring insight and understanding to the Word of God. \n \n\nDominion Studios and Dominion.TV are the World Wide Media Outreach ministries of Dr. Joseph & Lynette Dutton\, and Dominion Harvest Ministries\, Inc.  Broadcasting from beautiful Myrtle Beach\, SC.\n\n 
URL:https://drmarkkauffman.org/event/apostolic-voice-2/2025-12-29/
LOCATION:PA
CATEGORIES:Broadcasting
END:VEVENT
BEGIN:VEVENT
DTSTART;TZID=America/New_York:20251231T153000
DTEND;TZID=America/New_York:20251231T160000
DTSTAMP:20260420T020429
CREATED:20240308T000620Z
LAST-MODIFIED:20240308T000620Z
UID:10003682-1767195000-1767196800@drmarkkauffman.org
SUMMARY:Apostolic Voice on Faith TV
DESCRIPTION:Watch The Apostolic Voice with Drs. Mark & Jill Kauffman on Direct TV Channel 379 at 3:30 PM every Wednesday!
URL:https://drmarkkauffman.org/event/apostolic-voice-on-faith-tv-2/2025-12-31/
LOCATION:PA
END:VEVENT
BEGIN:VEVENT
DTSTART;TZID=America/New_York:20251231T190000
DTEND;TZID=America/New_York:20251231T200000
DTSTAMP:20260420T020429
CREATED:20220518T191308Z
LAST-MODIFIED:20220518T191308Z
UID:10000190-1767207600-1767211200@drmarkkauffman.org
SUMMARY:The Royal Kingdom Academy
DESCRIPTION:Join Dr. Mark Kauffman each week for the Royal Kingdom Academy at Jubilee Ministries International City Church in New Castle\, PA.
URL:https://drmarkkauffman.org/event/the-royal-kingdom-academy/2025-12-31/
LOCATION:Jubilee Ministries International\, 14 East Chartes St\, New Castle\, PA\, 16102\, United States
CATEGORIES:Weekly Services
END:VEVENT
END:VCALENDAR