BEGIN:VCALENDAR
VERSION:2.0
PRODID:-//Dr. Mark Kauffman Ministries, New Castle PA - ECPv6.15.19//NONSGML v1.0//EN
CALSCALE:GREGORIAN
METHOD:PUBLISH
X-WR-CALNAME:Dr. Mark Kauffman Ministries, New Castle PA
X-ORIGINAL-URL:https://drmarkkauffman.org
X-WR-CALDESC:Events for Dr. Mark Kauffman Ministries, New Castle PA
REFRESH-INTERVAL;VALUE=DURATION:PT1H
X-Robots-Tag:noindex
X-PUBLISHED-TTL:PT1H
BEGIN:VTIMEZONE
TZID:America/New_York
BEGIN:DAYLIGHT
TZOFFSETFROM:-0500
TZOFFSETTO:-0400
TZNAME:EDT
DTSTART:20260308T070000
END:DAYLIGHT
BEGIN:STANDARD
TZOFFSETFROM:-0400
TZOFFSETTO:-0500
TZNAME:EST
DTSTART:20261101T060000
END:STANDARD
BEGIN:DAYLIGHT
TZOFFSETFROM:-0500
TZOFFSETTO:-0400
TZNAME:EDT
DTSTART:20270314T070000
END:DAYLIGHT
BEGIN:STANDARD
TZOFFSETFROM:-0400
TZOFFSETTO:-0500
TZNAME:EST
DTSTART:20271107T060000
END:STANDARD
BEGIN:DAYLIGHT
TZOFFSETFROM:-0500
TZOFFSETTO:-0400
TZNAME:EDT
DTSTART:20280312T070000
END:DAYLIGHT
BEGIN:STANDARD
TZOFFSETFROM:-0400
TZOFFSETTO:-0500
TZNAME:EST
DTSTART:20281105T060000
END:STANDARD
END:VTIMEZONE
BEGIN:VEVENT
DTSTART;TZID=America/New_York:20270717T180000
DTEND;TZID=America/New_York:20270717T183000
DTSTAMP:20260421T102638
CREATED:20240307T235306Z
LAST-MODIFIED:20240307T235306Z
UID:10002667-1815847200-1815849000@drmarkkauffman.org
SUMMARY:Apostolic Voice on Faith TV
DESCRIPTION:Watch The Apostolic Voice with Drs. Mark & Jill Kauffman on Direct TV Channel 379 at 6:00 PM every Saturday!
URL:https://drmarkkauffman.org/event/apostolic-voice-on-faith-tv/2027-07-17/
LOCATION:NC
END:VEVENT
BEGIN:VEVENT
DTSTART;TZID=America/New_York:20270718T203000
DTEND;TZID=America/New_York:20270718T210000
DTSTAMP:20260421T102638
CREATED:20220517T170018Z
LAST-MODIFIED:20240308T000015Z
UID:10002981-1815942600-1815944400@drmarkkauffman.org
SUMMARY:Apostolic Voice on Dominion TV
DESCRIPTION:Join Drs. Mark & Jill Kauffman every Sunday and Monday for the Apostolic Voice on DominionTV as they bring insight and understanding to the Word of God. \n \n\nDominion Studios and Dominion.TV are the World Wide Media Outreach ministries of Dr. Joseph & Lynette Dutton\, and Dominion Harvest Ministries\, Inc.  Broadcasting from beautiful Myrtle Beach\, SC.\n\n 
URL:https://drmarkkauffman.org/event/apostolic-voice-3/2027-07-18/
LOCATION:NC
CATEGORIES:Broadcasting
END:VEVENT
BEGIN:VEVENT
DTSTART;TZID=America/New_York:20270719T120000
DTEND;TZID=America/New_York:20270719T123000
DTSTAMP:20260421T102638
CREATED:20240307T141940Z
LAST-MODIFIED:20240307T235758Z
UID:10002824-1815998400-1816000200@drmarkkauffman.org
SUMMARY:Apostolic Voice on Dominion TV
DESCRIPTION:Join Drs. Mark & Jill Kauffman every Sunday and Monday for the Apostolic Voice on DominionTV as they bring insight and understanding to the Word of God. \n \n\nDominion Studios and Dominion.TV are the World Wide Media Outreach ministries of Dr. Joseph & Lynette Dutton\, and Dominion Harvest Ministries\, Inc.  Broadcasting from beautiful Myrtle Beach\, SC.\n\n 
URL:https://drmarkkauffman.org/event/apostolic-voice-2/2027-07-19/
LOCATION:NC
CATEGORIES:Broadcasting
END:VEVENT
BEGIN:VEVENT
DTSTART;TZID=America/New_York:20270721T153000
DTEND;TZID=America/New_York:20270721T160000
DTSTAMP:20260421T102638
CREATED:20240308T000620Z
LAST-MODIFIED:20240308T000620Z
UID:10003763-1816183800-1816185600@drmarkkauffman.org
SUMMARY:Apostolic Voice on Faith TV
DESCRIPTION:Watch The Apostolic Voice with Drs. Mark & Jill Kauffman on Direct TV Channel 379 at 3:30 PM every Wednesday!
URL:https://drmarkkauffman.org/event/apostolic-voice-on-faith-tv-2/2027-07-21/
LOCATION:NC
END:VEVENT
BEGIN:VEVENT
DTSTART;TZID=America/New_York:20270724T180000
DTEND;TZID=America/New_York:20270724T183000
DTSTAMP:20260421T102638
CREATED:20240307T235306Z
LAST-MODIFIED:20240307T235306Z
UID:10002668-1816452000-1816453800@drmarkkauffman.org
SUMMARY:Apostolic Voice on Faith TV
DESCRIPTION:Watch The Apostolic Voice with Drs. Mark & Jill Kauffman on Direct TV Channel 379 at 6:00 PM every Saturday!
URL:https://drmarkkauffman.org/event/apostolic-voice-on-faith-tv/2027-07-24/
LOCATION:NC
END:VEVENT
BEGIN:VEVENT
DTSTART;TZID=America/New_York:20270725T203000
DTEND;TZID=America/New_York:20270725T210000
DTSTAMP:20260421T102638
CREATED:20220517T170018Z
LAST-MODIFIED:20240308T000015Z
UID:10002982-1816547400-1816549200@drmarkkauffman.org
SUMMARY:Apostolic Voice on Dominion TV
DESCRIPTION:Join Drs. Mark & Jill Kauffman every Sunday and Monday for the Apostolic Voice on DominionTV as they bring insight and understanding to the Word of God. \n \n\nDominion Studios and Dominion.TV are the World Wide Media Outreach ministries of Dr. Joseph & Lynette Dutton\, and Dominion Harvest Ministries\, Inc.  Broadcasting from beautiful Myrtle Beach\, SC.\n\n 
URL:https://drmarkkauffman.org/event/apostolic-voice-3/2027-07-25/
LOCATION:NC
CATEGORIES:Broadcasting
END:VEVENT
BEGIN:VEVENT
DTSTART;TZID=America/New_York:20270726T120000
DTEND;TZID=America/New_York:20270726T123000
DTSTAMP:20260421T102638
CREATED:20240307T141940Z
LAST-MODIFIED:20240307T235758Z
UID:10002825-1816603200-1816605000@drmarkkauffman.org
SUMMARY:Apostolic Voice on Dominion TV
DESCRIPTION:Join Drs. Mark & Jill Kauffman every Sunday and Monday for the Apostolic Voice on DominionTV as they bring insight and understanding to the Word of God. \n \n\nDominion Studios and Dominion.TV are the World Wide Media Outreach ministries of Dr. Joseph & Lynette Dutton\, and Dominion Harvest Ministries\, Inc.  Broadcasting from beautiful Myrtle Beach\, SC.\n\n 
URL:https://drmarkkauffman.org/event/apostolic-voice-2/2027-07-26/
LOCATION:NC
CATEGORIES:Broadcasting
END:VEVENT
BEGIN:VEVENT
DTSTART;TZID=America/New_York:20270728T153000
DTEND;TZID=America/New_York:20270728T160000
DTSTAMP:20260421T102638
CREATED:20240308T000620Z
LAST-MODIFIED:20240308T000620Z
UID:10003764-1816788600-1816790400@drmarkkauffman.org
SUMMARY:Apostolic Voice on Faith TV
DESCRIPTION:Watch The Apostolic Voice with Drs. Mark & Jill Kauffman on Direct TV Channel 379 at 3:30 PM every Wednesday!
URL:https://drmarkkauffman.org/event/apostolic-voice-on-faith-tv-2/2027-07-28/
LOCATION:NC
END:VEVENT
BEGIN:VEVENT
DTSTART;TZID=America/New_York:20270731T180000
DTEND;TZID=America/New_York:20270731T183000
DTSTAMP:20260421T102638
CREATED:20240307T235306Z
LAST-MODIFIED:20240307T235306Z
UID:10002669-1817056800-1817058600@drmarkkauffman.org
SUMMARY:Apostolic Voice on Faith TV
DESCRIPTION:Watch The Apostolic Voice with Drs. Mark & Jill Kauffman on Direct TV Channel 379 at 6:00 PM every Saturday!
URL:https://drmarkkauffman.org/event/apostolic-voice-on-faith-tv/2027-07-31/
LOCATION:NC
END:VEVENT
BEGIN:VEVENT
DTSTART;TZID=America/New_York:20270801T203000
DTEND;TZID=America/New_York:20270801T210000
DTSTAMP:20260421T102638
CREATED:20220517T170018Z
LAST-MODIFIED:20240308T000015Z
UID:10002983-1817152200-1817154000@drmarkkauffman.org
SUMMARY:Apostolic Voice on Dominion TV
DESCRIPTION:Join Drs. Mark & Jill Kauffman every Sunday and Monday for the Apostolic Voice on DominionTV as they bring insight and understanding to the Word of God. \n \n\nDominion Studios and Dominion.TV are the World Wide Media Outreach ministries of Dr. Joseph & Lynette Dutton\, and Dominion Harvest Ministries\, Inc.  Broadcasting from beautiful Myrtle Beach\, SC.\n\n 
URL:https://drmarkkauffman.org/event/apostolic-voice-3/2027-08-01/
LOCATION:NC
CATEGORIES:Broadcasting
END:VEVENT
BEGIN:VEVENT
DTSTART;TZID=America/New_York:20270802T120000
DTEND;TZID=America/New_York:20270802T123000
DTSTAMP:20260421T102638
CREATED:20240307T141940Z
LAST-MODIFIED:20240307T235758Z
UID:10002826-1817208000-1817209800@drmarkkauffman.org
SUMMARY:Apostolic Voice on Dominion TV
DESCRIPTION:Join Drs. Mark & Jill Kauffman every Sunday and Monday for the Apostolic Voice on DominionTV as they bring insight and understanding to the Word of God. \n \n\nDominion Studios and Dominion.TV are the World Wide Media Outreach ministries of Dr. Joseph & Lynette Dutton\, and Dominion Harvest Ministries\, Inc.  Broadcasting from beautiful Myrtle Beach\, SC.\n\n 
URL:https://drmarkkauffman.org/event/apostolic-voice-2/2027-08-02/
LOCATION:NC
CATEGORIES:Broadcasting
END:VEVENT
BEGIN:VEVENT
DTSTART;TZID=America/New_York:20270804T153000
DTEND;TZID=America/New_York:20270804T160000
DTSTAMP:20260421T102638
CREATED:20240308T000620Z
LAST-MODIFIED:20240308T000620Z
UID:10003765-1817393400-1817395200@drmarkkauffman.org
SUMMARY:Apostolic Voice on Faith TV
DESCRIPTION:Watch The Apostolic Voice with Drs. Mark & Jill Kauffman on Direct TV Channel 379 at 3:30 PM every Wednesday!
URL:https://drmarkkauffman.org/event/apostolic-voice-on-faith-tv-2/2027-08-04/
LOCATION:NC
END:VEVENT
BEGIN:VEVENT
DTSTART;TZID=America/New_York:20270807T180000
DTEND;TZID=America/New_York:20270807T183000
DTSTAMP:20260421T102638
CREATED:20240307T235306Z
LAST-MODIFIED:20240307T235306Z
UID:10002670-1817661600-1817663400@drmarkkauffman.org
SUMMARY:Apostolic Voice on Faith TV
DESCRIPTION:Watch The Apostolic Voice with Drs. Mark & Jill Kauffman on Direct TV Channel 379 at 6:00 PM every Saturday!
URL:https://drmarkkauffman.org/event/apostolic-voice-on-faith-tv/2027-08-07/
LOCATION:NC
END:VEVENT
BEGIN:VEVENT
DTSTART;TZID=America/New_York:20270808T203000
DTEND;TZID=America/New_York:20270808T210000
DTSTAMP:20260421T102638
CREATED:20220517T170018Z
LAST-MODIFIED:20240308T000015Z
UID:10002984-1817757000-1817758800@drmarkkauffman.org
SUMMARY:Apostolic Voice on Dominion TV
DESCRIPTION:Join Drs. Mark & Jill Kauffman every Sunday and Monday for the Apostolic Voice on DominionTV as they bring insight and understanding to the Word of God. \n \n\nDominion Studios and Dominion.TV are the World Wide Media Outreach ministries of Dr. Joseph & Lynette Dutton\, and Dominion Harvest Ministries\, Inc.  Broadcasting from beautiful Myrtle Beach\, SC.\n\n 
URL:https://drmarkkauffman.org/event/apostolic-voice-3/2027-08-08/
LOCATION:NC
CATEGORIES:Broadcasting
END:VEVENT
BEGIN:VEVENT
DTSTART;TZID=America/New_York:20270809T120000
DTEND;TZID=America/New_York:20270809T123000
DTSTAMP:20260421T102638
CREATED:20240307T141940Z
LAST-MODIFIED:20240307T235758Z
UID:10002827-1817812800-1817814600@drmarkkauffman.org
SUMMARY:Apostolic Voice on Dominion TV
DESCRIPTION:Join Drs. Mark & Jill Kauffman every Sunday and Monday for the Apostolic Voice on DominionTV as they bring insight and understanding to the Word of God. \n \n\nDominion Studios and Dominion.TV are the World Wide Media Outreach ministries of Dr. Joseph & Lynette Dutton\, and Dominion Harvest Ministries\, Inc.  Broadcasting from beautiful Myrtle Beach\, SC.\n\n 
URL:https://drmarkkauffman.org/event/apostolic-voice-2/2027-08-09/
LOCATION:NC
CATEGORIES:Broadcasting
END:VEVENT
BEGIN:VEVENT
DTSTART;TZID=America/New_York:20270811T153000
DTEND;TZID=America/New_York:20270811T160000
DTSTAMP:20260421T102638
CREATED:20240308T000620Z
LAST-MODIFIED:20240308T000620Z
UID:10003766-1817998200-1818000000@drmarkkauffman.org
SUMMARY:Apostolic Voice on Faith TV
DESCRIPTION:Watch The Apostolic Voice with Drs. Mark & Jill Kauffman on Direct TV Channel 379 at 3:30 PM every Wednesday!
URL:https://drmarkkauffman.org/event/apostolic-voice-on-faith-tv-2/2027-08-11/
LOCATION:NC
END:VEVENT
BEGIN:VEVENT
DTSTART;TZID=America/New_York:20270814T180000
DTEND;TZID=America/New_York:20270814T183000
DTSTAMP:20260421T102638
CREATED:20240307T235306Z
LAST-MODIFIED:20240307T235306Z
UID:10002671-1818266400-1818268200@drmarkkauffman.org
SUMMARY:Apostolic Voice on Faith TV
DESCRIPTION:Watch The Apostolic Voice with Drs. Mark & Jill Kauffman on Direct TV Channel 379 at 6:00 PM every Saturday!
URL:https://drmarkkauffman.org/event/apostolic-voice-on-faith-tv/2027-08-14/
LOCATION:NC
END:VEVENT
BEGIN:VEVENT
DTSTART;TZID=America/New_York:20270815T203000
DTEND;TZID=America/New_York:20270815T210000
DTSTAMP:20260421T102638
CREATED:20220517T170018Z
LAST-MODIFIED:20240308T000015Z
UID:10002985-1818361800-1818363600@drmarkkauffman.org
SUMMARY:Apostolic Voice on Dominion TV
DESCRIPTION:Join Drs. Mark & Jill Kauffman every Sunday and Monday for the Apostolic Voice on DominionTV as they bring insight and understanding to the Word of God. \n \n\nDominion Studios and Dominion.TV are the World Wide Media Outreach ministries of Dr. Joseph & Lynette Dutton\, and Dominion Harvest Ministries\, Inc.  Broadcasting from beautiful Myrtle Beach\, SC.\n\n 
URL:https://drmarkkauffman.org/event/apostolic-voice-3/2027-08-15/
LOCATION:NC
CATEGORIES:Broadcasting
END:VEVENT
BEGIN:VEVENT
DTSTART;TZID=America/New_York:20270816T120000
DTEND;TZID=America/New_York:20270816T123000
DTSTAMP:20260421T102638
CREATED:20240307T141940Z
LAST-MODIFIED:20240307T235758Z
UID:10002828-1818417600-1818419400@drmarkkauffman.org
SUMMARY:Apostolic Voice on Dominion TV
DESCRIPTION:Join Drs. Mark & Jill Kauffman every Sunday and Monday for the Apostolic Voice on DominionTV as they bring insight and understanding to the Word of God. \n \n\nDominion Studios and Dominion.TV are the World Wide Media Outreach ministries of Dr. Joseph & Lynette Dutton\, and Dominion Harvest Ministries\, Inc.  Broadcasting from beautiful Myrtle Beach\, SC.\n\n 
URL:https://drmarkkauffman.org/event/apostolic-voice-2/2027-08-16/
LOCATION:NC
CATEGORIES:Broadcasting
END:VEVENT
BEGIN:VEVENT
DTSTART;TZID=America/New_York:20270818T153000
DTEND;TZID=America/New_York:20270818T160000
DTSTAMP:20260421T102638
CREATED:20240308T000620Z
LAST-MODIFIED:20240308T000620Z
UID:10003767-1818603000-1818604800@drmarkkauffman.org
SUMMARY:Apostolic Voice on Faith TV
DESCRIPTION:Watch The Apostolic Voice with Drs. Mark & Jill Kauffman on Direct TV Channel 379 at 3:30 PM every Wednesday!
URL:https://drmarkkauffman.org/event/apostolic-voice-on-faith-tv-2/2027-08-18/
LOCATION:NC
END:VEVENT
BEGIN:VEVENT
DTSTART;TZID=America/New_York:20270821T180000
DTEND;TZID=America/New_York:20270821T183000
DTSTAMP:20260421T102638
CREATED:20240307T235306Z
LAST-MODIFIED:20240307T235306Z
UID:10002672-1818871200-1818873000@drmarkkauffman.org
SUMMARY:Apostolic Voice on Faith TV
DESCRIPTION:Watch The Apostolic Voice with Drs. Mark & Jill Kauffman on Direct TV Channel 379 at 6:00 PM every Saturday!
URL:https://drmarkkauffman.org/event/apostolic-voice-on-faith-tv/2027-08-21/
LOCATION:NC
END:VEVENT
BEGIN:VEVENT
DTSTART;TZID=America/New_York:20270822T203000
DTEND;TZID=America/New_York:20270822T210000
DTSTAMP:20260421T102638
CREATED:20220517T170018Z
LAST-MODIFIED:20240308T000015Z
UID:10002986-1818966600-1818968400@drmarkkauffman.org
SUMMARY:Apostolic Voice on Dominion TV
DESCRIPTION:Join Drs. Mark & Jill Kauffman every Sunday and Monday for the Apostolic Voice on DominionTV as they bring insight and understanding to the Word of God. \n \n\nDominion Studios and Dominion.TV are the World Wide Media Outreach ministries of Dr. Joseph & Lynette Dutton\, and Dominion Harvest Ministries\, Inc.  Broadcasting from beautiful Myrtle Beach\, SC.\n\n 
URL:https://drmarkkauffman.org/event/apostolic-voice-3/2027-08-22/
LOCATION:NC
CATEGORIES:Broadcasting
END:VEVENT
BEGIN:VEVENT
DTSTART;TZID=America/New_York:20270823T120000
DTEND;TZID=America/New_York:20270823T123000
DTSTAMP:20260421T102638
CREATED:20240307T141940Z
LAST-MODIFIED:20240307T235758Z
UID:10002829-1819022400-1819024200@drmarkkauffman.org
SUMMARY:Apostolic Voice on Dominion TV
DESCRIPTION:Join Drs. Mark & Jill Kauffman every Sunday and Monday for the Apostolic Voice on DominionTV as they bring insight and understanding to the Word of God. \n \n\nDominion Studios and Dominion.TV are the World Wide Media Outreach ministries of Dr. Joseph & Lynette Dutton\, and Dominion Harvest Ministries\, Inc.  Broadcasting from beautiful Myrtle Beach\, SC.\n\n 
URL:https://drmarkkauffman.org/event/apostolic-voice-2/2027-08-23/
LOCATION:NC
CATEGORIES:Broadcasting
END:VEVENT
BEGIN:VEVENT
DTSTART;TZID=America/New_York:20270825T153000
DTEND;TZID=America/New_York:20270825T160000
DTSTAMP:20260421T102638
CREATED:20240308T000620Z
LAST-MODIFIED:20240308T000620Z
UID:10003768-1819207800-1819209600@drmarkkauffman.org
SUMMARY:Apostolic Voice on Faith TV
DESCRIPTION:Watch The Apostolic Voice with Drs. Mark & Jill Kauffman on Direct TV Channel 379 at 3:30 PM every Wednesday!
URL:https://drmarkkauffman.org/event/apostolic-voice-on-faith-tv-2/2027-08-25/
LOCATION:NC
END:VEVENT
BEGIN:VEVENT
DTSTART;TZID=America/New_York:20270828T180000
DTEND;TZID=America/New_York:20270828T183000
DTSTAMP:20260421T102638
CREATED:20240307T235306Z
LAST-MODIFIED:20240307T235306Z
UID:10002673-1819476000-1819477800@drmarkkauffman.org
SUMMARY:Apostolic Voice on Faith TV
DESCRIPTION:Watch The Apostolic Voice with Drs. Mark & Jill Kauffman on Direct TV Channel 379 at 6:00 PM every Saturday!
URL:https://drmarkkauffman.org/event/apostolic-voice-on-faith-tv/2027-08-28/
LOCATION:NC
END:VEVENT
BEGIN:VEVENT
DTSTART;TZID=America/New_York:20270829T203000
DTEND;TZID=America/New_York:20270829T210000
DTSTAMP:20260421T102638
CREATED:20220517T170018Z
LAST-MODIFIED:20240308T000015Z
UID:10002987-1819571400-1819573200@drmarkkauffman.org
SUMMARY:Apostolic Voice on Dominion TV
DESCRIPTION:Join Drs. Mark & Jill Kauffman every Sunday and Monday for the Apostolic Voice on DominionTV as they bring insight and understanding to the Word of God. \n \n\nDominion Studios and Dominion.TV are the World Wide Media Outreach ministries of Dr. Joseph & Lynette Dutton\, and Dominion Harvest Ministries\, Inc.  Broadcasting from beautiful Myrtle Beach\, SC.\n\n 
URL:https://drmarkkauffman.org/event/apostolic-voice-3/2027-08-29/
LOCATION:NC
CATEGORIES:Broadcasting
END:VEVENT
BEGIN:VEVENT
DTSTART;TZID=America/New_York:20270830T120000
DTEND;TZID=America/New_York:20270830T123000
DTSTAMP:20260421T102638
CREATED:20240307T141940Z
LAST-MODIFIED:20240307T235758Z
UID:10002830-1819627200-1819629000@drmarkkauffman.org
SUMMARY:Apostolic Voice on Dominion TV
DESCRIPTION:Join Drs. Mark & Jill Kauffman every Sunday and Monday for the Apostolic Voice on DominionTV as they bring insight and understanding to the Word of God. \n \n\nDominion Studios and Dominion.TV are the World Wide Media Outreach ministries of Dr. Joseph & Lynette Dutton\, and Dominion Harvest Ministries\, Inc.  Broadcasting from beautiful Myrtle Beach\, SC.\n\n 
URL:https://drmarkkauffman.org/event/apostolic-voice-2/2027-08-30/
LOCATION:NC
CATEGORIES:Broadcasting
END:VEVENT
BEGIN:VEVENT
DTSTART;TZID=America/New_York:20270901T153000
DTEND;TZID=America/New_York:20270901T160000
DTSTAMP:20260421T102638
CREATED:20240308T000620Z
LAST-MODIFIED:20240308T000620Z
UID:10003769-1819812600-1819814400@drmarkkauffman.org
SUMMARY:Apostolic Voice on Faith TV
DESCRIPTION:Watch The Apostolic Voice with Drs. Mark & Jill Kauffman on Direct TV Channel 379 at 3:30 PM every Wednesday!
URL:https://drmarkkauffman.org/event/apostolic-voice-on-faith-tv-2/2027-09-01/
LOCATION:NC
END:VEVENT
BEGIN:VEVENT
DTSTART;TZID=America/New_York:20270904T180000
DTEND;TZID=America/New_York:20270904T183000
DTSTAMP:20260421T102638
CREATED:20240307T235306Z
LAST-MODIFIED:20240307T235306Z
UID:10002674-1820080800-1820082600@drmarkkauffman.org
SUMMARY:Apostolic Voice on Faith TV
DESCRIPTION:Watch The Apostolic Voice with Drs. Mark & Jill Kauffman on Direct TV Channel 379 at 6:00 PM every Saturday!
URL:https://drmarkkauffman.org/event/apostolic-voice-on-faith-tv/2027-09-04/
LOCATION:NC
END:VEVENT
BEGIN:VEVENT
DTSTART;TZID=America/New_York:20270905T203000
DTEND;TZID=America/New_York:20270905T210000
DTSTAMP:20260421T102638
CREATED:20220517T170018Z
LAST-MODIFIED:20240308T000015Z
UID:10002988-1820176200-1820178000@drmarkkauffman.org
SUMMARY:Apostolic Voice on Dominion TV
DESCRIPTION:Join Drs. Mark & Jill Kauffman every Sunday and Monday for the Apostolic Voice on DominionTV as they bring insight and understanding to the Word of God. \n \n\nDominion Studios and Dominion.TV are the World Wide Media Outreach ministries of Dr. Joseph & Lynette Dutton\, and Dominion Harvest Ministries\, Inc.  Broadcasting from beautiful Myrtle Beach\, SC.\n\n 
URL:https://drmarkkauffman.org/event/apostolic-voice-3/2027-09-05/
LOCATION:NC
CATEGORIES:Broadcasting
END:VEVENT
END:VCALENDAR