BEGIN:VCALENDAR
VERSION:2.0
PRODID:-//Dr. Mark Kauffman Ministries, New Castle PA - ECPv6.15.19//NONSGML v1.0//EN
CALSCALE:GREGORIAN
METHOD:PUBLISH
X-ORIGINAL-URL:https://drmarkkauffman.org
X-WR-CALDESC:Events for Dr. Mark Kauffman Ministries, New Castle PA
REFRESH-INTERVAL;VALUE=DURATION:PT1H
X-Robots-Tag:noindex
X-PUBLISHED-TTL:PT1H
BEGIN:VTIMEZONE
TZID:America/New_York
BEGIN:DAYLIGHT
TZOFFSETFROM:-0500
TZOFFSETTO:-0400
TZNAME:EDT
DTSTART:20250309T070000
END:DAYLIGHT
BEGIN:STANDARD
TZOFFSETFROM:-0400
TZOFFSETTO:-0500
TZNAME:EST
DTSTART:20251102T060000
END:STANDARD
BEGIN:DAYLIGHT
TZOFFSETFROM:-0500
TZOFFSETTO:-0400
TZNAME:EDT
DTSTART:20260308T070000
END:DAYLIGHT
BEGIN:STANDARD
TZOFFSETFROM:-0400
TZOFFSETTO:-0500
TZNAME:EST
DTSTART:20261101T060000
END:STANDARD
BEGIN:DAYLIGHT
TZOFFSETFROM:-0500
TZOFFSETTO:-0400
TZNAME:EDT
DTSTART:20270314T070000
END:DAYLIGHT
BEGIN:STANDARD
TZOFFSETFROM:-0400
TZOFFSETTO:-0500
TZNAME:EST
DTSTART:20271107T060000
END:STANDARD
END:VTIMEZONE
BEGIN:VEVENT
DTSTART;TZID=America/New_York:20261005T120000
DTEND;TZID=America/New_York:20261005T123000
DTSTAMP:20260420T021620
CREATED:20240307T141940Z
LAST-MODIFIED:20240307T235758Z
UID:10002783-1791201600-1791203400@drmarkkauffman.org
SUMMARY:Apostolic Voice on Dominion TV
DESCRIPTION:Join Drs. Mark & Jill Kauffman every Sunday and Monday for the Apostolic Voice on DominionTV as they bring insight and understanding to the Word of God. \n \n\nDominion Studios and Dominion.TV are the World Wide Media Outreach ministries of Dr. Joseph & Lynette Dutton\, and Dominion Harvest Ministries\, Inc.  Broadcasting from beautiful Myrtle Beach\, SC.\n\n 
URL:https://drmarkkauffman.org/event/apostolic-voice-2/2026-10-05/
LOCATION:NC
CATEGORIES:Broadcasting
END:VEVENT
BEGIN:VEVENT
DTSTART;TZID=America/New_York:20261007T153000
DTEND;TZID=America/New_York:20261007T160000
DTSTAMP:20260420T021620
CREATED:20240308T000620Z
LAST-MODIFIED:20240308T000620Z
UID:10003722-1791387000-1791388800@drmarkkauffman.org
SUMMARY:Apostolic Voice on Faith TV
DESCRIPTION:Watch The Apostolic Voice with Drs. Mark & Jill Kauffman on Direct TV Channel 379 at 3:30 PM every Wednesday!
URL:https://drmarkkauffman.org/event/apostolic-voice-on-faith-tv-2/2026-10-07/
LOCATION:NC
END:VEVENT
BEGIN:VEVENT
DTSTART;TZID=America/New_York:20261010T180000
DTEND;TZID=America/New_York:20261010T183000
DTSTAMP:20260420T021620
CREATED:20240307T235306Z
LAST-MODIFIED:20240307T235306Z
UID:10002627-1791655200-1791657000@drmarkkauffman.org
SUMMARY:Apostolic Voice on Faith TV
DESCRIPTION:Watch The Apostolic Voice with Drs. Mark & Jill Kauffman on Direct TV Channel 379 at 6:00 PM every Saturday!
URL:https://drmarkkauffman.org/event/apostolic-voice-on-faith-tv/2026-10-10/
LOCATION:NC
END:VEVENT
BEGIN:VEVENT
DTSTART;TZID=America/New_York:20261011T203000
DTEND;TZID=America/New_York:20261011T210000
DTSTAMP:20260420T021620
CREATED:20220517T170018Z
LAST-MODIFIED:20240308T000015Z
UID:10002941-1791750600-1791752400@drmarkkauffman.org
SUMMARY:Apostolic Voice on Dominion TV
DESCRIPTION:Join Drs. Mark & Jill Kauffman every Sunday and Monday for the Apostolic Voice on DominionTV as they bring insight and understanding to the Word of God. \n \n\nDominion Studios and Dominion.TV are the World Wide Media Outreach ministries of Dr. Joseph & Lynette Dutton\, and Dominion Harvest Ministries\, Inc.  Broadcasting from beautiful Myrtle Beach\, SC.\n\n 
URL:https://drmarkkauffman.org/event/apostolic-voice-3/2026-10-11/
LOCATION:NC
CATEGORIES:Broadcasting
END:VEVENT
BEGIN:VEVENT
DTSTART;TZID=America/New_York:20261012T120000
DTEND;TZID=America/New_York:20261012T123000
DTSTAMP:20260420T021620
CREATED:20240307T141940Z
LAST-MODIFIED:20240307T235758Z
UID:10002784-1791806400-1791808200@drmarkkauffman.org
SUMMARY:Apostolic Voice on Dominion TV
DESCRIPTION:Join Drs. Mark & Jill Kauffman every Sunday and Monday for the Apostolic Voice on DominionTV as they bring insight and understanding to the Word of God. \n \n\nDominion Studios and Dominion.TV are the World Wide Media Outreach ministries of Dr. Joseph & Lynette Dutton\, and Dominion Harvest Ministries\, Inc.  Broadcasting from beautiful Myrtle Beach\, SC.\n\n 
URL:https://drmarkkauffman.org/event/apostolic-voice-2/2026-10-12/
LOCATION:NC
CATEGORIES:Broadcasting
END:VEVENT
BEGIN:VEVENT
DTSTART;TZID=America/New_York:20261014T153000
DTEND;TZID=America/New_York:20261014T160000
DTSTAMP:20260420T021620
CREATED:20240308T000620Z
LAST-MODIFIED:20240308T000620Z
UID:10003723-1791991800-1791993600@drmarkkauffman.org
SUMMARY:Apostolic Voice on Faith TV
DESCRIPTION:Watch The Apostolic Voice with Drs. Mark & Jill Kauffman on Direct TV Channel 379 at 3:30 PM every Wednesday!
URL:https://drmarkkauffman.org/event/apostolic-voice-on-faith-tv-2/2026-10-14/
LOCATION:NC
END:VEVENT
BEGIN:VEVENT
DTSTART;TZID=America/New_York:20261017T180000
DTEND;TZID=America/New_York:20261017T183000
DTSTAMP:20260420T021620
CREATED:20240307T235306Z
LAST-MODIFIED:20240307T235306Z
UID:10002628-1792260000-1792261800@drmarkkauffman.org
SUMMARY:Apostolic Voice on Faith TV
DESCRIPTION:Watch The Apostolic Voice with Drs. Mark & Jill Kauffman on Direct TV Channel 379 at 6:00 PM every Saturday!
URL:https://drmarkkauffman.org/event/apostolic-voice-on-faith-tv/2026-10-17/
LOCATION:NC
END:VEVENT
BEGIN:VEVENT
DTSTART;TZID=America/New_York:20261018T203000
DTEND;TZID=America/New_York:20261018T210000
DTSTAMP:20260420T021620
CREATED:20220517T170018Z
LAST-MODIFIED:20240308T000015Z
UID:10002942-1792355400-1792357200@drmarkkauffman.org
SUMMARY:Apostolic Voice on Dominion TV
DESCRIPTION:Join Drs. Mark & Jill Kauffman every Sunday and Monday for the Apostolic Voice on DominionTV as they bring insight and understanding to the Word of God. \n \n\nDominion Studios and Dominion.TV are the World Wide Media Outreach ministries of Dr. Joseph & Lynette Dutton\, and Dominion Harvest Ministries\, Inc.  Broadcasting from beautiful Myrtle Beach\, SC.\n\n 
URL:https://drmarkkauffman.org/event/apostolic-voice-3/2026-10-18/
LOCATION:NC
CATEGORIES:Broadcasting
END:VEVENT
BEGIN:VEVENT
DTSTART;TZID=America/New_York:20261019T120000
DTEND;TZID=America/New_York:20261019T123000
DTSTAMP:20260420T021620
CREATED:20240307T141940Z
LAST-MODIFIED:20240307T235758Z
UID:10002785-1792411200-1792413000@drmarkkauffman.org
SUMMARY:Apostolic Voice on Dominion TV
DESCRIPTION:Join Drs. Mark & Jill Kauffman every Sunday and Monday for the Apostolic Voice on DominionTV as they bring insight and understanding to the Word of God. \n \n\nDominion Studios and Dominion.TV are the World Wide Media Outreach ministries of Dr. Joseph & Lynette Dutton\, and Dominion Harvest Ministries\, Inc.  Broadcasting from beautiful Myrtle Beach\, SC.\n\n 
URL:https://drmarkkauffman.org/event/apostolic-voice-2/2026-10-19/
LOCATION:NC
CATEGORIES:Broadcasting
END:VEVENT
BEGIN:VEVENT
DTSTART;TZID=America/New_York:20261021T153000
DTEND;TZID=America/New_York:20261021T160000
DTSTAMP:20260420T021620
CREATED:20240308T000620Z
LAST-MODIFIED:20240308T000620Z
UID:10003724-1792596600-1792598400@drmarkkauffman.org
SUMMARY:Apostolic Voice on Faith TV
DESCRIPTION:Watch The Apostolic Voice with Drs. Mark & Jill Kauffman on Direct TV Channel 379 at 3:30 PM every Wednesday!
URL:https://drmarkkauffman.org/event/apostolic-voice-on-faith-tv-2/2026-10-21/
LOCATION:NC
END:VEVENT
BEGIN:VEVENT
DTSTART;TZID=America/New_York:20261024T180000
DTEND;TZID=America/New_York:20261024T183000
DTSTAMP:20260420T021620
CREATED:20240307T235306Z
LAST-MODIFIED:20240307T235306Z
UID:10002629-1792864800-1792866600@drmarkkauffman.org
SUMMARY:Apostolic Voice on Faith TV
DESCRIPTION:Watch The Apostolic Voice with Drs. Mark & Jill Kauffman on Direct TV Channel 379 at 6:00 PM every Saturday!
URL:https://drmarkkauffman.org/event/apostolic-voice-on-faith-tv/2026-10-24/
LOCATION:NC
END:VEVENT
BEGIN:VEVENT
DTSTART;TZID=America/New_York:20261025T203000
DTEND;TZID=America/New_York:20261025T210000
DTSTAMP:20260420T021620
CREATED:20220517T170018Z
LAST-MODIFIED:20240308T000015Z
UID:10002943-1792960200-1792962000@drmarkkauffman.org
SUMMARY:Apostolic Voice on Dominion TV
DESCRIPTION:Join Drs. Mark & Jill Kauffman every Sunday and Monday for the Apostolic Voice on DominionTV as they bring insight and understanding to the Word of God. \n \n\nDominion Studios and Dominion.TV are the World Wide Media Outreach ministries of Dr. Joseph & Lynette Dutton\, and Dominion Harvest Ministries\, Inc.  Broadcasting from beautiful Myrtle Beach\, SC.\n\n 
URL:https://drmarkkauffman.org/event/apostolic-voice-3/2026-10-25/
LOCATION:NC
CATEGORIES:Broadcasting
END:VEVENT
BEGIN:VEVENT
DTSTART;TZID=America/New_York:20261026T120000
DTEND;TZID=America/New_York:20261026T123000
DTSTAMP:20260420T021620
CREATED:20240307T141940Z
LAST-MODIFIED:20240307T235758Z
UID:10002786-1793016000-1793017800@drmarkkauffman.org
SUMMARY:Apostolic Voice on Dominion TV
DESCRIPTION:Join Drs. Mark & Jill Kauffman every Sunday and Monday for the Apostolic Voice on DominionTV as they bring insight and understanding to the Word of God. \n \n\nDominion Studios and Dominion.TV are the World Wide Media Outreach ministries of Dr. Joseph & Lynette Dutton\, and Dominion Harvest Ministries\, Inc.  Broadcasting from beautiful Myrtle Beach\, SC.\n\n 
URL:https://drmarkkauffman.org/event/apostolic-voice-2/2026-10-26/
LOCATION:NC
CATEGORIES:Broadcasting
END:VEVENT
BEGIN:VEVENT
DTSTART;TZID=America/New_York:20261028T153000
DTEND;TZID=America/New_York:20261028T160000
DTSTAMP:20260420T021620
CREATED:20240308T000620Z
LAST-MODIFIED:20240308T000620Z
UID:10003725-1793201400-1793203200@drmarkkauffman.org
SUMMARY:Apostolic Voice on Faith TV
DESCRIPTION:Watch The Apostolic Voice with Drs. Mark & Jill Kauffman on Direct TV Channel 379 at 3:30 PM every Wednesday!
URL:https://drmarkkauffman.org/event/apostolic-voice-on-faith-tv-2/2026-10-28/
LOCATION:NC
END:VEVENT
BEGIN:VEVENT
DTSTART;TZID=America/New_York:20261031T180000
DTEND;TZID=America/New_York:20261031T183000
DTSTAMP:20260420T021620
CREATED:20240307T235306Z
LAST-MODIFIED:20240307T235306Z
UID:10002630-1793469600-1793471400@drmarkkauffman.org
SUMMARY:Apostolic Voice on Faith TV
DESCRIPTION:Watch The Apostolic Voice with Drs. Mark & Jill Kauffman on Direct TV Channel 379 at 6:00 PM every Saturday!
URL:https://drmarkkauffman.org/event/apostolic-voice-on-faith-tv/2026-10-31/
LOCATION:NC
END:VEVENT
BEGIN:VEVENT
DTSTART;TZID=America/New_York:20261101T203000
DTEND;TZID=America/New_York:20261101T210000
DTSTAMP:20260420T021620
CREATED:20220517T170018Z
LAST-MODIFIED:20240308T000015Z
UID:10002944-1793565000-1793566800@drmarkkauffman.org
SUMMARY:Apostolic Voice on Dominion TV
DESCRIPTION:Join Drs. Mark & Jill Kauffman every Sunday and Monday for the Apostolic Voice on DominionTV as they bring insight and understanding to the Word of God. \n \n\nDominion Studios and Dominion.TV are the World Wide Media Outreach ministries of Dr. Joseph & Lynette Dutton\, and Dominion Harvest Ministries\, Inc.  Broadcasting from beautiful Myrtle Beach\, SC.\n\n 
URL:https://drmarkkauffman.org/event/apostolic-voice-3/2026-11-01/
LOCATION:NC
CATEGORIES:Broadcasting
END:VEVENT
BEGIN:VEVENT
DTSTART;TZID=America/New_York:20261102T120000
DTEND;TZID=America/New_York:20261102T123000
DTSTAMP:20260420T021620
CREATED:20240307T141940Z
LAST-MODIFIED:20240307T235758Z
UID:10002787-1793620800-1793622600@drmarkkauffman.org
SUMMARY:Apostolic Voice on Dominion TV
DESCRIPTION:Join Drs. Mark & Jill Kauffman every Sunday and Monday for the Apostolic Voice on DominionTV as they bring insight and understanding to the Word of God. \n \n\nDominion Studios and Dominion.TV are the World Wide Media Outreach ministries of Dr. Joseph & Lynette Dutton\, and Dominion Harvest Ministries\, Inc.  Broadcasting from beautiful Myrtle Beach\, SC.\n\n 
URL:https://drmarkkauffman.org/event/apostolic-voice-2/2026-11-02/
LOCATION:NC
CATEGORIES:Broadcasting
END:VEVENT
BEGIN:VEVENT
DTSTART;TZID=America/New_York:20261104T153000
DTEND;TZID=America/New_York:20261104T160000
DTSTAMP:20260420T021620
CREATED:20240308T000620Z
LAST-MODIFIED:20240308T000620Z
UID:10003726-1793806200-1793808000@drmarkkauffman.org
SUMMARY:Apostolic Voice on Faith TV
DESCRIPTION:Watch The Apostolic Voice with Drs. Mark & Jill Kauffman on Direct TV Channel 379 at 3:30 PM every Wednesday!
URL:https://drmarkkauffman.org/event/apostolic-voice-on-faith-tv-2/2026-11-04/
LOCATION:NC
END:VEVENT
BEGIN:VEVENT
DTSTART;TZID=America/New_York:20261107T180000
DTEND;TZID=America/New_York:20261107T183000
DTSTAMP:20260420T021620
CREATED:20240307T235306Z
LAST-MODIFIED:20240307T235306Z
UID:10002631-1794074400-1794076200@drmarkkauffman.org
SUMMARY:Apostolic Voice on Faith TV
DESCRIPTION:Watch The Apostolic Voice with Drs. Mark & Jill Kauffman on Direct TV Channel 379 at 6:00 PM every Saturday!
URL:https://drmarkkauffman.org/event/apostolic-voice-on-faith-tv/2026-11-07/
LOCATION:NC
END:VEVENT
BEGIN:VEVENT
DTSTART;TZID=America/New_York:20261108T203000
DTEND;TZID=America/New_York:20261108T210000
DTSTAMP:20260420T021620
CREATED:20220517T170018Z
LAST-MODIFIED:20240308T000015Z
UID:10002945-1794169800-1794171600@drmarkkauffman.org
SUMMARY:Apostolic Voice on Dominion TV
DESCRIPTION:Join Drs. Mark & Jill Kauffman every Sunday and Monday for the Apostolic Voice on DominionTV as they bring insight and understanding to the Word of God. \n \n\nDominion Studios and Dominion.TV are the World Wide Media Outreach ministries of Dr. Joseph & Lynette Dutton\, and Dominion Harvest Ministries\, Inc.  Broadcasting from beautiful Myrtle Beach\, SC.\n\n 
URL:https://drmarkkauffman.org/event/apostolic-voice-3/2026-11-08/
LOCATION:NC
CATEGORIES:Broadcasting
END:VEVENT
BEGIN:VEVENT
DTSTART;TZID=America/New_York:20261109T120000
DTEND;TZID=America/New_York:20261109T123000
DTSTAMP:20260420T021620
CREATED:20240307T141940Z
LAST-MODIFIED:20240307T235758Z
UID:10002788-1794225600-1794227400@drmarkkauffman.org
SUMMARY:Apostolic Voice on Dominion TV
DESCRIPTION:Join Drs. Mark & Jill Kauffman every Sunday and Monday for the Apostolic Voice on DominionTV as they bring insight and understanding to the Word of God. \n \n\nDominion Studios and Dominion.TV are the World Wide Media Outreach ministries of Dr. Joseph & Lynette Dutton\, and Dominion Harvest Ministries\, Inc.  Broadcasting from beautiful Myrtle Beach\, SC.\n\n 
URL:https://drmarkkauffman.org/event/apostolic-voice-2/2026-11-09/
LOCATION:NC
CATEGORIES:Broadcasting
END:VEVENT
BEGIN:VEVENT
DTSTART;TZID=America/New_York:20261111T153000
DTEND;TZID=America/New_York:20261111T160000
DTSTAMP:20260420T021620
CREATED:20240308T000620Z
LAST-MODIFIED:20240308T000620Z
UID:10003727-1794411000-1794412800@drmarkkauffman.org
SUMMARY:Apostolic Voice on Faith TV
DESCRIPTION:Watch The Apostolic Voice with Drs. Mark & Jill Kauffman on Direct TV Channel 379 at 3:30 PM every Wednesday!
URL:https://drmarkkauffman.org/event/apostolic-voice-on-faith-tv-2/2026-11-11/
LOCATION:NC
END:VEVENT
BEGIN:VEVENT
DTSTART;TZID=America/New_York:20261114T180000
DTEND;TZID=America/New_York:20261114T183000
DTSTAMP:20260420T021620
CREATED:20240307T235306Z
LAST-MODIFIED:20240307T235306Z
UID:10002632-1794679200-1794681000@drmarkkauffman.org
SUMMARY:Apostolic Voice on Faith TV
DESCRIPTION:Watch The Apostolic Voice with Drs. Mark & Jill Kauffman on Direct TV Channel 379 at 6:00 PM every Saturday!
URL:https://drmarkkauffman.org/event/apostolic-voice-on-faith-tv/2026-11-14/
LOCATION:NC
END:VEVENT
BEGIN:VEVENT
DTSTART;TZID=America/New_York:20261115T203000
DTEND;TZID=America/New_York:20261115T210000
DTSTAMP:20260420T021620
CREATED:20220517T170018Z
LAST-MODIFIED:20240308T000015Z
UID:10002946-1794774600-1794776400@drmarkkauffman.org
SUMMARY:Apostolic Voice on Dominion TV
DESCRIPTION:Join Drs. Mark & Jill Kauffman every Sunday and Monday for the Apostolic Voice on DominionTV as they bring insight and understanding to the Word of God. \n \n\nDominion Studios and Dominion.TV are the World Wide Media Outreach ministries of Dr. Joseph & Lynette Dutton\, and Dominion Harvest Ministries\, Inc.  Broadcasting from beautiful Myrtle Beach\, SC.\n\n 
URL:https://drmarkkauffman.org/event/apostolic-voice-3/2026-11-15/
LOCATION:NC
CATEGORIES:Broadcasting
END:VEVENT
BEGIN:VEVENT
DTSTART;TZID=America/New_York:20261116T120000
DTEND;TZID=America/New_York:20261116T123000
DTSTAMP:20260420T021620
CREATED:20240307T141940Z
LAST-MODIFIED:20240307T235758Z
UID:10002789-1794830400-1794832200@drmarkkauffman.org
SUMMARY:Apostolic Voice on Dominion TV
DESCRIPTION:Join Drs. Mark & Jill Kauffman every Sunday and Monday for the Apostolic Voice on DominionTV as they bring insight and understanding to the Word of God. \n \n\nDominion Studios and Dominion.TV are the World Wide Media Outreach ministries of Dr. Joseph & Lynette Dutton\, and Dominion Harvest Ministries\, Inc.  Broadcasting from beautiful Myrtle Beach\, SC.\n\n 
URL:https://drmarkkauffman.org/event/apostolic-voice-2/2026-11-16/
LOCATION:NC
CATEGORIES:Broadcasting
END:VEVENT
BEGIN:VEVENT
DTSTART;TZID=America/New_York:20261118T153000
DTEND;TZID=America/New_York:20261118T160000
DTSTAMP:20260420T021620
CREATED:20240308T000620Z
LAST-MODIFIED:20240308T000620Z
UID:10003728-1795015800-1795017600@drmarkkauffman.org
SUMMARY:Apostolic Voice on Faith TV
DESCRIPTION:Watch The Apostolic Voice with Drs. Mark & Jill Kauffman on Direct TV Channel 379 at 3:30 PM every Wednesday!
URL:https://drmarkkauffman.org/event/apostolic-voice-on-faith-tv-2/2026-11-18/
LOCATION:NC
END:VEVENT
BEGIN:VEVENT
DTSTART;TZID=America/New_York:20261121T180000
DTEND;TZID=America/New_York:20261121T183000
DTSTAMP:20260420T021620
CREATED:20240307T235306Z
LAST-MODIFIED:20240307T235306Z
UID:10002633-1795284000-1795285800@drmarkkauffman.org
SUMMARY:Apostolic Voice on Faith TV
DESCRIPTION:Watch The Apostolic Voice with Drs. Mark & Jill Kauffman on Direct TV Channel 379 at 6:00 PM every Saturday!
URL:https://drmarkkauffman.org/event/apostolic-voice-on-faith-tv/2026-11-21/
LOCATION:NC
END:VEVENT
BEGIN:VEVENT
DTSTART;TZID=America/New_York:20261122T203000
DTEND;TZID=America/New_York:20261122T210000
DTSTAMP:20260420T021620
CREATED:20220517T170018Z
LAST-MODIFIED:20240308T000015Z
UID:10002947-1795379400-1795381200@drmarkkauffman.org
SUMMARY:Apostolic Voice on Dominion TV
DESCRIPTION:Join Drs. Mark & Jill Kauffman every Sunday and Monday for the Apostolic Voice on DominionTV as they bring insight and understanding to the Word of God. \n \n\nDominion Studios and Dominion.TV are the World Wide Media Outreach ministries of Dr. Joseph & Lynette Dutton\, and Dominion Harvest Ministries\, Inc.  Broadcasting from beautiful Myrtle Beach\, SC.\n\n 
URL:https://drmarkkauffman.org/event/apostolic-voice-3/2026-11-22/
LOCATION:NC
CATEGORIES:Broadcasting
END:VEVENT
BEGIN:VEVENT
DTSTART;TZID=America/New_York:20261123T120000
DTEND;TZID=America/New_York:20261123T123000
DTSTAMP:20260420T021620
CREATED:20240307T141940Z
LAST-MODIFIED:20240307T235758Z
UID:10002790-1795435200-1795437000@drmarkkauffman.org
SUMMARY:Apostolic Voice on Dominion TV
DESCRIPTION:Join Drs. Mark & Jill Kauffman every Sunday and Monday for the Apostolic Voice on DominionTV as they bring insight and understanding to the Word of God. \n \n\nDominion Studios and Dominion.TV are the World Wide Media Outreach ministries of Dr. Joseph & Lynette Dutton\, and Dominion Harvest Ministries\, Inc.  Broadcasting from beautiful Myrtle Beach\, SC.\n\n 
URL:https://drmarkkauffman.org/event/apostolic-voice-2/2026-11-23/
LOCATION:NC
CATEGORIES:Broadcasting
END:VEVENT
BEGIN:VEVENT
DTSTART;TZID=America/New_York:20261125T153000
DTEND;TZID=America/New_York:20261125T160000
DTSTAMP:20260420T021620
CREATED:20240308T000620Z
LAST-MODIFIED:20240308T000620Z
UID:10003729-1795620600-1795622400@drmarkkauffman.org
SUMMARY:Apostolic Voice on Faith TV
DESCRIPTION:Watch The Apostolic Voice with Drs. Mark & Jill Kauffman on Direct TV Channel 379 at 3:30 PM every Wednesday!
URL:https://drmarkkauffman.org/event/apostolic-voice-on-faith-tv-2/2026-11-25/
LOCATION:NC
END:VEVENT
END:VCALENDAR