BEGIN:VCALENDAR
VERSION:2.0
PRODID:-//Dr. Mark Kauffman Ministries, New Castle PA - ECPv6.15.20//NONSGML v1.0//EN
CALSCALE:GREGORIAN
METHOD:PUBLISH
X-WR-CALNAME:Dr. Mark Kauffman Ministries, New Castle PA
X-ORIGINAL-URL:https://drmarkkauffman.org
X-WR-CALDESC:Events for Dr. Mark Kauffman Ministries, New Castle PA
REFRESH-INTERVAL;VALUE=DURATION:PT1H
X-Robots-Tag:noindex
X-PUBLISHED-TTL:PT1H
BEGIN:VTIMEZONE
TZID:America/New_York
BEGIN:DAYLIGHT
TZOFFSETFROM:-0500
TZOFFSETTO:-0400
TZNAME:EDT
DTSTART:20210314T070000
END:DAYLIGHT
BEGIN:STANDARD
TZOFFSETFROM:-0400
TZOFFSETTO:-0500
TZNAME:EST
DTSTART:20211107T060000
END:STANDARD
BEGIN:DAYLIGHT
TZOFFSETFROM:-0500
TZOFFSETTO:-0400
TZNAME:EDT
DTSTART:20220313T070000
END:DAYLIGHT
BEGIN:STANDARD
TZOFFSETFROM:-0400
TZOFFSETTO:-0500
TZNAME:EST
DTSTART:20221106T060000
END:STANDARD
BEGIN:DAYLIGHT
TZOFFSETFROM:-0500
TZOFFSETTO:-0400
TZNAME:EDT
DTSTART:20230312T070000
END:DAYLIGHT
BEGIN:STANDARD
TZOFFSETFROM:-0400
TZOFFSETTO:-0500
TZNAME:EST
DTSTART:20231105T060000
END:STANDARD
BEGIN:DAYLIGHT
TZOFFSETFROM:-0500
TZOFFSETTO:-0400
TZNAME:EDT
DTSTART:20240310T070000
END:DAYLIGHT
BEGIN:STANDARD
TZOFFSETFROM:-0400
TZOFFSETTO:-0500
TZNAME:EST
DTSTART:20241103T060000
END:STANDARD
END:VTIMEZONE
BEGIN:VTIMEZONE
TZID:UTC
BEGIN:STANDARD
TZOFFSETFROM:+0000
TZOFFSETTO:+0000
TZNAME:UTC
DTSTART:20210101T000000
END:STANDARD
END:VTIMEZONE
BEGIN:VEVENT
DTSTART;TZID=America/New_York:20230108T203000
DTEND;TZID=America/New_York:20230108T210000
DTSTAMP:20260425T100539
CREATED:20220517T170018Z
LAST-MODIFIED:20240308T000015Z
UID:10001753-1673209800-1673211600@drmarkkauffman.org
SUMMARY:Apostolic Voice on Dominion TV
DESCRIPTION:Join Drs. Mark & Jill Kauffman every Sunday and Monday for the Apostolic Voice on DominionTV as they bring insight and understanding to the Word of God. \n \n\nDominion Studios and Dominion.TV are the World Wide Media Outreach ministries of Dr. Joseph & Lynette Dutton\, and Dominion Harvest Ministries\, Inc.  Broadcasting from beautiful Myrtle Beach\, SC.\n\n 
URL:https://drmarkkauffman.org/event/apostolic-voice-3/2023-01-08/
CATEGORIES:Broadcasting
END:VEVENT
BEGIN:VEVENT
DTSTART;TZID=America/New_York:20230108T103000
DTEND;TZID=America/New_York:20230108T123000
DTSTAMP:20260425T100539
CREATED:20221116T195313Z
LAST-MODIFIED:20240308T002835Z
UID:10002173-1673173800-1673181000@drmarkkauffman.org
SUMMARY:Celebration Sunday
DESCRIPTION:
URL:https://drmarkkauffman.org/event/celebration-sunday/2023-01-08/
LOCATION:Jubilee Ministries International\, 14 East Chartes St\, New Castle\, PA\, 16102\, United States
CATEGORIES:Weekly Services
END:VEVENT
BEGIN:VEVENT
DTSTART;TZID=America/New_York:20230104T190000
DTEND;TZID=America/New_York:20230104T203000
DTSTAMP:20260425T100539
CREATED:20221116T192435Z
LAST-MODIFIED:20221116T192550Z
UID:10002433-1672858800-1672864200@drmarkkauffman.org
SUMMARY:Royal Kingdom Academy
DESCRIPTION:
URL:https://drmarkkauffman.org/event/royal-kingdom-academy-3/2023-01-04/
LOCATION:Jubilee Ministries International\, 14 East Chartes St\, New Castle\, PA\, 16102\, United States
CATEGORIES:Weekly Services
END:VEVENT
BEGIN:VEVENT
DTSTART;TZID=America/New_York:20230104T190000
DTEND;TZID=America/New_York:20230104T200000
DTSTAMP:20260425T100539
CREATED:20220518T191308Z
LAST-MODIFIED:20220518T191308Z
UID:10000034-1672858800-1672862400@drmarkkauffman.org
SUMMARY:The Royal Kingdom Academy
DESCRIPTION:Join Dr. Mark Kauffman each week for the Royal Kingdom Academy at Jubilee Ministries International City Church in New Castle\, PA.
URL:https://drmarkkauffman.org/event/the-royal-kingdom-academy/2023-01-04/
LOCATION:Jubilee Ministries International\, 14 East Chartes St\, New Castle\, PA\, 16102\, United States
CATEGORIES:Weekly Services
END:VEVENT
BEGIN:VEVENT
DTSTART;TZID=America/New_York:20230102T120000
DTEND;TZID=America/New_York:20230102T123000
DTSTAMP:20260425T100539
CREATED:20240307T141940Z
LAST-MODIFIED:20240307T235758Z
UID:10001950-1672660800-1672662600@drmarkkauffman.org
SUMMARY:Apostolic Voice on Dominion TV
DESCRIPTION:Join Drs. Mark & Jill Kauffman every Sunday and Monday for the Apostolic Voice on DominionTV as they bring insight and understanding to the Word of God. \n \n\nDominion Studios and Dominion.TV are the World Wide Media Outreach ministries of Dr. Joseph & Lynette Dutton\, and Dominion Harvest Ministries\, Inc.  Broadcasting from beautiful Myrtle Beach\, SC.\n\n 
URL:https://drmarkkauffman.org/event/apostolic-voice-2/2023-01-02/
CATEGORIES:Broadcasting
END:VEVENT
BEGIN:VEVENT
DTSTART;TZID=America/New_York:20230101T203000
DTEND;TZID=America/New_York:20230101T210000
DTSTAMP:20260425T100539
CREATED:20220517T170018Z
LAST-MODIFIED:20240308T000015Z
UID:10001752-1672605000-1672606800@drmarkkauffman.org
SUMMARY:Apostolic Voice on Dominion TV
DESCRIPTION:Join Drs. Mark & Jill Kauffman every Sunday and Monday for the Apostolic Voice on DominionTV as they bring insight and understanding to the Word of God. \n \n\nDominion Studios and Dominion.TV are the World Wide Media Outreach ministries of Dr. Joseph & Lynette Dutton\, and Dominion Harvest Ministries\, Inc.  Broadcasting from beautiful Myrtle Beach\, SC.\n\n 
URL:https://drmarkkauffman.org/event/apostolic-voice-3/2023-01-01/
CATEGORIES:Broadcasting
END:VEVENT
BEGIN:VEVENT
DTSTART;VALUE=DATE:20230101
DTEND;VALUE=DATE:20230102
DTSTAMP:20260425T100539
CREATED:20221116T195942Z
LAST-MODIFIED:20221116T195942Z
UID:10002479-1672531200-1672617599@drmarkkauffman.org
SUMMARY:Happy New Year
DESCRIPTION:
URL:https://drmarkkauffman.org/event/happy-new-year/
CATEGORIES:Holiday
END:VEVENT
BEGIN:VEVENT
DTSTART;TZID=America/New_York:20221231T203000
DTEND;TZID=America/New_York:20230101T000000
DTSTAMP:20260425T100539
CREATED:20221121T204025Z
LAST-MODIFIED:20221121T204025Z
UID:10002131-1672518600-1672531200@drmarkkauffman.org
SUMMARY:This is That 2023 - New Year's Celebration
DESCRIPTION:Join Drs. Mark & Jill Kauffman for Jubilee Ministries’ annual New Year’s Celebration. The evening kicks off with Hors D’oeuvres at 8:30 PM\, followed by Praise & Worship and a prophetic Word for 2023 by Dr. Mark! \nRegister today at: https://www.jubileeministriesint.com/event_registration.php?id=NYE_2023
URL:https://drmarkkauffman.org/event/this-is-that-2023-new-years-celebration/
LOCATION:Jubilee Ministries International\, 14 East Chartes St\, New Castle\, PA\, 16102\, United States
CATEGORIES:Holiday
END:VEVENT
BEGIN:VEVENT
DTSTART;TZID=America/New_York:20221228T190000
DTEND;TZID=America/New_York:20221228T200000
DTSTAMP:20260425T100539
CREATED:20220518T191308Z
LAST-MODIFIED:20220518T191308Z
UID:10000033-1672254000-1672257600@drmarkkauffman.org
SUMMARY:The Royal Kingdom Academy
DESCRIPTION:Join Dr. Mark Kauffman each week for the Royal Kingdom Academy at Jubilee Ministries International City Church in New Castle\, PA.
URL:https://drmarkkauffman.org/event/the-royal-kingdom-academy/2022-12-28/
LOCATION:Jubilee Ministries International\, 14 East Chartes St\, New Castle\, PA\, 16102\, United States
CATEGORIES:Weekly Services
END:VEVENT
BEGIN:VEVENT
DTSTART;TZID=America/New_York:20221226T120000
DTEND;TZID=America/New_York:20221226T123000
DTSTAMP:20260425T100539
CREATED:20240307T141940Z
LAST-MODIFIED:20240307T235758Z
UID:10001949-1672056000-1672057800@drmarkkauffman.org
SUMMARY:Apostolic Voice on Dominion TV
DESCRIPTION:Join Drs. Mark & Jill Kauffman every Sunday and Monday for the Apostolic Voice on DominionTV as they bring insight and understanding to the Word of God. \n \n\nDominion Studios and Dominion.TV are the World Wide Media Outreach ministries of Dr. Joseph & Lynette Dutton\, and Dominion Harvest Ministries\, Inc.  Broadcasting from beautiful Myrtle Beach\, SC.\n\n 
URL:https://drmarkkauffman.org/event/apostolic-voice-2/2022-12-26/
CATEGORIES:Broadcasting
END:VEVENT
BEGIN:VEVENT
DTSTART;TZID=America/New_York:20221225T203000
DTEND;TZID=America/New_York:20221225T210000
DTSTAMP:20260425T100539
CREATED:20220517T170018Z
LAST-MODIFIED:20240308T000015Z
UID:10001751-1672000200-1672002000@drmarkkauffman.org
SUMMARY:Apostolic Voice on Dominion TV
DESCRIPTION:Join Drs. Mark & Jill Kauffman every Sunday and Monday for the Apostolic Voice on DominionTV as they bring insight and understanding to the Word of God. \n \n\nDominion Studios and Dominion.TV are the World Wide Media Outreach ministries of Dr. Joseph & Lynette Dutton\, and Dominion Harvest Ministries\, Inc.  Broadcasting from beautiful Myrtle Beach\, SC.\n\n 
URL:https://drmarkkauffman.org/event/apostolic-voice-3/2022-12-25/
CATEGORIES:Broadcasting
END:VEVENT
BEGIN:VEVENT
DTSTART;VALUE=DATE:20221225
DTEND;VALUE=DATE:20221226
DTSTAMP:20260425T100539
CREATED:20221116T191408Z
LAST-MODIFIED:20221116T191408Z
UID:10002163-1671926400-1672012799@drmarkkauffman.org
SUMMARY:Merry Christmas
DESCRIPTION:
URL:https://drmarkkauffman.org/event/merry-christmas/
END:VEVENT
BEGIN:VEVENT
DTSTART;TZID=America/New_York:20221223T183000
DTEND;TZID=America/New_York:20221223T193000
DTSTAMP:20260425T100539
CREATED:20221116T200906Z
LAST-MODIFIED:20221116T200906Z
UID:10002117-1671820200-1671823800@drmarkkauffman.org
SUMMARY:Christmas Service
DESCRIPTION:
URL:https://drmarkkauffman.org/event/christmas-service/
LOCATION:Jubilee Ministries International\, 14 East Chartes St\, New Castle\, PA\, 16102\, United States
CATEGORIES:Weekly Services
END:VEVENT
BEGIN:VEVENT
DTSTART;TZID=America/New_York:20221221T190000
DTEND;TZID=America/New_York:20221221T200000
DTSTAMP:20260425T100539
CREATED:20220518T191308Z
LAST-MODIFIED:20220518T191308Z
UID:10000032-1671649200-1671652800@drmarkkauffman.org
SUMMARY:The Royal Kingdom Academy
DESCRIPTION:Join Dr. Mark Kauffman each week for the Royal Kingdom Academy at Jubilee Ministries International City Church in New Castle\, PA.
URL:https://drmarkkauffman.org/event/the-royal-kingdom-academy/2022-12-21/
LOCATION:Jubilee Ministries International\, 14 East Chartes St\, New Castle\, PA\, 16102\, United States
CATEGORIES:Weekly Services
END:VEVENT
BEGIN:VEVENT
DTSTART;TZID=America/New_York:20221219T120000
DTEND;TZID=America/New_York:20221219T123000
DTSTAMP:20260425T100539
CREATED:20240307T141940Z
LAST-MODIFIED:20240307T235758Z
UID:10001948-1671451200-1671453000@drmarkkauffman.org
SUMMARY:Apostolic Voice on Dominion TV
DESCRIPTION:Join Drs. Mark & Jill Kauffman every Sunday and Monday for the Apostolic Voice on DominionTV as they bring insight and understanding to the Word of God. \n \n\nDominion Studios and Dominion.TV are the World Wide Media Outreach ministries of Dr. Joseph & Lynette Dutton\, and Dominion Harvest Ministries\, Inc.  Broadcasting from beautiful Myrtle Beach\, SC.\n\n 
URL:https://drmarkkauffman.org/event/apostolic-voice-2/2022-12-19/
CATEGORIES:Broadcasting
END:VEVENT
BEGIN:VEVENT
DTSTART;TZID=America/New_York:20221218T203000
DTEND;TZID=America/New_York:20221218T210000
DTSTAMP:20260425T100539
CREATED:20220517T170018Z
LAST-MODIFIED:20240308T000015Z
UID:10001750-1671395400-1671397200@drmarkkauffman.org
SUMMARY:Apostolic Voice on Dominion TV
DESCRIPTION:Join Drs. Mark & Jill Kauffman every Sunday and Monday for the Apostolic Voice on DominionTV as they bring insight and understanding to the Word of God. \n \n\nDominion Studios and Dominion.TV are the World Wide Media Outreach ministries of Dr. Joseph & Lynette Dutton\, and Dominion Harvest Ministries\, Inc.  Broadcasting from beautiful Myrtle Beach\, SC.\n\n 
URL:https://drmarkkauffman.org/event/apostolic-voice-3/2022-12-18/
CATEGORIES:Broadcasting
END:VEVENT
BEGIN:VEVENT
DTSTART;TZID=America/New_York:20221218T103000
DTEND;TZID=America/New_York:20221218T123000
DTSTAMP:20260425T100539
CREATED:20221116T195313Z
LAST-MODIFIED:20240308T002835Z
UID:10002172-1671359400-1671366600@drmarkkauffman.org
SUMMARY:Celebration Sunday
DESCRIPTION:
URL:https://drmarkkauffman.org/event/celebration-sunday/2022-12-18/
LOCATION:Jubilee Ministries International\, 14 East Chartes St\, New Castle\, PA\, 16102\, United States
CATEGORIES:Weekly Services
END:VEVENT
BEGIN:VEVENT
DTSTART;TZID=America/New_York:20221214T190000
DTEND;TZID=America/New_York:20221214T210000
DTSTAMP:20260425T100539
CREATED:20221116T184707Z
LAST-MODIFIED:20221116T184707Z
UID:10002164-1671044400-1671051600@drmarkkauffman.org
SUMMARY:New Wine for a New Day
DESCRIPTION:An Elect team of Apostolic and Prophetic leaders will be assembling to release “New Wine for a NEW DAY”. \nHOSTS: Jim & Jessica Kilmartin\, Center City Church\, Altoona PA\nRich Brink\, Eastgate Ministries\, Harrisburg PA\nMark Kauffman\, Jubilee International Ministries\, New Castle PA\nJon & Mary Faus\, Reading HOP/KEY Fellowship\, Reading PA\nEva Clark\, Holy Spirit International Ministries\, New Enterprise PA\nBill Goodberlet\, KEY Fellowship\, York PA\nMichael Beatty\, KEY Fellowship\, Mechanicsburg PA\nand others are still being added!
URL:https://drmarkkauffman.org/event/new-wine-for-a-new-day/
LOCATION:Center City Church\, 1220 12th Avenue\, Altoona\, PA\, 16601\, United States
CATEGORIES:Conference
END:VEVENT
BEGIN:VEVENT
DTSTART;TZID=America/New_York:20221214T190000
DTEND;TZID=America/New_York:20221214T203000
DTSTAMP:20260425T100539
CREATED:20221116T192435Z
LAST-MODIFIED:20221116T192550Z
UID:10002432-1671044400-1671049800@drmarkkauffman.org
SUMMARY:Royal Kingdom Academy
DESCRIPTION:
URL:https://drmarkkauffman.org/event/royal-kingdom-academy-3/2022-12-14/
LOCATION:Jubilee Ministries International\, 14 East Chartes St\, New Castle\, PA\, 16102\, United States
CATEGORIES:Weekly Services
END:VEVENT
BEGIN:VEVENT
DTSTART;TZID=America/New_York:20221214T190000
DTEND;TZID=America/New_York:20221214T200000
DTSTAMP:20260425T100539
CREATED:20220518T191308Z
LAST-MODIFIED:20220518T191308Z
UID:10000031-1671044400-1671048000@drmarkkauffman.org
SUMMARY:The Royal Kingdom Academy
DESCRIPTION:Join Dr. Mark Kauffman each week for the Royal Kingdom Academy at Jubilee Ministries International City Church in New Castle\, PA.
URL:https://drmarkkauffman.org/event/the-royal-kingdom-academy/2022-12-14/
LOCATION:Jubilee Ministries International\, 14 East Chartes St\, New Castle\, PA\, 16102\, United States
CATEGORIES:Weekly Services
END:VEVENT
BEGIN:VEVENT
DTSTART;TZID=America/New_York:20221212T120000
DTEND;TZID=America/New_York:20221212T123000
DTSTAMP:20260425T100539
CREATED:20240307T141940Z
LAST-MODIFIED:20240307T235758Z
UID:10001947-1670846400-1670848200@drmarkkauffman.org
SUMMARY:Apostolic Voice on Dominion TV
DESCRIPTION:Join Drs. Mark & Jill Kauffman every Sunday and Monday for the Apostolic Voice on DominionTV as they bring insight and understanding to the Word of God. \n \n\nDominion Studios and Dominion.TV are the World Wide Media Outreach ministries of Dr. Joseph & Lynette Dutton\, and Dominion Harvest Ministries\, Inc.  Broadcasting from beautiful Myrtle Beach\, SC.\n\n 
URL:https://drmarkkauffman.org/event/apostolic-voice-2/2022-12-12/
CATEGORIES:Broadcasting
END:VEVENT
BEGIN:VEVENT
DTSTART;TZID=America/New_York:20221211T203000
DTEND;TZID=America/New_York:20221211T210000
DTSTAMP:20260425T100539
CREATED:20220517T170018Z
LAST-MODIFIED:20240308T000015Z
UID:10001749-1670790600-1670792400@drmarkkauffman.org
SUMMARY:Apostolic Voice on Dominion TV
DESCRIPTION:Join Drs. Mark & Jill Kauffman every Sunday and Monday for the Apostolic Voice on DominionTV as they bring insight and understanding to the Word of God. \n \n\nDominion Studios and Dominion.TV are the World Wide Media Outreach ministries of Dr. Joseph & Lynette Dutton\, and Dominion Harvest Ministries\, Inc.  Broadcasting from beautiful Myrtle Beach\, SC.\n\n 
URL:https://drmarkkauffman.org/event/apostolic-voice-3/2022-12-11/
CATEGORIES:Broadcasting
END:VEVENT
BEGIN:VEVENT
DTSTART;TZID=America/New_York:20221211T103000
DTEND;TZID=America/New_York:20221211T123000
DTSTAMP:20260425T100539
CREATED:20221116T195313Z
LAST-MODIFIED:20240308T002835Z
UID:10002171-1670754600-1670761800@drmarkkauffman.org
SUMMARY:Celebration Sunday
DESCRIPTION:
URL:https://drmarkkauffman.org/event/celebration-sunday/2022-12-11/
LOCATION:Jubilee Ministries International\, 14 East Chartes St\, New Castle\, PA\, 16102\, United States
CATEGORIES:Weekly Services
END:VEVENT
BEGIN:VEVENT
DTSTART;TZID=America/New_York:20221207T190000
DTEND;TZID=America/New_York:20221207T203000
DTSTAMP:20260425T100539
CREATED:20221116T192435Z
LAST-MODIFIED:20221116T192550Z
UID:10002431-1670439600-1670445000@drmarkkauffman.org
SUMMARY:Royal Kingdom Academy
DESCRIPTION:
URL:https://drmarkkauffman.org/event/royal-kingdom-academy-3/2022-12-07/
LOCATION:Jubilee Ministries International\, 14 East Chartes St\, New Castle\, PA\, 16102\, United States
CATEGORIES:Weekly Services
END:VEVENT
BEGIN:VEVENT
DTSTART;TZID=America/New_York:20221207T190000
DTEND;TZID=America/New_York:20221207T200000
DTSTAMP:20260425T100539
CREATED:20220518T191308Z
LAST-MODIFIED:20220518T191308Z
UID:10000030-1670439600-1670443200@drmarkkauffman.org
SUMMARY:The Royal Kingdom Academy
DESCRIPTION:Join Dr. Mark Kauffman each week for the Royal Kingdom Academy at Jubilee Ministries International City Church in New Castle\, PA.
URL:https://drmarkkauffman.org/event/the-royal-kingdom-academy/2022-12-07/
LOCATION:Jubilee Ministries International\, 14 East Chartes St\, New Castle\, PA\, 16102\, United States
CATEGORIES:Weekly Services
END:VEVENT
BEGIN:VEVENT
DTSTART;TZID=America/New_York:20221205T120000
DTEND;TZID=America/New_York:20221205T123000
DTSTAMP:20260425T100539
CREATED:20240307T141940Z
LAST-MODIFIED:20240307T235758Z
UID:10001946-1670241600-1670243400@drmarkkauffman.org
SUMMARY:Apostolic Voice on Dominion TV
DESCRIPTION:Join Drs. Mark & Jill Kauffman every Sunday and Monday for the Apostolic Voice on DominionTV as they bring insight and understanding to the Word of God. \n \n\nDominion Studios and Dominion.TV are the World Wide Media Outreach ministries of Dr. Joseph & Lynette Dutton\, and Dominion Harvest Ministries\, Inc.  Broadcasting from beautiful Myrtle Beach\, SC.\n\n 
URL:https://drmarkkauffman.org/event/apostolic-voice-2/2022-12-05/
CATEGORIES:Broadcasting
END:VEVENT
BEGIN:VEVENT
DTSTART;TZID=America/New_York:20221204T203000
DTEND;TZID=America/New_York:20221204T210000
DTSTAMP:20260425T100539
CREATED:20220517T170018Z
LAST-MODIFIED:20240308T000015Z
UID:10001748-1670185800-1670187600@drmarkkauffman.org
SUMMARY:Apostolic Voice on Dominion TV
DESCRIPTION:Join Drs. Mark & Jill Kauffman every Sunday and Monday for the Apostolic Voice on DominionTV as they bring insight and understanding to the Word of God. \n \n\nDominion Studios and Dominion.TV are the World Wide Media Outreach ministries of Dr. Joseph & Lynette Dutton\, and Dominion Harvest Ministries\, Inc.  Broadcasting from beautiful Myrtle Beach\, SC.\n\n 
URL:https://drmarkkauffman.org/event/apostolic-voice-3/2022-12-04/
CATEGORIES:Broadcasting
END:VEVENT
BEGIN:VEVENT
DTSTART;TZID=America/New_York:20221204T103000
DTEND;TZID=America/New_York:20221204T123000
DTSTAMP:20260425T100539
CREATED:20221116T195313Z
LAST-MODIFIED:20240308T002835Z
UID:10002170-1670149800-1670157000@drmarkkauffman.org
SUMMARY:Celebration Sunday
DESCRIPTION:
URL:https://drmarkkauffman.org/event/celebration-sunday/2022-12-04/
LOCATION:Jubilee Ministries International\, 14 East Chartes St\, New Castle\, PA\, 16102\, United States
CATEGORIES:Weekly Services
END:VEVENT
BEGIN:VEVENT
DTSTART;TZID=America/New_York:20221130T190000
DTEND;TZID=America/New_York:20221130T203000
DTSTAMP:20260425T100539
CREATED:20221116T192435Z
LAST-MODIFIED:20221116T192550Z
UID:10002430-1669834800-1669840200@drmarkkauffman.org
SUMMARY:Royal Kingdom Academy
DESCRIPTION:
URL:https://drmarkkauffman.org/event/royal-kingdom-academy-3/2022-11-30/
LOCATION:Jubilee Ministries International\, 14 East Chartes St\, New Castle\, PA\, 16102\, United States
CATEGORIES:Weekly Services
END:VEVENT
BEGIN:VEVENT
DTSTART;TZID=America/New_York:20221130T190000
DTEND;TZID=America/New_York:20221130T200000
DTSTAMP:20260425T100539
CREATED:20220518T191308Z
LAST-MODIFIED:20220518T191308Z
UID:10000029-1669834800-1669838400@drmarkkauffman.org
SUMMARY:The Royal Kingdom Academy
DESCRIPTION:Join Dr. Mark Kauffman each week for the Royal Kingdom Academy at Jubilee Ministries International City Church in New Castle\, PA.
URL:https://drmarkkauffman.org/event/the-royal-kingdom-academy/2022-11-30/
LOCATION:Jubilee Ministries International\, 14 East Chartes St\, New Castle\, PA\, 16102\, United States
CATEGORIES:Weekly Services
END:VEVENT
END:VCALENDAR