BEGIN:VCALENDAR
VERSION:2.0
PRODID:-//Dr. Mark Kauffman Ministries, New Castle PA - ECPv6.15.20//NONSGML v1.0//EN
CALSCALE:GREGORIAN
METHOD:PUBLISH
X-ORIGINAL-URL:https://drmarkkauffman.org
X-WR-CALDESC:Events for Dr. Mark Kauffman Ministries, New Castle PA
REFRESH-INTERVAL;VALUE=DURATION:PT1H
X-Robots-Tag:noindex
X-PUBLISHED-TTL:PT1H
BEGIN:VTIMEZONE
TZID:America/New_York
BEGIN:DAYLIGHT
TZOFFSETFROM:-0500
TZOFFSETTO:-0400
TZNAME:EDT
DTSTART:20270314T070000
END:DAYLIGHT
BEGIN:STANDARD
TZOFFSETFROM:-0400
TZOFFSETTO:-0500
TZNAME:EST
DTSTART:20271107T060000
END:STANDARD
BEGIN:DAYLIGHT
TZOFFSETFROM:-0500
TZOFFSETTO:-0400
TZNAME:EDT
DTSTART:20280312T070000
END:DAYLIGHT
BEGIN:STANDARD
TZOFFSETFROM:-0400
TZOFFSETTO:-0500
TZNAME:EST
DTSTART:20281105T060000
END:STANDARD
BEGIN:DAYLIGHT
TZOFFSETFROM:-0500
TZOFFSETTO:-0400
TZNAME:EDT
DTSTART:20290311T070000
END:DAYLIGHT
BEGIN:STANDARD
TZOFFSETFROM:-0400
TZOFFSETTO:-0500
TZNAME:EST
DTSTART:20291104T060000
END:STANDARD
END:VTIMEZONE
BEGIN:VEVENT
DTSTART;TZID=America/New_York:20280802T153000
DTEND;TZID=America/New_York:20280802T160000
DTSTAMP:20260422T180102
CREATED:20240308T000620Z
LAST-MODIFIED:20240308T000620Z
UID:10003817-1848843000-1848844800@drmarkkauffman.org
SUMMARY:Apostolic Voice on Faith TV
DESCRIPTION:Watch The Apostolic Voice with Drs. Mark & Jill Kauffman on Direct TV Channel 379 at 3:30 PM every Wednesday!
URL:https://drmarkkauffman.org/event/apostolic-voice-on-faith-tv-2/2028-08-02/
END:VEVENT
BEGIN:VEVENT
DTSTART;TZID=America/New_York:20280805T180000
DTEND;TZID=America/New_York:20280805T183000
DTSTAMP:20260422T180102
CREATED:20240307T235306Z
LAST-MODIFIED:20240307T235306Z
UID:10002722-1849111200-1849113000@drmarkkauffman.org
SUMMARY:Apostolic Voice on Faith TV
DESCRIPTION:Watch The Apostolic Voice with Drs. Mark & Jill Kauffman on Direct TV Channel 379 at 6:00 PM every Saturday!
URL:https://drmarkkauffman.org/event/apostolic-voice-on-faith-tv/2028-08-05/
END:VEVENT
BEGIN:VEVENT
DTSTART;TZID=America/New_York:20280806T203000
DTEND;TZID=America/New_York:20280806T210000
DTSTAMP:20260422T180102
CREATED:20220517T170018Z
LAST-MODIFIED:20240308T000015Z
UID:10003036-1849206600-1849208400@drmarkkauffman.org
SUMMARY:Apostolic Voice on Dominion TV
DESCRIPTION:Join Drs. Mark & Jill Kauffman every Sunday and Monday for the Apostolic Voice on DominionTV as they bring insight and understanding to the Word of God. \n \n\nDominion Studios and Dominion.TV are the World Wide Media Outreach ministries of Dr. Joseph & Lynette Dutton\, and Dominion Harvest Ministries\, Inc.  Broadcasting from beautiful Myrtle Beach\, SC.\n\n 
URL:https://drmarkkauffman.org/event/apostolic-voice-3/2028-08-06/
CATEGORIES:Broadcasting
END:VEVENT
BEGIN:VEVENT
DTSTART;TZID=America/New_York:20280807T120000
DTEND;TZID=America/New_York:20280807T123000
DTSTAMP:20260422T180102
CREATED:20240307T141940Z
LAST-MODIFIED:20240307T235758Z
UID:10002879-1849262400-1849264200@drmarkkauffman.org
SUMMARY:Apostolic Voice on Dominion TV
DESCRIPTION:Join Drs. Mark & Jill Kauffman every Sunday and Monday for the Apostolic Voice on DominionTV as they bring insight and understanding to the Word of God. \n \n\nDominion Studios and Dominion.TV are the World Wide Media Outreach ministries of Dr. Joseph & Lynette Dutton\, and Dominion Harvest Ministries\, Inc.  Broadcasting from beautiful Myrtle Beach\, SC.\n\n 
URL:https://drmarkkauffman.org/event/apostolic-voice-2/2028-08-07/
CATEGORIES:Broadcasting
END:VEVENT
BEGIN:VEVENT
DTSTART;TZID=America/New_York:20280809T153000
DTEND;TZID=America/New_York:20280809T160000
DTSTAMP:20260422T180102
CREATED:20240308T000620Z
LAST-MODIFIED:20240308T000620Z
UID:10003818-1849447800-1849449600@drmarkkauffman.org
SUMMARY:Apostolic Voice on Faith TV
DESCRIPTION:Watch The Apostolic Voice with Drs. Mark & Jill Kauffman on Direct TV Channel 379 at 3:30 PM every Wednesday!
URL:https://drmarkkauffman.org/event/apostolic-voice-on-faith-tv-2/2028-08-09/
END:VEVENT
BEGIN:VEVENT
DTSTART;TZID=America/New_York:20280812T180000
DTEND;TZID=America/New_York:20280812T183000
DTSTAMP:20260422T180102
CREATED:20240307T235306Z
LAST-MODIFIED:20240307T235306Z
UID:10002723-1849716000-1849717800@drmarkkauffman.org
SUMMARY:Apostolic Voice on Faith TV
DESCRIPTION:Watch The Apostolic Voice with Drs. Mark & Jill Kauffman on Direct TV Channel 379 at 6:00 PM every Saturday!
URL:https://drmarkkauffman.org/event/apostolic-voice-on-faith-tv/2028-08-12/
END:VEVENT
BEGIN:VEVENT
DTSTART;TZID=America/New_York:20280813T203000
DTEND;TZID=America/New_York:20280813T210000
DTSTAMP:20260422T180102
CREATED:20220517T170018Z
LAST-MODIFIED:20240308T000015Z
UID:10003037-1849811400-1849813200@drmarkkauffman.org
SUMMARY:Apostolic Voice on Dominion TV
DESCRIPTION:Join Drs. Mark & Jill Kauffman every Sunday and Monday for the Apostolic Voice on DominionTV as they bring insight and understanding to the Word of God. \n \n\nDominion Studios and Dominion.TV are the World Wide Media Outreach ministries of Dr. Joseph & Lynette Dutton\, and Dominion Harvest Ministries\, Inc.  Broadcasting from beautiful Myrtle Beach\, SC.\n\n 
URL:https://drmarkkauffman.org/event/apostolic-voice-3/2028-08-13/
CATEGORIES:Broadcasting
END:VEVENT
BEGIN:VEVENT
DTSTART;TZID=America/New_York:20280814T120000
DTEND;TZID=America/New_York:20280814T123000
DTSTAMP:20260422T180102
CREATED:20240307T141940Z
LAST-MODIFIED:20240307T235758Z
UID:10002880-1849867200-1849869000@drmarkkauffman.org
SUMMARY:Apostolic Voice on Dominion TV
DESCRIPTION:Join Drs. Mark & Jill Kauffman every Sunday and Monday for the Apostolic Voice on DominionTV as they bring insight and understanding to the Word of God. \n \n\nDominion Studios and Dominion.TV are the World Wide Media Outreach ministries of Dr. Joseph & Lynette Dutton\, and Dominion Harvest Ministries\, Inc.  Broadcasting from beautiful Myrtle Beach\, SC.\n\n 
URL:https://drmarkkauffman.org/event/apostolic-voice-2/2028-08-14/
CATEGORIES:Broadcasting
END:VEVENT
BEGIN:VEVENT
DTSTART;TZID=America/New_York:20280816T153000
DTEND;TZID=America/New_York:20280816T160000
DTSTAMP:20260422T180102
CREATED:20240308T000620Z
LAST-MODIFIED:20240308T000620Z
UID:10003819-1850052600-1850054400@drmarkkauffman.org
SUMMARY:Apostolic Voice on Faith TV
DESCRIPTION:Watch The Apostolic Voice with Drs. Mark & Jill Kauffman on Direct TV Channel 379 at 3:30 PM every Wednesday!
URL:https://drmarkkauffman.org/event/apostolic-voice-on-faith-tv-2/2028-08-16/
END:VEVENT
BEGIN:VEVENT
DTSTART;TZID=America/New_York:20280819T180000
DTEND;TZID=America/New_York:20280819T183000
DTSTAMP:20260422T180102
CREATED:20240307T235306Z
LAST-MODIFIED:20240307T235306Z
UID:10002724-1850320800-1850322600@drmarkkauffman.org
SUMMARY:Apostolic Voice on Faith TV
DESCRIPTION:Watch The Apostolic Voice with Drs. Mark & Jill Kauffman on Direct TV Channel 379 at 6:00 PM every Saturday!
URL:https://drmarkkauffman.org/event/apostolic-voice-on-faith-tv/2028-08-19/
END:VEVENT
BEGIN:VEVENT
DTSTART;TZID=America/New_York:20280820T203000
DTEND;TZID=America/New_York:20280820T210000
DTSTAMP:20260422T180102
CREATED:20220517T170018Z
LAST-MODIFIED:20240308T000015Z
UID:10003038-1850416200-1850418000@drmarkkauffman.org
SUMMARY:Apostolic Voice on Dominion TV
DESCRIPTION:Join Drs. Mark & Jill Kauffman every Sunday and Monday for the Apostolic Voice on DominionTV as they bring insight and understanding to the Word of God. \n \n\nDominion Studios and Dominion.TV are the World Wide Media Outreach ministries of Dr. Joseph & Lynette Dutton\, and Dominion Harvest Ministries\, Inc.  Broadcasting from beautiful Myrtle Beach\, SC.\n\n 
URL:https://drmarkkauffman.org/event/apostolic-voice-3/2028-08-20/
CATEGORIES:Broadcasting
END:VEVENT
BEGIN:VEVENT
DTSTART;TZID=America/New_York:20280821T120000
DTEND;TZID=America/New_York:20280821T123000
DTSTAMP:20260422T180102
CREATED:20240307T141940Z
LAST-MODIFIED:20240307T235758Z
UID:10002881-1850472000-1850473800@drmarkkauffman.org
SUMMARY:Apostolic Voice on Dominion TV
DESCRIPTION:Join Drs. Mark & Jill Kauffman every Sunday and Monday for the Apostolic Voice on DominionTV as they bring insight and understanding to the Word of God. \n \n\nDominion Studios and Dominion.TV are the World Wide Media Outreach ministries of Dr. Joseph & Lynette Dutton\, and Dominion Harvest Ministries\, Inc.  Broadcasting from beautiful Myrtle Beach\, SC.\n\n 
URL:https://drmarkkauffman.org/event/apostolic-voice-2/2028-08-21/
CATEGORIES:Broadcasting
END:VEVENT
BEGIN:VEVENT
DTSTART;TZID=America/New_York:20280823T153000
DTEND;TZID=America/New_York:20280823T160000
DTSTAMP:20260422T180102
CREATED:20240308T000620Z
LAST-MODIFIED:20240308T000620Z
UID:10003820-1850657400-1850659200@drmarkkauffman.org
SUMMARY:Apostolic Voice on Faith TV
DESCRIPTION:Watch The Apostolic Voice with Drs. Mark & Jill Kauffman on Direct TV Channel 379 at 3:30 PM every Wednesday!
URL:https://drmarkkauffman.org/event/apostolic-voice-on-faith-tv-2/2028-08-23/
END:VEVENT
BEGIN:VEVENT
DTSTART;TZID=America/New_York:20280826T180000
DTEND;TZID=America/New_York:20280826T183000
DTSTAMP:20260422T180102
CREATED:20240307T235306Z
LAST-MODIFIED:20240307T235306Z
UID:10002725-1850925600-1850927400@drmarkkauffman.org
SUMMARY:Apostolic Voice on Faith TV
DESCRIPTION:Watch The Apostolic Voice with Drs. Mark & Jill Kauffman on Direct TV Channel 379 at 6:00 PM every Saturday!
URL:https://drmarkkauffman.org/event/apostolic-voice-on-faith-tv/2028-08-26/
END:VEVENT
BEGIN:VEVENT
DTSTART;TZID=America/New_York:20280827T203000
DTEND;TZID=America/New_York:20280827T210000
DTSTAMP:20260422T180102
CREATED:20220517T170018Z
LAST-MODIFIED:20240308T000015Z
UID:10003039-1851021000-1851022800@drmarkkauffman.org
SUMMARY:Apostolic Voice on Dominion TV
DESCRIPTION:Join Drs. Mark & Jill Kauffman every Sunday and Monday for the Apostolic Voice on DominionTV as they bring insight and understanding to the Word of God. \n \n\nDominion Studios and Dominion.TV are the World Wide Media Outreach ministries of Dr. Joseph & Lynette Dutton\, and Dominion Harvest Ministries\, Inc.  Broadcasting from beautiful Myrtle Beach\, SC.\n\n 
URL:https://drmarkkauffman.org/event/apostolic-voice-3/2028-08-27/
CATEGORIES:Broadcasting
END:VEVENT
BEGIN:VEVENT
DTSTART;TZID=America/New_York:20280828T120000
DTEND;TZID=America/New_York:20280828T123000
DTSTAMP:20260422T180102
CREATED:20240307T141940Z
LAST-MODIFIED:20240307T235758Z
UID:10002882-1851076800-1851078600@drmarkkauffman.org
SUMMARY:Apostolic Voice on Dominion TV
DESCRIPTION:Join Drs. Mark & Jill Kauffman every Sunday and Monday for the Apostolic Voice on DominionTV as they bring insight and understanding to the Word of God. \n \n\nDominion Studios and Dominion.TV are the World Wide Media Outreach ministries of Dr. Joseph & Lynette Dutton\, and Dominion Harvest Ministries\, Inc.  Broadcasting from beautiful Myrtle Beach\, SC.\n\n 
URL:https://drmarkkauffman.org/event/apostolic-voice-2/2028-08-28/
CATEGORIES:Broadcasting
END:VEVENT
BEGIN:VEVENT
DTSTART;TZID=America/New_York:20280830T153000
DTEND;TZID=America/New_York:20280830T160000
DTSTAMP:20260422T180102
CREATED:20240308T000620Z
LAST-MODIFIED:20240308T000620Z
UID:10003821-1851262200-1851264000@drmarkkauffman.org
SUMMARY:Apostolic Voice on Faith TV
DESCRIPTION:Watch The Apostolic Voice with Drs. Mark & Jill Kauffman on Direct TV Channel 379 at 3:30 PM every Wednesday!
URL:https://drmarkkauffman.org/event/apostolic-voice-on-faith-tv-2/2028-08-30/
END:VEVENT
BEGIN:VEVENT
DTSTART;TZID=America/New_York:20280902T180000
DTEND;TZID=America/New_York:20280902T183000
DTSTAMP:20260422T180102
CREATED:20240307T235306Z
LAST-MODIFIED:20240307T235306Z
UID:10002726-1851530400-1851532200@drmarkkauffman.org
SUMMARY:Apostolic Voice on Faith TV
DESCRIPTION:Watch The Apostolic Voice with Drs. Mark & Jill Kauffman on Direct TV Channel 379 at 6:00 PM every Saturday!
URL:https://drmarkkauffman.org/event/apostolic-voice-on-faith-tv/2028-09-02/
END:VEVENT
BEGIN:VEVENT
DTSTART;TZID=America/New_York:20280903T203000
DTEND;TZID=America/New_York:20280903T210000
DTSTAMP:20260422T180102
CREATED:20220517T170018Z
LAST-MODIFIED:20240308T000015Z
UID:10003040-1851625800-1851627600@drmarkkauffman.org
SUMMARY:Apostolic Voice on Dominion TV
DESCRIPTION:Join Drs. Mark & Jill Kauffman every Sunday and Monday for the Apostolic Voice on DominionTV as they bring insight and understanding to the Word of God. \n \n\nDominion Studios and Dominion.TV are the World Wide Media Outreach ministries of Dr. Joseph & Lynette Dutton\, and Dominion Harvest Ministries\, Inc.  Broadcasting from beautiful Myrtle Beach\, SC.\n\n 
URL:https://drmarkkauffman.org/event/apostolic-voice-3/2028-09-03/
CATEGORIES:Broadcasting
END:VEVENT
BEGIN:VEVENT
DTSTART;TZID=America/New_York:20280904T120000
DTEND;TZID=America/New_York:20280904T123000
DTSTAMP:20260422T180102
CREATED:20240307T141940Z
LAST-MODIFIED:20240307T235758Z
UID:10002883-1851681600-1851683400@drmarkkauffman.org
SUMMARY:Apostolic Voice on Dominion TV
DESCRIPTION:Join Drs. Mark & Jill Kauffman every Sunday and Monday for the Apostolic Voice on DominionTV as they bring insight and understanding to the Word of God. \n \n\nDominion Studios and Dominion.TV are the World Wide Media Outreach ministries of Dr. Joseph & Lynette Dutton\, and Dominion Harvest Ministries\, Inc.  Broadcasting from beautiful Myrtle Beach\, SC.\n\n 
URL:https://drmarkkauffman.org/event/apostolic-voice-2/2028-09-04/
CATEGORIES:Broadcasting
END:VEVENT
BEGIN:VEVENT
DTSTART;TZID=America/New_York:20280906T153000
DTEND;TZID=America/New_York:20280906T160000
DTSTAMP:20260422T180102
CREATED:20240308T000620Z
LAST-MODIFIED:20240308T000620Z
UID:10003822-1851867000-1851868800@drmarkkauffman.org
SUMMARY:Apostolic Voice on Faith TV
DESCRIPTION:Watch The Apostolic Voice with Drs. Mark & Jill Kauffman on Direct TV Channel 379 at 3:30 PM every Wednesday!
URL:https://drmarkkauffman.org/event/apostolic-voice-on-faith-tv-2/2028-09-06/
END:VEVENT
BEGIN:VEVENT
DTSTART;TZID=America/New_York:20280909T180000
DTEND;TZID=America/New_York:20280909T183000
DTSTAMP:20260422T180102
CREATED:20240307T235306Z
LAST-MODIFIED:20240307T235306Z
UID:10002727-1852135200-1852137000@drmarkkauffman.org
SUMMARY:Apostolic Voice on Faith TV
DESCRIPTION:Watch The Apostolic Voice with Drs. Mark & Jill Kauffman on Direct TV Channel 379 at 6:00 PM every Saturday!
URL:https://drmarkkauffman.org/event/apostolic-voice-on-faith-tv/2028-09-09/
END:VEVENT
BEGIN:VEVENT
DTSTART;TZID=America/New_York:20280910T203000
DTEND;TZID=America/New_York:20280910T210000
DTSTAMP:20260422T180102
CREATED:20220517T170018Z
LAST-MODIFIED:20240308T000015Z
UID:10003041-1852230600-1852232400@drmarkkauffman.org
SUMMARY:Apostolic Voice on Dominion TV
DESCRIPTION:Join Drs. Mark & Jill Kauffman every Sunday and Monday for the Apostolic Voice on DominionTV as they bring insight and understanding to the Word of God. \n \n\nDominion Studios and Dominion.TV are the World Wide Media Outreach ministries of Dr. Joseph & Lynette Dutton\, and Dominion Harvest Ministries\, Inc.  Broadcasting from beautiful Myrtle Beach\, SC.\n\n 
URL:https://drmarkkauffman.org/event/apostolic-voice-3/2028-09-10/
CATEGORIES:Broadcasting
END:VEVENT
BEGIN:VEVENT
DTSTART;TZID=America/New_York:20280911T120000
DTEND;TZID=America/New_York:20280911T123000
DTSTAMP:20260422T180102
CREATED:20240307T141940Z
LAST-MODIFIED:20240307T235758Z
UID:10002884-1852286400-1852288200@drmarkkauffman.org
SUMMARY:Apostolic Voice on Dominion TV
DESCRIPTION:Join Drs. Mark & Jill Kauffman every Sunday and Monday for the Apostolic Voice on DominionTV as they bring insight and understanding to the Word of God. \n \n\nDominion Studios and Dominion.TV are the World Wide Media Outreach ministries of Dr. Joseph & Lynette Dutton\, and Dominion Harvest Ministries\, Inc.  Broadcasting from beautiful Myrtle Beach\, SC.\n\n 
URL:https://drmarkkauffman.org/event/apostolic-voice-2/2028-09-11/
CATEGORIES:Broadcasting
END:VEVENT
BEGIN:VEVENT
DTSTART;TZID=America/New_York:20280913T153000
DTEND;TZID=America/New_York:20280913T160000
DTSTAMP:20260422T180102
CREATED:20240308T000620Z
LAST-MODIFIED:20240308T000620Z
UID:10003823-1852471800-1852473600@drmarkkauffman.org
SUMMARY:Apostolic Voice on Faith TV
DESCRIPTION:Watch The Apostolic Voice with Drs. Mark & Jill Kauffman on Direct TV Channel 379 at 3:30 PM every Wednesday!
URL:https://drmarkkauffman.org/event/apostolic-voice-on-faith-tv-2/2028-09-13/
END:VEVENT
BEGIN:VEVENT
DTSTART;TZID=America/New_York:20280916T180000
DTEND;TZID=America/New_York:20280916T183000
DTSTAMP:20260422T180102
CREATED:20240307T235306Z
LAST-MODIFIED:20240307T235306Z
UID:10002728-1852740000-1852741800@drmarkkauffman.org
SUMMARY:Apostolic Voice on Faith TV
DESCRIPTION:Watch The Apostolic Voice with Drs. Mark & Jill Kauffman on Direct TV Channel 379 at 6:00 PM every Saturday!
URL:https://drmarkkauffman.org/event/apostolic-voice-on-faith-tv/2028-09-16/
END:VEVENT
BEGIN:VEVENT
DTSTART;TZID=America/New_York:20280917T203000
DTEND;TZID=America/New_York:20280917T210000
DTSTAMP:20260422T180102
CREATED:20220517T170018Z
LAST-MODIFIED:20240308T000015Z
UID:10003042-1852835400-1852837200@drmarkkauffman.org
SUMMARY:Apostolic Voice on Dominion TV
DESCRIPTION:Join Drs. Mark & Jill Kauffman every Sunday and Monday for the Apostolic Voice on DominionTV as they bring insight and understanding to the Word of God. \n \n\nDominion Studios and Dominion.TV are the World Wide Media Outreach ministries of Dr. Joseph & Lynette Dutton\, and Dominion Harvest Ministries\, Inc.  Broadcasting from beautiful Myrtle Beach\, SC.\n\n 
URL:https://drmarkkauffman.org/event/apostolic-voice-3/2028-09-17/
CATEGORIES:Broadcasting
END:VEVENT
BEGIN:VEVENT
DTSTART;TZID=America/New_York:20280918T120000
DTEND;TZID=America/New_York:20280918T123000
DTSTAMP:20260422T180102
CREATED:20240307T141940Z
LAST-MODIFIED:20240307T235758Z
UID:10002885-1852891200-1852893000@drmarkkauffman.org
SUMMARY:Apostolic Voice on Dominion TV
DESCRIPTION:Join Drs. Mark & Jill Kauffman every Sunday and Monday for the Apostolic Voice on DominionTV as they bring insight and understanding to the Word of God. \n \n\nDominion Studios and Dominion.TV are the World Wide Media Outreach ministries of Dr. Joseph & Lynette Dutton\, and Dominion Harvest Ministries\, Inc.  Broadcasting from beautiful Myrtle Beach\, SC.\n\n 
URL:https://drmarkkauffman.org/event/apostolic-voice-2/2028-09-18/
CATEGORIES:Broadcasting
END:VEVENT
BEGIN:VEVENT
DTSTART;TZID=America/New_York:20280920T153000
DTEND;TZID=America/New_York:20280920T160000
DTSTAMP:20260422T180102
CREATED:20240308T000620Z
LAST-MODIFIED:20240308T000620Z
UID:10003824-1853076600-1853078400@drmarkkauffman.org
SUMMARY:Apostolic Voice on Faith TV
DESCRIPTION:Watch The Apostolic Voice with Drs. Mark & Jill Kauffman on Direct TV Channel 379 at 3:30 PM every Wednesday!
URL:https://drmarkkauffman.org/event/apostolic-voice-on-faith-tv-2/2028-09-20/
END:VEVENT
BEGIN:VEVENT
DTSTART;TZID=America/New_York:20280923T180000
DTEND;TZID=America/New_York:20280923T183000
DTSTAMP:20260422T180102
CREATED:20240307T235306Z
LAST-MODIFIED:20240307T235306Z
UID:10002729-1853344800-1853346600@drmarkkauffman.org
SUMMARY:Apostolic Voice on Faith TV
DESCRIPTION:Watch The Apostolic Voice with Drs. Mark & Jill Kauffman on Direct TV Channel 379 at 6:00 PM every Saturday!
URL:https://drmarkkauffman.org/event/apostolic-voice-on-faith-tv/2028-09-23/
END:VEVENT
END:VCALENDAR