BEGIN:VCALENDAR
VERSION:2.0
PRODID:-//Dr. Mark Kauffman Ministries, New Castle PA - ECPv6.15.20//NONSGML v1.0//EN
CALSCALE:GREGORIAN
METHOD:PUBLISH
X-WR-CALNAME:Dr. Mark Kauffman Ministries, New Castle PA
X-ORIGINAL-URL:https://drmarkkauffman.org
X-WR-CALDESC:Events for Dr. Mark Kauffman Ministries, New Castle PA
REFRESH-INTERVAL;VALUE=DURATION:PT1H
X-Robots-Tag:noindex
X-PUBLISHED-TTL:PT1H
BEGIN:VTIMEZONE
TZID:America/New_York
BEGIN:DAYLIGHT
TZOFFSETFROM:-0500
TZOFFSETTO:-0400
TZNAME:EDT
DTSTART:20210314T070000
END:DAYLIGHT
BEGIN:STANDARD
TZOFFSETFROM:-0400
TZOFFSETTO:-0500
TZNAME:EST
DTSTART:20211107T060000
END:STANDARD
BEGIN:DAYLIGHT
TZOFFSETFROM:-0500
TZOFFSETTO:-0400
TZNAME:EDT
DTSTART:20220313T070000
END:DAYLIGHT
BEGIN:STANDARD
TZOFFSETFROM:-0400
TZOFFSETTO:-0500
TZNAME:EST
DTSTART:20221106T060000
END:STANDARD
BEGIN:DAYLIGHT
TZOFFSETFROM:-0500
TZOFFSETTO:-0400
TZNAME:EDT
DTSTART:20230312T070000
END:DAYLIGHT
BEGIN:STANDARD
TZOFFSETFROM:-0400
TZOFFSETTO:-0500
TZNAME:EST
DTSTART:20231105T060000
END:STANDARD
END:VTIMEZONE
BEGIN:VTIMEZONE
TZID:UTC
BEGIN:STANDARD
TZOFFSETFROM:+0000
TZOFFSETTO:+0000
TZNAME:UTC
DTSTART:20210101T000000
END:STANDARD
END:VTIMEZONE
BEGIN:VEVENT
DTSTART;TZID=America/New_York:20220801T120000
DTEND;TZID=America/New_York:20220801T123000
DTSTAMP:20260425T064308
CREATED:20240307T141940Z
LAST-MODIFIED:20240307T235758Z
UID:10001928-1659355200-1659357000@drmarkkauffman.org
SUMMARY:Apostolic Voice on Dominion TV
DESCRIPTION:Join Drs. Mark & Jill Kauffman every Sunday and Monday for the Apostolic Voice on DominionTV as they bring insight and understanding to the Word of God. \n \n\nDominion Studios and Dominion.TV are the World Wide Media Outreach ministries of Dr. Joseph & Lynette Dutton\, and Dominion Harvest Ministries\, Inc.  Broadcasting from beautiful Myrtle Beach\, SC.\n\n 
URL:https://drmarkkauffman.org/event/apostolic-voice-2/2022-08-01/
LOCATION:PA
CATEGORIES:Broadcasting
END:VEVENT
BEGIN:VEVENT
DTSTART;TZID=America/New_York:20220803T190000
DTEND;TZID=America/New_York:20220803T200000
DTSTAMP:20260425T064308
CREATED:20220518T191308Z
LAST-MODIFIED:20220518T191308Z
UID:10000012-1659553200-1659556800@drmarkkauffman.org
SUMMARY:The Royal Kingdom Academy
DESCRIPTION:Join Dr. Mark Kauffman each week for the Royal Kingdom Academy at Jubilee Ministries International City Church in New Castle\, PA.
URL:https://drmarkkauffman.org/event/the-royal-kingdom-academy/2022-08-03/
LOCATION:Jubilee Ministries International\, 14 East Chartes St\, New Castle\, PA\, 16102\, United States
CATEGORIES:Weekly Services
END:VEVENT
BEGIN:VEVENT
DTSTART;TZID=America/New_York:20220807T203000
DTEND;TZID=America/New_York:20220807T210000
DTSTAMP:20260425T064308
CREATED:20220517T170018Z
LAST-MODIFIED:20240308T000015Z
UID:10001731-1659904200-1659906000@drmarkkauffman.org
SUMMARY:Apostolic Voice on Dominion TV
DESCRIPTION:Join Drs. Mark & Jill Kauffman every Sunday and Monday for the Apostolic Voice on DominionTV as they bring insight and understanding to the Word of God. \n \n\nDominion Studios and Dominion.TV are the World Wide Media Outreach ministries of Dr. Joseph & Lynette Dutton\, and Dominion Harvest Ministries\, Inc.  Broadcasting from beautiful Myrtle Beach\, SC.\n\n 
URL:https://drmarkkauffman.org/event/apostolic-voice-3/2022-08-07/
LOCATION:PA
CATEGORIES:Broadcasting
END:VEVENT
BEGIN:VEVENT
DTSTART;TZID=America/New_York:20220808T120000
DTEND;TZID=America/New_York:20220808T123000
DTSTAMP:20260425T064308
CREATED:20240307T141940Z
LAST-MODIFIED:20240307T235758Z
UID:10001929-1659960000-1659961800@drmarkkauffman.org
SUMMARY:Apostolic Voice on Dominion TV
DESCRIPTION:Join Drs. Mark & Jill Kauffman every Sunday and Monday for the Apostolic Voice on DominionTV as they bring insight and understanding to the Word of God. \n \n\nDominion Studios and Dominion.TV are the World Wide Media Outreach ministries of Dr. Joseph & Lynette Dutton\, and Dominion Harvest Ministries\, Inc.  Broadcasting from beautiful Myrtle Beach\, SC.\n\n 
URL:https://drmarkkauffman.org/event/apostolic-voice-2/2022-08-08/
LOCATION:PA
CATEGORIES:Broadcasting
END:VEVENT
BEGIN:VEVENT
DTSTART;TZID=America/New_York:20220810T190000
DTEND;TZID=America/New_York:20220810T200000
DTSTAMP:20260425T064308
CREATED:20220518T191308Z
LAST-MODIFIED:20220518T191308Z
UID:10000013-1660158000-1660161600@drmarkkauffman.org
SUMMARY:The Royal Kingdom Academy
DESCRIPTION:Join Dr. Mark Kauffman each week for the Royal Kingdom Academy at Jubilee Ministries International City Church in New Castle\, PA.
URL:https://drmarkkauffman.org/event/the-royal-kingdom-academy/2022-08-10/
LOCATION:Jubilee Ministries International\, 14 East Chartes St\, New Castle\, PA\, 16102\, United States
CATEGORIES:Weekly Services
END:VEVENT
BEGIN:VEVENT
DTSTART;VALUE=DATE:20220811
DTEND;VALUE=DATE:20220814
DTSTAMP:20260425T064308
CREATED:20220728T184926Z
LAST-MODIFIED:20220728T184926Z
UID:10002166-1660176000-1660435199@drmarkkauffman.org
SUMMARY:2022 KCIA Summit
DESCRIPTION:AUGUST 11 -13 \nNow is your time to launch! Our assignment as the Ecclesia is to bring heaven to earth according to the skills and giftings God has woven into each one of us. We are in a season of acceleration and prophetic flow that we have not experienced before. These are the most exciting times to be a Christian. Can you feel it too?\nIt is our time\, our season and our moment in history as one body to come together and fully operate in our assignment. Accelerating heaven on earth through faith\, fortification and strategic advancement. Pushing back the darkness and advancing the kingdom of God.\nCome join us this year to increase your faith\, and fortify yourself\, your family and your position. Strategically advancing together in accelerating heaven on earth!\nNOW is our time to LAUNCH as one!
URL:https://drmarkkauffman.org/event/2022-kcia-summit/
LOCATION:Hotel Roanoke & Conference Center\, Hilton\, 110 Shenandoah Ave\, Roanoke\, VA\, 24016\, United States
CATEGORIES:Conference
END:VEVENT
BEGIN:VEVENT
DTSTART;TZID=America/New_York:20220814T203000
DTEND;TZID=America/New_York:20220814T210000
DTSTAMP:20260425T064308
CREATED:20220517T170018Z
LAST-MODIFIED:20240308T000015Z
UID:10001732-1660509000-1660510800@drmarkkauffman.org
SUMMARY:Apostolic Voice on Dominion TV
DESCRIPTION:Join Drs. Mark & Jill Kauffman every Sunday and Monday for the Apostolic Voice on DominionTV as they bring insight and understanding to the Word of God. \n \n\nDominion Studios and Dominion.TV are the World Wide Media Outreach ministries of Dr. Joseph & Lynette Dutton\, and Dominion Harvest Ministries\, Inc.  Broadcasting from beautiful Myrtle Beach\, SC.\n\n 
URL:https://drmarkkauffman.org/event/apostolic-voice-3/2022-08-14/
LOCATION:PA
CATEGORIES:Broadcasting
END:VEVENT
BEGIN:VEVENT
DTSTART;TZID=America/New_York:20220815T120000
DTEND;TZID=America/New_York:20220815T123000
DTSTAMP:20260425T064308
CREATED:20240307T141940Z
LAST-MODIFIED:20240307T235758Z
UID:10001930-1660564800-1660566600@drmarkkauffman.org
SUMMARY:Apostolic Voice on Dominion TV
DESCRIPTION:Join Drs. Mark & Jill Kauffman every Sunday and Monday for the Apostolic Voice on DominionTV as they bring insight and understanding to the Word of God. \n \n\nDominion Studios and Dominion.TV are the World Wide Media Outreach ministries of Dr. Joseph & Lynette Dutton\, and Dominion Harvest Ministries\, Inc.  Broadcasting from beautiful Myrtle Beach\, SC.\n\n 
URL:https://drmarkkauffman.org/event/apostolic-voice-2/2022-08-15/
LOCATION:PA
CATEGORIES:Broadcasting
END:VEVENT
BEGIN:VEVENT
DTSTART;TZID=America/New_York:20220817T190000
DTEND;TZID=America/New_York:20220817T200000
DTSTAMP:20260425T064308
CREATED:20220518T191308Z
LAST-MODIFIED:20220518T191308Z
UID:10000014-1660762800-1660766400@drmarkkauffman.org
SUMMARY:The Royal Kingdom Academy
DESCRIPTION:Join Dr. Mark Kauffman each week for the Royal Kingdom Academy at Jubilee Ministries International City Church in New Castle\, PA.
URL:https://drmarkkauffman.org/event/the-royal-kingdom-academy/2022-08-17/
LOCATION:Jubilee Ministries International\, 14 East Chartes St\, New Castle\, PA\, 16102\, United States
CATEGORIES:Weekly Services
END:VEVENT
BEGIN:VEVENT
DTSTART;TZID=America/New_York:20220821T203000
DTEND;TZID=America/New_York:20220821T210000
DTSTAMP:20260425T064308
CREATED:20220517T170018Z
LAST-MODIFIED:20240308T000015Z
UID:10001733-1661113800-1661115600@drmarkkauffman.org
SUMMARY:Apostolic Voice on Dominion TV
DESCRIPTION:Join Drs. Mark & Jill Kauffman every Sunday and Monday for the Apostolic Voice on DominionTV as they bring insight and understanding to the Word of God. \n \n\nDominion Studios and Dominion.TV are the World Wide Media Outreach ministries of Dr. Joseph & Lynette Dutton\, and Dominion Harvest Ministries\, Inc.  Broadcasting from beautiful Myrtle Beach\, SC.\n\n 
URL:https://drmarkkauffman.org/event/apostolic-voice-3/2022-08-21/
LOCATION:PA
CATEGORIES:Broadcasting
END:VEVENT
BEGIN:VEVENT
DTSTART;TZID=America/New_York:20220822T120000
DTEND;TZID=America/New_York:20220822T123000
DTSTAMP:20260425T064308
CREATED:20240307T141940Z
LAST-MODIFIED:20240307T235758Z
UID:10001931-1661169600-1661171400@drmarkkauffman.org
SUMMARY:Apostolic Voice on Dominion TV
DESCRIPTION:Join Drs. Mark & Jill Kauffman every Sunday and Monday for the Apostolic Voice on DominionTV as they bring insight and understanding to the Word of God. \n \n\nDominion Studios and Dominion.TV are the World Wide Media Outreach ministries of Dr. Joseph & Lynette Dutton\, and Dominion Harvest Ministries\, Inc.  Broadcasting from beautiful Myrtle Beach\, SC.\n\n 
URL:https://drmarkkauffman.org/event/apostolic-voice-2/2022-08-22/
LOCATION:PA
CATEGORIES:Broadcasting
END:VEVENT
BEGIN:VEVENT
DTSTART;TZID=America/New_York:20220824T190000
DTEND;TZID=America/New_York:20220824T200000
DTSTAMP:20260425T064308
CREATED:20220518T191308Z
LAST-MODIFIED:20220518T191308Z
UID:10000015-1661367600-1661371200@drmarkkauffman.org
SUMMARY:The Royal Kingdom Academy
DESCRIPTION:Join Dr. Mark Kauffman each week for the Royal Kingdom Academy at Jubilee Ministries International City Church in New Castle\, PA.
URL:https://drmarkkauffman.org/event/the-royal-kingdom-academy/2022-08-24/
LOCATION:Jubilee Ministries International\, 14 East Chartes St\, New Castle\, PA\, 16102\, United States
CATEGORIES:Weekly Services
END:VEVENT
BEGIN:VEVENT
DTSTART;TZID=UTC:20220826T190000
DTEND;TZID=UTC:20220826T210000
DTSTAMP:20260425T064308
CREATED:20220726T174450Z
LAST-MODIFIED:20220726T174540Z
UID:10002122-1661540400-1661547600@drmarkkauffman.org
SUMMARY:It's Time For Rain
DESCRIPTION:Kingdom Deliverance Ministries International with Apostle Jimmie & Prophetess Natalie Thompson and Impact Church with Pastors Mike & Amy Herzog are hosting Drs. Mark & Jill Kauffman for three powerful services at two separate locations in the Baltimore area. \nFriday\, August 26\, 2022 | 7:00 PM | Impact Church | 118 Lakefront Dr.\, Hunt Valley\, MD 21030 \nSaturday\, August 27\, 2022 | 10:00 AM – 12:00 PM | Leadership Summit at Impact Church |RSVP for this meeting: 410-908-0457 | Lunch to follow the meeting \nSunday\, August 28\, 2022 | 10:30 AM | Kingdom Deliverance Ministries International | 2622 Lord Baltimore Dr.\, Suite F\, Windsor Mill\, MD 21244
URL:https://drmarkkauffman.org/event/its-time-for-rain/2022-08-26/
LOCATION:Impact Church\, 118 Lakefront Drive\, Hunt Valley\, MD\, 21030\, United States
CATEGORIES:Conference
END:VEVENT
BEGIN:VEVENT
DTSTART;TZID=UTC:20220827T100000
DTEND;TZID=UTC:20220827T120000
DTSTAMP:20260425T064308
CREATED:20220726T174450Z
LAST-MODIFIED:20220726T174540Z
UID:10002123-1661594400-1661601600@drmarkkauffman.org
SUMMARY:It's Time For Rain
DESCRIPTION:Kingdom Deliverance Ministries International with Apostle Jimmie & Prophetess Natalie Thompson and Impact Church with Pastors Mike & Amy Herzog are hosting Drs. Mark & Jill Kauffman for three powerful services at two separate locations in the Baltimore area. \nFriday\, August 26\, 2022 | 7:00 PM | Impact Church | 118 Lakefront Dr.\, Hunt Valley\, MD 21030 \nSaturday\, August 27\, 2022 | 10:00 AM – 12:00 PM | Leadership Summit at Impact Church |RSVP for this meeting: 410-908-0457 | Lunch to follow the meeting \nSunday\, August 28\, 2022 | 10:30 AM | Kingdom Deliverance Ministries International | 2622 Lord Baltimore Dr.\, Suite F\, Windsor Mill\, MD 21244
URL:https://drmarkkauffman.org/event/its-time-for-rain/2022-08-27/
LOCATION:Impact Church\, 118 Lakefront Drive\, Hunt Valley\, MD\, 21030\, United States
CATEGORIES:Conference
END:VEVENT
BEGIN:VEVENT
DTSTART;TZID=UTC:20220828T103000
DTEND;TZID=UTC:20220828T123000
DTSTAMP:20260425T064308
CREATED:20220726T175110Z
LAST-MODIFIED:20220726T175110Z
UID:10002130-1661682600-1661689800@drmarkkauffman.org
SUMMARY:It's Time For Rain
DESCRIPTION:Kingdom Deliverance Ministries International with Apostle Jimmie & Prophetess Natalie Thompson and Impact Church with Pastors Mike & Amy Herzog are hosting Drs. Mark & Jill Kauffman for three powerful services at two separate locations in the Baltimore area. \nFriday\, August 26\, 2022 | 7:00 PM | Impact Church | 118 Lakefront Dr.\, Hunt Valley\, MD 21030 \nSaturday\, August 27\, 2022 | 10:00 AM – 12:00 PM | Leadership Summit at Impact Church |RSVP for this meeting: 410-908-0457 | Lunch to follow the meeting \nSunday\, August 28\, 2022 | 10:30 AM | Kingdom Deliverance Ministries International | 2622 Lord Baltimore Dr.\, Suite F\, Windsor Mill\, MD 21244
URL:https://drmarkkauffman.org/event/its-time-for-rain-2/
LOCATION:Kingdom Deliverance Ministries\, 2622 Lord Baltimore Drive\, Suite F\, Windsor Mill\, MD\, 21244\, United States
CATEGORIES:Conference
END:VEVENT
BEGIN:VEVENT
DTSTART;TZID=America/New_York:20220828T203000
DTEND;TZID=America/New_York:20220828T210000
DTSTAMP:20260425T064308
CREATED:20220517T170018Z
LAST-MODIFIED:20240308T000015Z
UID:10001734-1661718600-1661720400@drmarkkauffman.org
SUMMARY:Apostolic Voice on Dominion TV
DESCRIPTION:Join Drs. Mark & Jill Kauffman every Sunday and Monday for the Apostolic Voice on DominionTV as they bring insight and understanding to the Word of God. \n \n\nDominion Studios and Dominion.TV are the World Wide Media Outreach ministries of Dr. Joseph & Lynette Dutton\, and Dominion Harvest Ministries\, Inc.  Broadcasting from beautiful Myrtle Beach\, SC.\n\n 
URL:https://drmarkkauffman.org/event/apostolic-voice-3/2022-08-28/
LOCATION:PA
CATEGORIES:Broadcasting
END:VEVENT
BEGIN:VEVENT
DTSTART;TZID=America/New_York:20220829T120000
DTEND;TZID=America/New_York:20220829T123000
DTSTAMP:20260425T064308
CREATED:20240307T141940Z
LAST-MODIFIED:20240307T235758Z
UID:10001932-1661774400-1661776200@drmarkkauffman.org
SUMMARY:Apostolic Voice on Dominion TV
DESCRIPTION:Join Drs. Mark & Jill Kauffman every Sunday and Monday for the Apostolic Voice on DominionTV as they bring insight and understanding to the Word of God. \n \n\nDominion Studios and Dominion.TV are the World Wide Media Outreach ministries of Dr. Joseph & Lynette Dutton\, and Dominion Harvest Ministries\, Inc.  Broadcasting from beautiful Myrtle Beach\, SC.\n\n 
URL:https://drmarkkauffman.org/event/apostolic-voice-2/2022-08-29/
LOCATION:PA
CATEGORIES:Broadcasting
END:VEVENT
BEGIN:VEVENT
DTSTART;TZID=America/New_York:20220831T190000
DTEND;TZID=America/New_York:20220831T200000
DTSTAMP:20260425T064308
CREATED:20220518T191308Z
LAST-MODIFIED:20220518T191308Z
UID:10000016-1661972400-1661976000@drmarkkauffman.org
SUMMARY:The Royal Kingdom Academy
DESCRIPTION:Join Dr. Mark Kauffman each week for the Royal Kingdom Academy at Jubilee Ministries International City Church in New Castle\, PA.
URL:https://drmarkkauffman.org/event/the-royal-kingdom-academy/2022-08-31/
LOCATION:Jubilee Ministries International\, 14 East Chartes St\, New Castle\, PA\, 16102\, United States
CATEGORIES:Weekly Services
END:VEVENT
END:VCALENDAR