BEGIN:VCALENDAR
VERSION:2.0
PRODID:-//Dr. Mark Kauffman Ministries, New Castle PA - ECPv6.15.20//NONSGML v1.0//EN
CALSCALE:GREGORIAN
METHOD:PUBLISH
X-ORIGINAL-URL:https://drmarkkauffman.org
X-WR-CALDESC:Events for Dr. Mark Kauffman Ministries, New Castle PA
REFRESH-INTERVAL;VALUE=DURATION:PT1H
X-Robots-Tag:noindex
X-PUBLISHED-TTL:PT1H
BEGIN:VTIMEZONE
TZID:America/New_York
BEGIN:DAYLIGHT
TZOFFSETFROM:-0500
TZOFFSETTO:-0400
TZNAME:EDT
DTSTART:20210314T070000
END:DAYLIGHT
BEGIN:STANDARD
TZOFFSETFROM:-0400
TZOFFSETTO:-0500
TZNAME:EST
DTSTART:20211107T060000
END:STANDARD
BEGIN:DAYLIGHT
TZOFFSETFROM:-0500
TZOFFSETTO:-0400
TZNAME:EDT
DTSTART:20220313T070000
END:DAYLIGHT
BEGIN:STANDARD
TZOFFSETFROM:-0400
TZOFFSETTO:-0500
TZNAME:EST
DTSTART:20221106T060000
END:STANDARD
BEGIN:DAYLIGHT
TZOFFSETFROM:-0500
TZOFFSETTO:-0400
TZNAME:EDT
DTSTART:20230312T070000
END:DAYLIGHT
BEGIN:STANDARD
TZOFFSETFROM:-0400
TZOFFSETTO:-0500
TZNAME:EST
DTSTART:20231105T060000
END:STANDARD
END:VTIMEZONE
BEGIN:VEVENT
DTSTART;TZID=America/New_York:20220904T203000
DTEND;TZID=America/New_York:20220904T210000
DTSTAMP:20260425T082329
CREATED:20220517T170018Z
LAST-MODIFIED:20240308T000015Z
UID:10001735-1662323400-1662325200@drmarkkauffman.org
SUMMARY:Apostolic Voice on Dominion TV
DESCRIPTION:Join Drs. Mark & Jill Kauffman every Sunday and Monday for the Apostolic Voice on DominionTV as they bring insight and understanding to the Word of God. \n \n\nDominion Studios and Dominion.TV are the World Wide Media Outreach ministries of Dr. Joseph & Lynette Dutton\, and Dominion Harvest Ministries\, Inc.  Broadcasting from beautiful Myrtle Beach\, SC.\n\n 
URL:https://drmarkkauffman.org/event/apostolic-voice-3/2022-09-04/
LOCATION:PA
CATEGORIES:Broadcasting
END:VEVENT
BEGIN:VEVENT
DTSTART;TZID=America/New_York:20220905T120000
DTEND;TZID=America/New_York:20220905T123000
DTSTAMP:20260425T082329
CREATED:20240307T141940Z
LAST-MODIFIED:20240307T235758Z
UID:10001933-1662379200-1662381000@drmarkkauffman.org
SUMMARY:Apostolic Voice on Dominion TV
DESCRIPTION:Join Drs. Mark & Jill Kauffman every Sunday and Monday for the Apostolic Voice on DominionTV as they bring insight and understanding to the Word of God. \n \n\nDominion Studios and Dominion.TV are the World Wide Media Outreach ministries of Dr. Joseph & Lynette Dutton\, and Dominion Harvest Ministries\, Inc.  Broadcasting from beautiful Myrtle Beach\, SC.\n\n 
URL:https://drmarkkauffman.org/event/apostolic-voice-2/2022-09-05/
LOCATION:PA
CATEGORIES:Broadcasting
END:VEVENT
BEGIN:VEVENT
DTSTART;TZID=America/New_York:20220907T190000
DTEND;TZID=America/New_York:20220907T200000
DTSTAMP:20260425T082329
CREATED:20220518T191308Z
LAST-MODIFIED:20220518T191308Z
UID:10000017-1662577200-1662580800@drmarkkauffman.org
SUMMARY:The Royal Kingdom Academy
DESCRIPTION:Join Dr. Mark Kauffman each week for the Royal Kingdom Academy at Jubilee Ministries International City Church in New Castle\, PA.
URL:https://drmarkkauffman.org/event/the-royal-kingdom-academy/2022-09-07/
LOCATION:Jubilee Ministries International\, 14 East Chartes St\, New Castle\, PA\, 16102\, United States
CATEGORIES:Weekly Services
END:VEVENT
BEGIN:VEVENT
DTSTART;TZID=America/New_York:20220909T180000
DTEND;TZID=America/New_York:20220909T200000
DTSTAMP:20260425T082329
CREATED:20220819T131839Z
LAST-MODIFIED:20220819T131907Z
UID:10002165-1662746400-1662753600@drmarkkauffman.org
SUMMARY:Men of Favor | Men's Meeting
DESCRIPTION:Join Dr. Mark Kauffman & Dr. William Hinn for the MEN OF FAVOR men’s meeting at\n\nKBN Studios \n2801 Wilmington Rd.\nNew Castle\, PA 16105\n\nFriday\, September 9th @ 6:00 PM.\n\n\n\nThe requested donation is only $20/person for those who register by August 24th!\n\n\nThe requested donation includes:\n<> A steak dinner by Greg Robinson BBQ\n<> A time of fellowship\n<> An empowering Word!
URL:https://drmarkkauffman.org/event/men-of-favor-mens-meeting/
LOCATION:Kingdom Broadcasting Network Studio\, 2801 Wilmington Rd\, New Castle\, PA\, 16105\, United States
CATEGORIES:Conference
END:VEVENT
BEGIN:VEVENT
DTSTART;TZID=America/New_York:20220910T183000
DTEND;TZID=America/New_York:20220910T210000
DTSTAMP:20260425T082329
CREATED:20220728T200607Z
LAST-MODIFIED:20220728T200607Z
UID:10001557-1662834600-1662843600@drmarkkauffman.org
SUMMARY:Crowned with Favor | Bishop William Hinn
DESCRIPTION:Do not miss this powerful conference at Jubilee Ministries with Bishop William Hinn.
URL:https://drmarkkauffman.org/event/crowned-with-favor-bishop-william-hinn/2022-09-10/
LOCATION:Jubilee Ministries International\, 14 East Chartes St\, New Castle\, PA\, 16102\, United States
CATEGORIES:Conference
END:VEVENT
BEGIN:VEVENT
DTSTART;TZID=America/New_York:20220911T103000
DTEND;TZID=America/New_York:20220911T123000
DTSTAMP:20260425T082329
CREATED:20220728T200607Z
LAST-MODIFIED:20220728T200607Z
UID:10001558-1662892200-1662899400@drmarkkauffman.org
SUMMARY:Crowned with Favor | Bishop William Hinn
DESCRIPTION:Do not miss this powerful conference at Jubilee Ministries with Bishop William Hinn.
URL:https://drmarkkauffman.org/event/crowned-with-favor-bishop-william-hinn/2022-09-11/
LOCATION:Jubilee Ministries International\, 14 East Chartes St\, New Castle\, PA\, 16102\, United States
CATEGORIES:Conference
END:VEVENT
BEGIN:VEVENT
DTSTART;TZID=America/New_York:20220911T203000
DTEND;TZID=America/New_York:20220911T210000
DTSTAMP:20260425T082329
CREATED:20220517T170018Z
LAST-MODIFIED:20240308T000015Z
UID:10001736-1662928200-1662930000@drmarkkauffman.org
SUMMARY:Apostolic Voice on Dominion TV
DESCRIPTION:Join Drs. Mark & Jill Kauffman every Sunday and Monday for the Apostolic Voice on DominionTV as they bring insight and understanding to the Word of God. \n \n\nDominion Studios and Dominion.TV are the World Wide Media Outreach ministries of Dr. Joseph & Lynette Dutton\, and Dominion Harvest Ministries\, Inc.  Broadcasting from beautiful Myrtle Beach\, SC.\n\n 
URL:https://drmarkkauffman.org/event/apostolic-voice-3/2022-09-11/
LOCATION:PA
CATEGORIES:Broadcasting
END:VEVENT
BEGIN:VEVENT
DTSTART;TZID=America/New_York:20220912T120000
DTEND;TZID=America/New_York:20220912T123000
DTSTAMP:20260425T082329
CREATED:20240307T141940Z
LAST-MODIFIED:20240307T235758Z
UID:10001934-1662984000-1662985800@drmarkkauffman.org
SUMMARY:Apostolic Voice on Dominion TV
DESCRIPTION:Join Drs. Mark & Jill Kauffman every Sunday and Monday for the Apostolic Voice on DominionTV as they bring insight and understanding to the Word of God. \n \n\nDominion Studios and Dominion.TV are the World Wide Media Outreach ministries of Dr. Joseph & Lynette Dutton\, and Dominion Harvest Ministries\, Inc.  Broadcasting from beautiful Myrtle Beach\, SC.\n\n 
URL:https://drmarkkauffman.org/event/apostolic-voice-2/2022-09-12/
LOCATION:PA
CATEGORIES:Broadcasting
END:VEVENT
BEGIN:VEVENT
DTSTART;TZID=America/New_York:20220914T190000
DTEND;TZID=America/New_York:20220914T200000
DTSTAMP:20260425T082329
CREATED:20220518T191308Z
LAST-MODIFIED:20220518T191308Z
UID:10000018-1663182000-1663185600@drmarkkauffman.org
SUMMARY:The Royal Kingdom Academy
DESCRIPTION:Join Dr. Mark Kauffman each week for the Royal Kingdom Academy at Jubilee Ministries International City Church in New Castle\, PA.
URL:https://drmarkkauffman.org/event/the-royal-kingdom-academy/2022-09-14/
LOCATION:Jubilee Ministries International\, 14 East Chartes St\, New Castle\, PA\, 16102\, United States
CATEGORIES:Weekly Services
END:VEVENT
BEGIN:VEVENT
DTSTART;TZID=America/New_York:20220918T203000
DTEND;TZID=America/New_York:20220918T210000
DTSTAMP:20260425T082329
CREATED:20220517T170018Z
LAST-MODIFIED:20240308T000015Z
UID:10001737-1663533000-1663534800@drmarkkauffman.org
SUMMARY:Apostolic Voice on Dominion TV
DESCRIPTION:Join Drs. Mark & Jill Kauffman every Sunday and Monday for the Apostolic Voice on DominionTV as they bring insight and understanding to the Word of God. \n \n\nDominion Studios and Dominion.TV are the World Wide Media Outreach ministries of Dr. Joseph & Lynette Dutton\, and Dominion Harvest Ministries\, Inc.  Broadcasting from beautiful Myrtle Beach\, SC.\n\n 
URL:https://drmarkkauffman.org/event/apostolic-voice-3/2022-09-18/
LOCATION:PA
CATEGORIES:Broadcasting
END:VEVENT
BEGIN:VEVENT
DTSTART;TZID=America/New_York:20220919T120000
DTEND;TZID=America/New_York:20220919T123000
DTSTAMP:20260425T082329
CREATED:20240307T141940Z
LAST-MODIFIED:20240307T235758Z
UID:10001935-1663588800-1663590600@drmarkkauffman.org
SUMMARY:Apostolic Voice on Dominion TV
DESCRIPTION:Join Drs. Mark & Jill Kauffman every Sunday and Monday for the Apostolic Voice on DominionTV as they bring insight and understanding to the Word of God. \n \n\nDominion Studios and Dominion.TV are the World Wide Media Outreach ministries of Dr. Joseph & Lynette Dutton\, and Dominion Harvest Ministries\, Inc.  Broadcasting from beautiful Myrtle Beach\, SC.\n\n 
URL:https://drmarkkauffman.org/event/apostolic-voice-2/2022-09-19/
LOCATION:PA
CATEGORIES:Broadcasting
END:VEVENT
BEGIN:VEVENT
DTSTART;TZID=America/New_York:20220921T190000
DTEND;TZID=America/New_York:20220921T200000
DTSTAMP:20260425T082329
CREATED:20220518T191308Z
LAST-MODIFIED:20220518T191308Z
UID:10000019-1663786800-1663790400@drmarkkauffman.org
SUMMARY:The Royal Kingdom Academy
DESCRIPTION:Join Dr. Mark Kauffman each week for the Royal Kingdom Academy at Jubilee Ministries International City Church in New Castle\, PA.
URL:https://drmarkkauffman.org/event/the-royal-kingdom-academy/2022-09-21/
LOCATION:Jubilee Ministries International\, 14 East Chartes St\, New Castle\, PA\, 16102\, United States
CATEGORIES:Weekly Services
END:VEVENT
BEGIN:VEVENT
DTSTART;TZID=America/New_York:20220925T203000
DTEND;TZID=America/New_York:20220925T210000
DTSTAMP:20260425T082329
CREATED:20220517T170018Z
LAST-MODIFIED:20240308T000015Z
UID:10001738-1664137800-1664139600@drmarkkauffman.org
SUMMARY:Apostolic Voice on Dominion TV
DESCRIPTION:Join Drs. Mark & Jill Kauffman every Sunday and Monday for the Apostolic Voice on DominionTV as they bring insight and understanding to the Word of God. \n \n\nDominion Studios and Dominion.TV are the World Wide Media Outreach ministries of Dr. Joseph & Lynette Dutton\, and Dominion Harvest Ministries\, Inc.  Broadcasting from beautiful Myrtle Beach\, SC.\n\n 
URL:https://drmarkkauffman.org/event/apostolic-voice-3/2022-09-25/
LOCATION:PA
CATEGORIES:Broadcasting
END:VEVENT
BEGIN:VEVENT
DTSTART;TZID=America/New_York:20220926T120000
DTEND;TZID=America/New_York:20220926T123000
DTSTAMP:20260425T082329
CREATED:20240307T141940Z
LAST-MODIFIED:20240307T235758Z
UID:10001936-1664193600-1664195400@drmarkkauffman.org
SUMMARY:Apostolic Voice on Dominion TV
DESCRIPTION:Join Drs. Mark & Jill Kauffman every Sunday and Monday for the Apostolic Voice on DominionTV as they bring insight and understanding to the Word of God. \n \n\nDominion Studios and Dominion.TV are the World Wide Media Outreach ministries of Dr. Joseph & Lynette Dutton\, and Dominion Harvest Ministries\, Inc.  Broadcasting from beautiful Myrtle Beach\, SC.\n\n 
URL:https://drmarkkauffman.org/event/apostolic-voice-2/2022-09-26/
LOCATION:PA
CATEGORIES:Broadcasting
END:VEVENT
BEGIN:VEVENT
DTSTART;TZID=America/New_York:20220928T190000
DTEND;TZID=America/New_York:20220928T200000
DTSTAMP:20260425T082329
CREATED:20220518T191308Z
LAST-MODIFIED:20220518T191308Z
UID:10000020-1664391600-1664395200@drmarkkauffman.org
SUMMARY:The Royal Kingdom Academy
DESCRIPTION:Join Dr. Mark Kauffman each week for the Royal Kingdom Academy at Jubilee Ministries International City Church in New Castle\, PA.
URL:https://drmarkkauffman.org/event/the-royal-kingdom-academy/2022-09-28/
LOCATION:Jubilee Ministries International\, 14 East Chartes St\, New Castle\, PA\, 16102\, United States
CATEGORIES:Weekly Services
END:VEVENT
END:VCALENDAR