BEGIN:VCALENDAR
VERSION:2.0
PRODID:-//Dr. Mark Kauffman Ministries, New Castle PA - ECPv6.15.19//NONSGML v1.0//EN
CALSCALE:GREGORIAN
METHOD:PUBLISH
X-WR-CALNAME:Dr. Mark Kauffman Ministries, New Castle PA
X-ORIGINAL-URL:https://drmarkkauffman.org
X-WR-CALDESC:Events for Dr. Mark Kauffman Ministries, New Castle PA
REFRESH-INTERVAL;VALUE=DURATION:PT1H
X-Robots-Tag:noindex
X-PUBLISHED-TTL:PT1H
BEGIN:VTIMEZONE
TZID:America/New_York
BEGIN:DAYLIGHT
TZOFFSETFROM:-0500
TZOFFSETTO:-0400
TZNAME:EDT
DTSTART:20240310T070000
END:DAYLIGHT
BEGIN:STANDARD
TZOFFSETFROM:-0400
TZOFFSETTO:-0500
TZNAME:EST
DTSTART:20241103T060000
END:STANDARD
BEGIN:DAYLIGHT
TZOFFSETFROM:-0500
TZOFFSETTO:-0400
TZNAME:EDT
DTSTART:20250309T070000
END:DAYLIGHT
BEGIN:STANDARD
TZOFFSETFROM:-0400
TZOFFSETTO:-0500
TZNAME:EST
DTSTART:20251102T060000
END:STANDARD
BEGIN:DAYLIGHT
TZOFFSETFROM:-0500
TZOFFSETTO:-0400
TZNAME:EDT
DTSTART:20260308T070000
END:DAYLIGHT
BEGIN:STANDARD
TZOFFSETFROM:-0400
TZOFFSETTO:-0500
TZNAME:EST
DTSTART:20261101T060000
END:STANDARD
END:VTIMEZONE
BEGIN:VEVENT
DTSTART;TZID=America/New_York:20250201T100000
DTEND;TZID=America/New_York:20250201T100000
DTSTAMP:20260421T011457
CREATED:20250127T032120Z
LAST-MODIFIED:20250127T032120Z
UID:10008354-1738404000-1738404000@drmarkkauffman.org
SUMMARY:Ten Times Better: Kingdom Conversations for Kingdom Leaders
DESCRIPTION:Join me alongside host Bo Salisbury and fellow guests Maxwell Holland and Andrew Billings for an important live discussion on Ten Times Better “The Mandate for Kings & Priests in This Hour.” \nDate: Saturday\, February 1\, 2025 Time: 10:00 AM EST \nYou can watch live on: \n\nFacebook: Facebook.com/bosalisbury72\nYouTube: Youtube.com/@bosalisbury\n\nThis dynamic conversation will focus on the Kingdom principle\, “Ten Times Better.”
URL:https://drmarkkauffman.org/event/ten-times-better-kingdom-conversations-for-kingdom-leaders/
LOCATION:
END:VEVENT
BEGIN:VEVENT
DTSTART;TZID=America/New_York:20250201T180000
DTEND;TZID=America/New_York:20250201T183000
DTSTAMP:20260421T011457
CREATED:20240307T235306Z
LAST-MODIFIED:20240307T235306Z
UID:10002539-1738432800-1738434600@drmarkkauffman.org
SUMMARY:Apostolic Voice on Faith TV
DESCRIPTION:Watch The Apostolic Voice with Drs. Mark & Jill Kauffman on Direct TV Channel 379 at 6:00 PM every Saturday!
URL:https://drmarkkauffman.org/event/apostolic-voice-on-faith-tv/2025-02-01/
LOCATION:PA
END:VEVENT
BEGIN:VEVENT
DTSTART;TZID=America/New_York:20250202T203000
DTEND;TZID=America/New_York:20250202T210000
DTSTAMP:20260421T011457
CREATED:20220517T170018Z
LAST-MODIFIED:20240308T000015Z
UID:10001861-1738528200-1738530000@drmarkkauffman.org
SUMMARY:Apostolic Voice on Dominion TV
DESCRIPTION:Join Drs. Mark & Jill Kauffman every Sunday and Monday for the Apostolic Voice on DominionTV as they bring insight and understanding to the Word of God. \n \n\nDominion Studios and Dominion.TV are the World Wide Media Outreach ministries of Dr. Joseph & Lynette Dutton\, and Dominion Harvest Ministries\, Inc.  Broadcasting from beautiful Myrtle Beach\, SC.\n\n 
URL:https://drmarkkauffman.org/event/apostolic-voice-3/2025-02-02/
LOCATION:PA
CATEGORIES:Broadcasting
END:VEVENT
BEGIN:VEVENT
DTSTART;TZID=America/New_York:20250203T120000
DTEND;TZID=America/New_York:20250203T123000
DTSTAMP:20260421T011457
CREATED:20240307T141940Z
LAST-MODIFIED:20240307T235758Z
UID:10002059-1738584000-1738585800@drmarkkauffman.org
SUMMARY:Apostolic Voice on Dominion TV
DESCRIPTION:Join Drs. Mark & Jill Kauffman every Sunday and Monday for the Apostolic Voice on DominionTV as they bring insight and understanding to the Word of God. \n \n\nDominion Studios and Dominion.TV are the World Wide Media Outreach ministries of Dr. Joseph & Lynette Dutton\, and Dominion Harvest Ministries\, Inc.  Broadcasting from beautiful Myrtle Beach\, SC.\n\n 
URL:https://drmarkkauffman.org/event/apostolic-voice-2/2025-02-03/
LOCATION:PA
CATEGORIES:Broadcasting
END:VEVENT
BEGIN:VEVENT
DTSTART;TZID=America/New_York:20250205T153000
DTEND;TZID=America/New_York:20250205T160000
DTSTAMP:20260421T011457
CREATED:20240308T000620Z
LAST-MODIFIED:20240308T000620Z
UID:10003635-1738769400-1738771200@drmarkkauffman.org
SUMMARY:Apostolic Voice on Faith TV
DESCRIPTION:Watch The Apostolic Voice with Drs. Mark & Jill Kauffman on Direct TV Channel 379 at 3:30 PM every Wednesday!
URL:https://drmarkkauffman.org/event/apostolic-voice-on-faith-tv-2/2025-02-05/
LOCATION:PA
END:VEVENT
BEGIN:VEVENT
DTSTART;TZID=America/New_York:20250205T190000
DTEND;TZID=America/New_York:20250205T200000
DTSTAMP:20260421T011457
CREATED:20220518T191308Z
LAST-MODIFIED:20220518T191308Z
UID:10000143-1738782000-1738785600@drmarkkauffman.org
SUMMARY:The Royal Kingdom Academy
DESCRIPTION:Join Dr. Mark Kauffman each week for the Royal Kingdom Academy at Jubilee Ministries International City Church in New Castle\, PA.
URL:https://drmarkkauffman.org/event/the-royal-kingdom-academy/2025-02-05/
LOCATION:Jubilee Ministries International\, 14 East Chartes St\, New Castle\, PA\, 16102\, United States
CATEGORIES:Weekly Services
END:VEVENT
BEGIN:VEVENT
DTSTART;TZID=America/New_York:20250207T193000
DTEND;TZID=America/New_York:20250207T230000
DTSTAMP:20260421T011457
CREATED:20250127T025841Z
LAST-MODIFIED:20250206T152030Z
UID:10008351-1738956600-1738969200@drmarkkauffman.org
SUMMARY:2025 KCIA Pressing into the Prophetic Symposium
DESCRIPTION:Join Dr. Kauffman for a prophetic gathering hosted by KCIA. \nSchedule (All times below are EST): Note the times on the flyer are Pacific Time \n\nFriday\, February 7th\, 7:30 PM – 11:00 PM: Opening Night Session ~ Tim Sheets Prophetic Symposium Watch Party\nSaturday\, February 8th\, 1:00 PM – 5:00 PM: Workshop Session 7:00 PM – 10:00 PM: Closing Night Session\n\n                       Dr\, Kauffman will be ministering on Saturday\, February 8th at 7:30 PM.  \nThis is a free virtual event\, but registration is required for planning purposes. The symposium will feature worship\, teaching\, and prophetic ministry alongside KCIA President Dr. Wende Jones and Vice President Carlton Reed. \nDon’t miss this opportunity to gather with believers as we seek prophetic insight for the year ahead. \n                                                   Register by clicking on the Website link to the right.                      
URL:https://drmarkkauffman.org/event/2025-kcia-pressing-into-the-prophetic-symposium/2025-02-07/
LOCATION:
END:VEVENT
BEGIN:VEVENT
DTSTART;TZID=America/New_York:20250208T130000
DTEND;TZID=America/New_York:20250208T170000
DTSTAMP:20260421T011457
CREATED:20250127T025841Z
LAST-MODIFIED:20250206T152030Z
UID:10008352-1739019600-1739034000@drmarkkauffman.org
SUMMARY:2025 KCIA Pressing into the Prophetic Symposium
DESCRIPTION:Join Dr. Kauffman for a prophetic gathering hosted by KCIA. \nSchedule (All times below are EST): Note the times on the flyer are Pacific Time \n\nFriday\, February 7th\, 7:30 PM – 11:00 PM: Opening Night Session ~ Tim Sheets Prophetic Symposium Watch Party\nSaturday\, February 8th\, 1:00 PM – 5:00 PM: Workshop Session 7:00 PM – 10:00 PM: Closing Night Session\n\n                       Dr\, Kauffman will be ministering on Saturday\, February 8th at 7:30 PM.  \nThis is a free virtual event\, but registration is required for planning purposes. The symposium will feature worship\, teaching\, and prophetic ministry alongside KCIA President Dr. Wende Jones and Vice President Carlton Reed. \nDon’t miss this opportunity to gather with believers as we seek prophetic insight for the year ahead. \n                                                   Register by clicking on the Website link to the right.                      
URL:https://drmarkkauffman.org/event/2025-kcia-pressing-into-the-prophetic-symposium/2025-02-08/1/
LOCATION:
END:VEVENT
BEGIN:VEVENT
DTSTART;TZID=America/New_York:20250208T180000
DTEND;TZID=America/New_York:20250208T183000
DTSTAMP:20260421T011457
CREATED:20240307T235306Z
LAST-MODIFIED:20240307T235306Z
UID:10002540-1739037600-1739039400@drmarkkauffman.org
SUMMARY:Apostolic Voice on Faith TV
DESCRIPTION:Watch The Apostolic Voice with Drs. Mark & Jill Kauffman on Direct TV Channel 379 at 6:00 PM every Saturday!
URL:https://drmarkkauffman.org/event/apostolic-voice-on-faith-tv/2025-02-08/
LOCATION:PA
END:VEVENT
BEGIN:VEVENT
DTSTART;TZID=America/New_York:20250208T190000
DTEND;TZID=America/New_York:20250208T220000
DTSTAMP:20260421T011457
CREATED:20250127T025841Z
LAST-MODIFIED:20250206T152030Z
UID:10008353-1739041200-1739052000@drmarkkauffman.org
SUMMARY:2025 KCIA Pressing into the Prophetic Symposium
DESCRIPTION:Join Dr. Kauffman for a prophetic gathering hosted by KCIA. \nSchedule (All times below are EST): Note the times on the flyer are Pacific Time \n\nFriday\, February 7th\, 7:30 PM – 11:00 PM: Opening Night Session ~ Tim Sheets Prophetic Symposium Watch Party\nSaturday\, February 8th\, 1:00 PM – 5:00 PM: Workshop Session 7:00 PM – 10:00 PM: Closing Night Session\n\n                       Dr\, Kauffman will be ministering on Saturday\, February 8th at 7:30 PM.  \nThis is a free virtual event\, but registration is required for planning purposes. The symposium will feature worship\, teaching\, and prophetic ministry alongside KCIA President Dr. Wende Jones and Vice President Carlton Reed. \nDon’t miss this opportunity to gather with believers as we seek prophetic insight for the year ahead. \n                                                   Register by clicking on the Website link to the right.                      
URL:https://drmarkkauffman.org/event/2025-kcia-pressing-into-the-prophetic-symposium/2025-02-08/2/
LOCATION:
END:VEVENT
BEGIN:VEVENT
DTSTART;TZID=America/New_York:20250209T203000
DTEND;TZID=America/New_York:20250209T210000
DTSTAMP:20260421T011457
CREATED:20220517T170018Z
LAST-MODIFIED:20240308T000015Z
UID:10001862-1739133000-1739134800@drmarkkauffman.org
SUMMARY:Apostolic Voice on Dominion TV
DESCRIPTION:Join Drs. Mark & Jill Kauffman every Sunday and Monday for the Apostolic Voice on DominionTV as they bring insight and understanding to the Word of God. \n \n\nDominion Studios and Dominion.TV are the World Wide Media Outreach ministries of Dr. Joseph & Lynette Dutton\, and Dominion Harvest Ministries\, Inc.  Broadcasting from beautiful Myrtle Beach\, SC.\n\n 
URL:https://drmarkkauffman.org/event/apostolic-voice-3/2025-02-09/
LOCATION:PA
CATEGORIES:Broadcasting
END:VEVENT
BEGIN:VEVENT
DTSTART;TZID=America/New_York:20250210T120000
DTEND;TZID=America/New_York:20250210T123000
DTSTAMP:20260421T011457
CREATED:20240307T141940Z
LAST-MODIFIED:20240307T235758Z
UID:10002060-1739188800-1739190600@drmarkkauffman.org
SUMMARY:Apostolic Voice on Dominion TV
DESCRIPTION:Join Drs. Mark & Jill Kauffman every Sunday and Monday for the Apostolic Voice on DominionTV as they bring insight and understanding to the Word of God. \n \n\nDominion Studios and Dominion.TV are the World Wide Media Outreach ministries of Dr. Joseph & Lynette Dutton\, and Dominion Harvest Ministries\, Inc.  Broadcasting from beautiful Myrtle Beach\, SC.\n\n 
URL:https://drmarkkauffman.org/event/apostolic-voice-2/2025-02-10/
LOCATION:PA
CATEGORIES:Broadcasting
END:VEVENT
BEGIN:VEVENT
DTSTART;TZID=America/New_York:20250212T153000
DTEND;TZID=America/New_York:20250212T160000
DTSTAMP:20260421T011457
CREATED:20240308T000620Z
LAST-MODIFIED:20240308T000620Z
UID:10003636-1739374200-1739376000@drmarkkauffman.org
SUMMARY:Apostolic Voice on Faith TV
DESCRIPTION:Watch The Apostolic Voice with Drs. Mark & Jill Kauffman on Direct TV Channel 379 at 3:30 PM every Wednesday!
URL:https://drmarkkauffman.org/event/apostolic-voice-on-faith-tv-2/2025-02-12/
LOCATION:PA
END:VEVENT
BEGIN:VEVENT
DTSTART;TZID=America/New_York:20250212T190000
DTEND;TZID=America/New_York:20250212T200000
DTSTAMP:20260421T011457
CREATED:20220518T191308Z
LAST-MODIFIED:20220518T191308Z
UID:10000144-1739386800-1739390400@drmarkkauffman.org
SUMMARY:The Royal Kingdom Academy
DESCRIPTION:Join Dr. Mark Kauffman each week for the Royal Kingdom Academy at Jubilee Ministries International City Church in New Castle\, PA.
URL:https://drmarkkauffman.org/event/the-royal-kingdom-academy/2025-02-12/
LOCATION:Jubilee Ministries International\, 14 East Chartes St\, New Castle\, PA\, 16102\, United States
CATEGORIES:Weekly Services
END:VEVENT
BEGIN:VEVENT
DTSTART;TZID=America/New_York:20250215T180000
DTEND;TZID=America/New_York:20250215T183000
DTSTAMP:20260421T011457
CREATED:20240307T235306Z
LAST-MODIFIED:20240307T235306Z
UID:10002541-1739642400-1739644200@drmarkkauffman.org
SUMMARY:Apostolic Voice on Faith TV
DESCRIPTION:Watch The Apostolic Voice with Drs. Mark & Jill Kauffman on Direct TV Channel 379 at 6:00 PM every Saturday!
URL:https://drmarkkauffman.org/event/apostolic-voice-on-faith-tv/2025-02-15/
LOCATION:PA
END:VEVENT
BEGIN:VEVENT
DTSTART;TZID=America/New_York:20250216T203000
DTEND;TZID=America/New_York:20250216T210000
DTSTAMP:20260421T011457
CREATED:20220517T170018Z
LAST-MODIFIED:20240308T000015Z
UID:10001863-1739737800-1739739600@drmarkkauffman.org
SUMMARY:Apostolic Voice on Dominion TV
DESCRIPTION:Join Drs. Mark & Jill Kauffman every Sunday and Monday for the Apostolic Voice on DominionTV as they bring insight and understanding to the Word of God. \n \n\nDominion Studios and Dominion.TV are the World Wide Media Outreach ministries of Dr. Joseph & Lynette Dutton\, and Dominion Harvest Ministries\, Inc.  Broadcasting from beautiful Myrtle Beach\, SC.\n\n 
URL:https://drmarkkauffman.org/event/apostolic-voice-3/2025-02-16/
LOCATION:PA
CATEGORIES:Broadcasting
END:VEVENT
BEGIN:VEVENT
DTSTART;TZID=America/New_York:20250217T120000
DTEND;TZID=America/New_York:20250217T123000
DTSTAMP:20260421T011457
CREATED:20240307T141940Z
LAST-MODIFIED:20240307T235758Z
UID:10002061-1739793600-1739795400@drmarkkauffman.org
SUMMARY:Apostolic Voice on Dominion TV
DESCRIPTION:Join Drs. Mark & Jill Kauffman every Sunday and Monday for the Apostolic Voice on DominionTV as they bring insight and understanding to the Word of God. \n \n\nDominion Studios and Dominion.TV are the World Wide Media Outreach ministries of Dr. Joseph & Lynette Dutton\, and Dominion Harvest Ministries\, Inc.  Broadcasting from beautiful Myrtle Beach\, SC.\n\n 
URL:https://drmarkkauffman.org/event/apostolic-voice-2/2025-02-17/
LOCATION:PA
CATEGORIES:Broadcasting
END:VEVENT
BEGIN:VEVENT
DTSTART;TZID=America/New_York:20250219T153000
DTEND;TZID=America/New_York:20250219T160000
DTSTAMP:20260421T011457
CREATED:20240308T000620Z
LAST-MODIFIED:20240308T000620Z
UID:10003637-1739979000-1739980800@drmarkkauffman.org
SUMMARY:Apostolic Voice on Faith TV
DESCRIPTION:Watch The Apostolic Voice with Drs. Mark & Jill Kauffman on Direct TV Channel 379 at 3:30 PM every Wednesday!
URL:https://drmarkkauffman.org/event/apostolic-voice-on-faith-tv-2/2025-02-19/
LOCATION:PA
END:VEVENT
BEGIN:VEVENT
DTSTART;TZID=America/New_York:20250219T190000
DTEND;TZID=America/New_York:20250219T200000
DTSTAMP:20260421T011457
CREATED:20220518T191308Z
LAST-MODIFIED:20220518T191308Z
UID:10000145-1739991600-1739995200@drmarkkauffman.org
SUMMARY:The Royal Kingdom Academy
DESCRIPTION:Join Dr. Mark Kauffman each week for the Royal Kingdom Academy at Jubilee Ministries International City Church in New Castle\, PA.
URL:https://drmarkkauffman.org/event/the-royal-kingdom-academy/2025-02-19/
LOCATION:Jubilee Ministries International\, 14 East Chartes St\, New Castle\, PA\, 16102\, United States
CATEGORIES:Weekly Services
END:VEVENT
BEGIN:VEVENT
DTSTART;TZID=America/New_York:20250222T180000
DTEND;TZID=America/New_York:20250222T183000
DTSTAMP:20260421T011457
CREATED:20240307T235306Z
LAST-MODIFIED:20240307T235306Z
UID:10002542-1740247200-1740249000@drmarkkauffman.org
SUMMARY:Apostolic Voice on Faith TV
DESCRIPTION:Watch The Apostolic Voice with Drs. Mark & Jill Kauffman on Direct TV Channel 379 at 6:00 PM every Saturday!
URL:https://drmarkkauffman.org/event/apostolic-voice-on-faith-tv/2025-02-22/
LOCATION:PA
END:VEVENT
BEGIN:VEVENT
DTSTART;TZID=America/New_York:20250223T203000
DTEND;TZID=America/New_York:20250223T210000
DTSTAMP:20260421T011457
CREATED:20220517T170018Z
LAST-MODIFIED:20240308T000015Z
UID:10001864-1740342600-1740344400@drmarkkauffman.org
SUMMARY:Apostolic Voice on Dominion TV
DESCRIPTION:Join Drs. Mark & Jill Kauffman every Sunday and Monday for the Apostolic Voice on DominionTV as they bring insight and understanding to the Word of God. \n \n\nDominion Studios and Dominion.TV are the World Wide Media Outreach ministries of Dr. Joseph & Lynette Dutton\, and Dominion Harvest Ministries\, Inc.  Broadcasting from beautiful Myrtle Beach\, SC.\n\n 
URL:https://drmarkkauffman.org/event/apostolic-voice-3/2025-02-23/
LOCATION:PA
CATEGORIES:Broadcasting
END:VEVENT
BEGIN:VEVENT
DTSTART;TZID=America/New_York:20250224T120000
DTEND;TZID=America/New_York:20250224T123000
DTSTAMP:20260421T011457
CREATED:20240307T141940Z
LAST-MODIFIED:20240307T235758Z
UID:10002062-1740398400-1740400200@drmarkkauffman.org
SUMMARY:Apostolic Voice on Dominion TV
DESCRIPTION:Join Drs. Mark & Jill Kauffman every Sunday and Monday for the Apostolic Voice on DominionTV as they bring insight and understanding to the Word of God. \n \n\nDominion Studios and Dominion.TV are the World Wide Media Outreach ministries of Dr. Joseph & Lynette Dutton\, and Dominion Harvest Ministries\, Inc.  Broadcasting from beautiful Myrtle Beach\, SC.\n\n 
URL:https://drmarkkauffman.org/event/apostolic-voice-2/2025-02-24/
LOCATION:PA
CATEGORIES:Broadcasting
END:VEVENT
BEGIN:VEVENT
DTSTART;TZID=America/New_York:20250226T153000
DTEND;TZID=America/New_York:20250226T160000
DTSTAMP:20260421T011457
CREATED:20240308T000620Z
LAST-MODIFIED:20240308T000620Z
UID:10003638-1740583800-1740585600@drmarkkauffman.org
SUMMARY:Apostolic Voice on Faith TV
DESCRIPTION:Watch The Apostolic Voice with Drs. Mark & Jill Kauffman on Direct TV Channel 379 at 3:30 PM every Wednesday!
URL:https://drmarkkauffman.org/event/apostolic-voice-on-faith-tv-2/2025-02-26/
LOCATION:PA
END:VEVENT
BEGIN:VEVENT
DTSTART;TZID=America/New_York:20250226T190000
DTEND;TZID=America/New_York:20250226T200000
DTSTAMP:20260421T011457
CREATED:20220518T191308Z
LAST-MODIFIED:20220518T191308Z
UID:10000146-1740596400-1740600000@drmarkkauffman.org
SUMMARY:The Royal Kingdom Academy
DESCRIPTION:Join Dr. Mark Kauffman each week for the Royal Kingdom Academy at Jubilee Ministries International City Church in New Castle\, PA.
URL:https://drmarkkauffman.org/event/the-royal-kingdom-academy/2025-02-26/
LOCATION:Jubilee Ministries International\, 14 East Chartes St\, New Castle\, PA\, 16102\, United States
CATEGORIES:Weekly Services
END:VEVENT
END:VCALENDAR