BEGIN:VCALENDAR
VERSION:2.0
PRODID:-//Dr. Mark Kauffman Ministries, New Castle PA - ECPv6.15.20//NONSGML v1.0//EN
CALSCALE:GREGORIAN
METHOD:PUBLISH
X-ORIGINAL-URL:https://drmarkkauffman.org
X-WR-CALDESC:Events for Dr. Mark Kauffman Ministries, New Castle PA
REFRESH-INTERVAL;VALUE=DURATION:PT1H
X-Robots-Tag:noindex
X-PUBLISHED-TTL:PT1H
BEGIN:VTIMEZONE
TZID:America/New_York
BEGIN:DAYLIGHT
TZOFFSETFROM:-0500
TZOFFSETTO:-0400
TZNAME:EDT
DTSTART:20220313T070000
END:DAYLIGHT
BEGIN:STANDARD
TZOFFSETFROM:-0400
TZOFFSETTO:-0500
TZNAME:EST
DTSTART:20221106T060000
END:STANDARD
BEGIN:DAYLIGHT
TZOFFSETFROM:-0500
TZOFFSETTO:-0400
TZNAME:EDT
DTSTART:20230312T070000
END:DAYLIGHT
BEGIN:STANDARD
TZOFFSETFROM:-0400
TZOFFSETTO:-0500
TZNAME:EST
DTSTART:20231105T060000
END:STANDARD
BEGIN:DAYLIGHT
TZOFFSETFROM:-0500
TZOFFSETTO:-0400
TZNAME:EDT
DTSTART:20240310T070000
END:DAYLIGHT
BEGIN:STANDARD
TZOFFSETFROM:-0400
TZOFFSETTO:-0500
TZNAME:EST
DTSTART:20241103T060000
END:STANDARD
END:VTIMEZONE
BEGIN:VEVENT
DTSTART;TZID=America/New_York:20230115T103000
DTEND;TZID=America/New_York:20230115T123000
DTSTAMP:20260425T090721
CREATED:20221116T195313Z
LAST-MODIFIED:20240308T002835Z
UID:10002174-1673778600-1673785800@drmarkkauffman.org
SUMMARY:Celebration Sunday
DESCRIPTION:
URL:https://drmarkkauffman.org/event/celebration-sunday/2023-01-15/
LOCATION:Jubilee Ministries International\, 14 East Chartes St\, New Castle\, PA\, 16102\, United States
CATEGORIES:Weekly Services
END:VEVENT
BEGIN:VEVENT
DTSTART;TZID=America/New_York:20230115T203000
DTEND;TZID=America/New_York:20230115T210000
DTSTAMP:20260425T090721
CREATED:20220517T170018Z
LAST-MODIFIED:20240308T000015Z
UID:10001754-1673814600-1673816400@drmarkkauffman.org
SUMMARY:Apostolic Voice on Dominion TV
DESCRIPTION:Join Drs. Mark & Jill Kauffman every Sunday and Monday for the Apostolic Voice on DominionTV as they bring insight and understanding to the Word of God. \n \n\nDominion Studios and Dominion.TV are the World Wide Media Outreach ministries of Dr. Joseph & Lynette Dutton\, and Dominion Harvest Ministries\, Inc.  Broadcasting from beautiful Myrtle Beach\, SC.\n\n 
URL:https://drmarkkauffman.org/event/apostolic-voice-3/2023-01-15/
LOCATION:PA
CATEGORIES:Broadcasting
END:VEVENT
BEGIN:VEVENT
DTSTART;TZID=America/New_York:20230116T120000
DTEND;TZID=America/New_York:20230116T123000
DTSTAMP:20260425T090721
CREATED:20240307T141940Z
LAST-MODIFIED:20240307T235758Z
UID:10001952-1673870400-1673872200@drmarkkauffman.org
SUMMARY:Apostolic Voice on Dominion TV
DESCRIPTION:Join Drs. Mark & Jill Kauffman every Sunday and Monday for the Apostolic Voice on DominionTV as they bring insight and understanding to the Word of God. \n \n\nDominion Studios and Dominion.TV are the World Wide Media Outreach ministries of Dr. Joseph & Lynette Dutton\, and Dominion Harvest Ministries\, Inc.  Broadcasting from beautiful Myrtle Beach\, SC.\n\n 
URL:https://drmarkkauffman.org/event/apostolic-voice-2/2023-01-16/
LOCATION:PA
CATEGORIES:Broadcasting
END:VEVENT
BEGIN:VEVENT
DTSTART;TZID=America/New_York:20230118T190000
DTEND;TZID=America/New_York:20230118T200000
DTSTAMP:20260425T090721
CREATED:20220518T191308Z
LAST-MODIFIED:20220518T191308Z
UID:10000036-1674068400-1674072000@drmarkkauffman.org
SUMMARY:The Royal Kingdom Academy
DESCRIPTION:Join Dr. Mark Kauffman each week for the Royal Kingdom Academy at Jubilee Ministries International City Church in New Castle\, PA.
URL:https://drmarkkauffman.org/event/the-royal-kingdom-academy/2023-01-18/
LOCATION:Jubilee Ministries International\, 14 East Chartes St\, New Castle\, PA\, 16102\, United States
CATEGORIES:Weekly Services
END:VEVENT
BEGIN:VEVENT
DTSTART;TZID=America/New_York:20230118T190000
DTEND;TZID=America/New_York:20230118T203000
DTSTAMP:20260425T090721
CREATED:20221116T192435Z
LAST-MODIFIED:20221116T192550Z
UID:10002435-1674068400-1674073800@drmarkkauffman.org
SUMMARY:Royal Kingdom Academy
DESCRIPTION:
URL:https://drmarkkauffman.org/event/royal-kingdom-academy-3/2023-01-18/
LOCATION:Jubilee Ministries International\, 14 East Chartes St\, New Castle\, PA\, 16102\, United States
CATEGORIES:Weekly Services
END:VEVENT
END:VCALENDAR