BEGIN:VCALENDAR
VERSION:2.0
PRODID:-//Dr. Mark Kauffman Ministries, New Castle PA - ECPv6.15.20//NONSGML v1.0//EN
CALSCALE:GREGORIAN
METHOD:PUBLISH
X-ORIGINAL-URL:https://drmarkkauffman.org
X-WR-CALDESC:Events for Dr. Mark Kauffman Ministries, New Castle PA
REFRESH-INTERVAL;VALUE=DURATION:PT1H
X-Robots-Tag:noindex
X-PUBLISHED-TTL:PT1H
BEGIN:VTIMEZONE
TZID:America/New_York
BEGIN:DAYLIGHT
TZOFFSETFROM:-0500
TZOFFSETTO:-0400
TZNAME:EDT
DTSTART:20220313T070000
END:DAYLIGHT
BEGIN:STANDARD
TZOFFSETFROM:-0400
TZOFFSETTO:-0500
TZNAME:EST
DTSTART:20221106T060000
END:STANDARD
BEGIN:DAYLIGHT
TZOFFSETFROM:-0500
TZOFFSETTO:-0400
TZNAME:EDT
DTSTART:20230312T070000
END:DAYLIGHT
BEGIN:STANDARD
TZOFFSETFROM:-0400
TZOFFSETTO:-0500
TZNAME:EST
DTSTART:20231105T060000
END:STANDARD
BEGIN:DAYLIGHT
TZOFFSETFROM:-0500
TZOFFSETTO:-0400
TZNAME:EDT
DTSTART:20240310T070000
END:DAYLIGHT
BEGIN:STANDARD
TZOFFSETFROM:-0400
TZOFFSETTO:-0500
TZNAME:EST
DTSTART:20241103T060000
END:STANDARD
END:VTIMEZONE
BEGIN:VEVENT
DTSTART;TZID=America/New_York:20231022T020000
DTEND;TZID=America/New_York:20231022T023000
DTSTAMP:20260423T063139
CREATED:20230502T172839Z
LAST-MODIFIED:20230502T172839Z
UID:10000377-1697940000-1697941800@drmarkkauffman.org
SUMMARY:Apostolic Voice on Best Life TV
DESCRIPTION:Join Drs. Mark and Jill every day for the Apostolic Voice on Best Life TV Network at 2:00 AM\, 2:00 PM\, 7:00 AM\, and 7:00 PM. \n \nBest Life TV\nBest Life TV provides hope\, healing\, and entertainment for Christian singles and families with 24/7 programming and video on demand!\nJoin us on Roku\, Amazon Fire\, and Apple TV. Watch what you want\, when you want to watch it!
URL:https://drmarkkauffman.org/event/apostolic-voice-on-best-life-tv/2023-10-22/
LOCATION:PA
CATEGORIES:Broadcasting
END:VEVENT
BEGIN:VEVENT
DTSTART;TZID=America/New_York:20231022T070000
DTEND;TZID=America/New_York:20231022T073000
DTSTAMP:20260423T063139
CREATED:20230502T173111Z
LAST-MODIFIED:20230502T173331Z
UID:10000687-1697958000-1697959800@drmarkkauffman.org
SUMMARY:Apostolic Voice on Best Life TV
DESCRIPTION:Join Drs. Mark and Jill every day for the Apostolic Voice on Best Life TV Network at 2:00 AM\, 2:00 PM\, 7:00 AM\, and 7:00 PM. \n \nBest Life TV\nBest Life TV provides hope\, healing\, and entertainment for Christian singles and families with 24/7 programming and video on demand!\nJoin us on Roku\, Amazon Fire\, and Apple TV. Watch what you want\, when you want to watch it!
URL:https://drmarkkauffman.org/event/apostolic-voice-on-best-life-tv-2/2023-10-22/
LOCATION:PA
END:VEVENT
BEGIN:VEVENT
DTSTART;TZID=America/New_York:20231022T103000
DTEND;TZID=America/New_York:20231022T123000
DTSTAMP:20260423T063139
CREATED:20221116T195313Z
LAST-MODIFIED:20240308T002835Z
UID:10002214-1697970600-1697977800@drmarkkauffman.org
SUMMARY:Celebration Sunday
DESCRIPTION:
URL:https://drmarkkauffman.org/event/celebration-sunday/2023-10-22/
LOCATION:Jubilee Ministries International\, 14 East Chartes St\, New Castle\, PA\, 16102\, United States
CATEGORIES:Weekly Services
END:VEVENT
BEGIN:VEVENT
DTSTART;TZID=America/New_York:20231022T203000
DTEND;TZID=America/New_York:20231022T210000
DTSTAMP:20260423T063139
CREATED:20220517T170018Z
LAST-MODIFIED:20240308T000015Z
UID:10001794-1698006600-1698008400@drmarkkauffman.org
SUMMARY:Apostolic Voice on Dominion TV
DESCRIPTION:Join Drs. Mark & Jill Kauffman every Sunday and Monday for the Apostolic Voice on DominionTV as they bring insight and understanding to the Word of God. \n \n\nDominion Studios and Dominion.TV are the World Wide Media Outreach ministries of Dr. Joseph & Lynette Dutton\, and Dominion Harvest Ministries\, Inc.  Broadcasting from beautiful Myrtle Beach\, SC.\n\n 
URL:https://drmarkkauffman.org/event/apostolic-voice-3/2023-10-22/
LOCATION:PA
CATEGORIES:Broadcasting
END:VEVENT
BEGIN:VEVENT
DTSTART;TZID=America/New_York:20231023T020000
DTEND;TZID=America/New_York:20231023T023000
DTSTAMP:20260423T063139
CREATED:20230502T172839Z
LAST-MODIFIED:20230502T172839Z
UID:10000378-1698026400-1698028200@drmarkkauffman.org
SUMMARY:Apostolic Voice on Best Life TV
DESCRIPTION:Join Drs. Mark and Jill every day for the Apostolic Voice on Best Life TV Network at 2:00 AM\, 2:00 PM\, 7:00 AM\, and 7:00 PM. \n \nBest Life TV\nBest Life TV provides hope\, healing\, and entertainment for Christian singles and families with 24/7 programming and video on demand!\nJoin us on Roku\, Amazon Fire\, and Apple TV. Watch what you want\, when you want to watch it!
URL:https://drmarkkauffman.org/event/apostolic-voice-on-best-life-tv/2023-10-23/
LOCATION:PA
CATEGORIES:Broadcasting
END:VEVENT
BEGIN:VEVENT
DTSTART;TZID=America/New_York:20231023T070000
DTEND;TZID=America/New_York:20231023T073000
DTSTAMP:20260423T063139
CREATED:20230502T173111Z
LAST-MODIFIED:20230502T173331Z
UID:10000688-1698044400-1698046200@drmarkkauffman.org
SUMMARY:Apostolic Voice on Best Life TV
DESCRIPTION:Join Drs. Mark and Jill every day for the Apostolic Voice on Best Life TV Network at 2:00 AM\, 2:00 PM\, 7:00 AM\, and 7:00 PM. \n \nBest Life TV\nBest Life TV provides hope\, healing\, and entertainment for Christian singles and families with 24/7 programming and video on demand!\nJoin us on Roku\, Amazon Fire\, and Apple TV. Watch what you want\, when you want to watch it!
URL:https://drmarkkauffman.org/event/apostolic-voice-on-best-life-tv-2/2023-10-23/
LOCATION:PA
END:VEVENT
BEGIN:VEVENT
DTSTART;TZID=America/New_York:20231023T120000
DTEND;TZID=America/New_York:20231023T123000
DTSTAMP:20260423T063139
CREATED:20240307T141940Z
LAST-MODIFIED:20240307T235758Z
UID:10001992-1698062400-1698064200@drmarkkauffman.org
SUMMARY:Apostolic Voice on Dominion TV
DESCRIPTION:Join Drs. Mark & Jill Kauffman every Sunday and Monday for the Apostolic Voice on DominionTV as they bring insight and understanding to the Word of God. \n \n\nDominion Studios and Dominion.TV are the World Wide Media Outreach ministries of Dr. Joseph & Lynette Dutton\, and Dominion Harvest Ministries\, Inc.  Broadcasting from beautiful Myrtle Beach\, SC.\n\n 
URL:https://drmarkkauffman.org/event/apostolic-voice-2/2023-10-23/
LOCATION:PA
CATEGORIES:Broadcasting
END:VEVENT
BEGIN:VEVENT
DTSTART;TZID=America/New_York:20231024T020000
DTEND;TZID=America/New_York:20231024T023000
DTSTAMP:20260423T063139
CREATED:20230502T172839Z
LAST-MODIFIED:20230502T172839Z
UID:10000379-1698112800-1698114600@drmarkkauffman.org
SUMMARY:Apostolic Voice on Best Life TV
DESCRIPTION:Join Drs. Mark and Jill every day for the Apostolic Voice on Best Life TV Network at 2:00 AM\, 2:00 PM\, 7:00 AM\, and 7:00 PM. \n \nBest Life TV\nBest Life TV provides hope\, healing\, and entertainment for Christian singles and families with 24/7 programming and video on demand!\nJoin us on Roku\, Amazon Fire\, and Apple TV. Watch what you want\, when you want to watch it!
URL:https://drmarkkauffman.org/event/apostolic-voice-on-best-life-tv/2023-10-24/
LOCATION:PA
CATEGORIES:Broadcasting
END:VEVENT
BEGIN:VEVENT
DTSTART;TZID=America/New_York:20231024T070000
DTEND;TZID=America/New_York:20231024T073000
DTSTAMP:20260423T063139
CREATED:20230502T173111Z
LAST-MODIFIED:20230502T173331Z
UID:10000689-1698130800-1698132600@drmarkkauffman.org
SUMMARY:Apostolic Voice on Best Life TV
DESCRIPTION:Join Drs. Mark and Jill every day for the Apostolic Voice on Best Life TV Network at 2:00 AM\, 2:00 PM\, 7:00 AM\, and 7:00 PM. \n \nBest Life TV\nBest Life TV provides hope\, healing\, and entertainment for Christian singles and families with 24/7 programming and video on demand!\nJoin us on Roku\, Amazon Fire\, and Apple TV. Watch what you want\, when you want to watch it!
URL:https://drmarkkauffman.org/event/apostolic-voice-on-best-life-tv-2/2023-10-24/
LOCATION:PA
END:VEVENT
BEGIN:VEVENT
DTSTART;TZID=America/New_York:20231025T020000
DTEND;TZID=America/New_York:20231025T023000
DTSTAMP:20260423T063139
CREATED:20230502T172839Z
LAST-MODIFIED:20230502T172839Z
UID:10000380-1698199200-1698201000@drmarkkauffman.org
SUMMARY:Apostolic Voice on Best Life TV
DESCRIPTION:Join Drs. Mark and Jill every day for the Apostolic Voice on Best Life TV Network at 2:00 AM\, 2:00 PM\, 7:00 AM\, and 7:00 PM. \n \nBest Life TV\nBest Life TV provides hope\, healing\, and entertainment for Christian singles and families with 24/7 programming and video on demand!\nJoin us on Roku\, Amazon Fire\, and Apple TV. Watch what you want\, when you want to watch it!
URL:https://drmarkkauffman.org/event/apostolic-voice-on-best-life-tv/2023-10-25/
LOCATION:PA
CATEGORIES:Broadcasting
END:VEVENT
BEGIN:VEVENT
DTSTART;TZID=America/New_York:20231025T070000
DTEND;TZID=America/New_York:20231025T073000
DTSTAMP:20260423T063139
CREATED:20230502T173111Z
LAST-MODIFIED:20230502T173331Z
UID:10000690-1698217200-1698219000@drmarkkauffman.org
SUMMARY:Apostolic Voice on Best Life TV
DESCRIPTION:Join Drs. Mark and Jill every day for the Apostolic Voice on Best Life TV Network at 2:00 AM\, 2:00 PM\, 7:00 AM\, and 7:00 PM. \n \nBest Life TV\nBest Life TV provides hope\, healing\, and entertainment for Christian singles and families with 24/7 programming and video on demand!\nJoin us on Roku\, Amazon Fire\, and Apple TV. Watch what you want\, when you want to watch it!
URL:https://drmarkkauffman.org/event/apostolic-voice-on-best-life-tv-2/2023-10-25/
LOCATION:PA
END:VEVENT
BEGIN:VEVENT
DTSTART;TZID=America/New_York:20231025T190000
DTEND;TZID=America/New_York:20231025T200000
DTSTAMP:20260423T063139
CREATED:20220518T191308Z
LAST-MODIFIED:20220518T191308Z
UID:10000076-1698260400-1698264000@drmarkkauffman.org
SUMMARY:The Royal Kingdom Academy
DESCRIPTION:Join Dr. Mark Kauffman each week for the Royal Kingdom Academy at Jubilee Ministries International City Church in New Castle\, PA.
URL:https://drmarkkauffman.org/event/the-royal-kingdom-academy/2023-10-25/
LOCATION:Jubilee Ministries International\, 14 East Chartes St\, New Castle\, PA\, 16102\, United States
CATEGORIES:Weekly Services
END:VEVENT
BEGIN:VEVENT
DTSTART;TZID=America/New_York:20231025T190000
DTEND;TZID=America/New_York:20231025T203000
DTSTAMP:20260423T063139
CREATED:20221116T192435Z
LAST-MODIFIED:20221116T192550Z
UID:10002475-1698260400-1698265800@drmarkkauffman.org
SUMMARY:Royal Kingdom Academy
DESCRIPTION:
URL:https://drmarkkauffman.org/event/royal-kingdom-academy-3/2023-10-25/
LOCATION:Jubilee Ministries International\, 14 East Chartes St\, New Castle\, PA\, 16102\, United States
CATEGORIES:Weekly Services
END:VEVENT
BEGIN:VEVENT
DTSTART;VALUE=DATE:20231026
DTEND;VALUE=DATE:20231030
DTSTAMP:20260423T063139
CREATED:20230912T203739Z
LAST-MODIFIED:20230918T013520Z
UID:10000203-1698278400-1698623999@drmarkkauffman.org
SUMMARY:Apostles' Impartation
DESCRIPTION:Join Dr. Mark Kauffman at Apostles’ Impartation: Imparting Wisdom & revelation from the Lord. \nDates: October 26th-29th \nDr. Kauffman will be ministering Saturday\, 10/28/2023 at 7:00PM.
URL:https://drmarkkauffman.org/event/apostles-impartation/
LOCATION:3507 Canfield Rd\, 3507 Canfield Rd\, Ste3\, Youngstown\, OH\, 44511\, United States
END:VEVENT
BEGIN:VEVENT
DTSTART;TZID=America/New_York:20231026T020000
DTEND;TZID=America/New_York:20231026T023000
DTSTAMP:20260423T063139
CREATED:20230502T172839Z
LAST-MODIFIED:20230502T172839Z
UID:10000381-1698285600-1698287400@drmarkkauffman.org
SUMMARY:Apostolic Voice on Best Life TV
DESCRIPTION:Join Drs. Mark and Jill every day for the Apostolic Voice on Best Life TV Network at 2:00 AM\, 2:00 PM\, 7:00 AM\, and 7:00 PM. \n \nBest Life TV\nBest Life TV provides hope\, healing\, and entertainment for Christian singles and families with 24/7 programming and video on demand!\nJoin us on Roku\, Amazon Fire\, and Apple TV. Watch what you want\, when you want to watch it!
URL:https://drmarkkauffman.org/event/apostolic-voice-on-best-life-tv/2023-10-26/
LOCATION:PA
CATEGORIES:Broadcasting
END:VEVENT
BEGIN:VEVENT
DTSTART;TZID=America/New_York:20231026T070000
DTEND;TZID=America/New_York:20231026T073000
DTSTAMP:20260423T063139
CREATED:20230502T173111Z
LAST-MODIFIED:20230502T173331Z
UID:10000691-1698303600-1698305400@drmarkkauffman.org
SUMMARY:Apostolic Voice on Best Life TV
DESCRIPTION:Join Drs. Mark and Jill every day for the Apostolic Voice on Best Life TV Network at 2:00 AM\, 2:00 PM\, 7:00 AM\, and 7:00 PM. \n \nBest Life TV\nBest Life TV provides hope\, healing\, and entertainment for Christian singles and families with 24/7 programming and video on demand!\nJoin us on Roku\, Amazon Fire\, and Apple TV. Watch what you want\, when you want to watch it!
URL:https://drmarkkauffman.org/event/apostolic-voice-on-best-life-tv-2/2023-10-26/
LOCATION:PA
END:VEVENT
BEGIN:VEVENT
DTSTART;TZID=America/New_York:20231027T020000
DTEND;TZID=America/New_York:20231027T023000
DTSTAMP:20260423T063139
CREATED:20230502T172839Z
LAST-MODIFIED:20230502T172839Z
UID:10000382-1698372000-1698373800@drmarkkauffman.org
SUMMARY:Apostolic Voice on Best Life TV
DESCRIPTION:Join Drs. Mark and Jill every day for the Apostolic Voice on Best Life TV Network at 2:00 AM\, 2:00 PM\, 7:00 AM\, and 7:00 PM. \n \nBest Life TV\nBest Life TV provides hope\, healing\, and entertainment for Christian singles and families with 24/7 programming and video on demand!\nJoin us on Roku\, Amazon Fire\, and Apple TV. Watch what you want\, when you want to watch it!
URL:https://drmarkkauffman.org/event/apostolic-voice-on-best-life-tv/2023-10-27/
LOCATION:PA
CATEGORIES:Broadcasting
END:VEVENT
BEGIN:VEVENT
DTSTART;TZID=America/New_York:20231027T070000
DTEND;TZID=America/New_York:20231027T073000
DTSTAMP:20260423T063139
CREATED:20230502T173111Z
LAST-MODIFIED:20230502T173331Z
UID:10000692-1698390000-1698391800@drmarkkauffman.org
SUMMARY:Apostolic Voice on Best Life TV
DESCRIPTION:Join Drs. Mark and Jill every day for the Apostolic Voice on Best Life TV Network at 2:00 AM\, 2:00 PM\, 7:00 AM\, and 7:00 PM. \n \nBest Life TV\nBest Life TV provides hope\, healing\, and entertainment for Christian singles and families with 24/7 programming and video on demand!\nJoin us on Roku\, Amazon Fire\, and Apple TV. Watch what you want\, when you want to watch it!
URL:https://drmarkkauffman.org/event/apostolic-voice-on-best-life-tv-2/2023-10-27/
LOCATION:PA
END:VEVENT
BEGIN:VEVENT
DTSTART;TZID=America/New_York:20231028T020000
DTEND;TZID=America/New_York:20231028T023000
DTSTAMP:20260423T063139
CREATED:20230502T172839Z
LAST-MODIFIED:20230502T172839Z
UID:10000383-1698458400-1698460200@drmarkkauffman.org
SUMMARY:Apostolic Voice on Best Life TV
DESCRIPTION:Join Drs. Mark and Jill every day for the Apostolic Voice on Best Life TV Network at 2:00 AM\, 2:00 PM\, 7:00 AM\, and 7:00 PM. \n \nBest Life TV\nBest Life TV provides hope\, healing\, and entertainment for Christian singles and families with 24/7 programming and video on demand!\nJoin us on Roku\, Amazon Fire\, and Apple TV. Watch what you want\, when you want to watch it!
URL:https://drmarkkauffman.org/event/apostolic-voice-on-best-life-tv/2023-10-28/
LOCATION:PA
CATEGORIES:Broadcasting
END:VEVENT
BEGIN:VEVENT
DTSTART;TZID=America/New_York:20231028T070000
DTEND;TZID=America/New_York:20231028T073000
DTSTAMP:20260423T063139
CREATED:20230502T173111Z
LAST-MODIFIED:20230502T173331Z
UID:10000693-1698476400-1698478200@drmarkkauffman.org
SUMMARY:Apostolic Voice on Best Life TV
DESCRIPTION:Join Drs. Mark and Jill every day for the Apostolic Voice on Best Life TV Network at 2:00 AM\, 2:00 PM\, 7:00 AM\, and 7:00 PM. \n \nBest Life TV\nBest Life TV provides hope\, healing\, and entertainment for Christian singles and families with 24/7 programming and video on demand!\nJoin us on Roku\, Amazon Fire\, and Apple TV. Watch what you want\, when you want to watch it!
URL:https://drmarkkauffman.org/event/apostolic-voice-on-best-life-tv-2/2023-10-28/
LOCATION:PA
END:VEVENT
END:VCALENDAR