BEGIN:VCALENDAR
VERSION:2.0
PRODID:-//Dr. Mark Kauffman Ministries, New Castle PA - ECPv6.15.20//NONSGML v1.0//EN
CALSCALE:GREGORIAN
METHOD:PUBLISH
X-ORIGINAL-URL:https://drmarkkauffman.org
X-WR-CALDESC:Events for Dr. Mark Kauffman Ministries, New Castle PA
REFRESH-INTERVAL;VALUE=DURATION:PT1H
X-Robots-Tag:noindex
X-PUBLISHED-TTL:PT1H
BEGIN:VTIMEZONE
TZID:America/New_York
BEGIN:DAYLIGHT
TZOFFSETFROM:-0500
TZOFFSETTO:-0400
TZNAME:EDT
DTSTART:20230312T070000
END:DAYLIGHT
BEGIN:STANDARD
TZOFFSETFROM:-0400
TZOFFSETTO:-0500
TZNAME:EST
DTSTART:20231105T060000
END:STANDARD
BEGIN:DAYLIGHT
TZOFFSETFROM:-0500
TZOFFSETTO:-0400
TZNAME:EDT
DTSTART:20240310T070000
END:DAYLIGHT
BEGIN:STANDARD
TZOFFSETFROM:-0400
TZOFFSETTO:-0500
TZNAME:EST
DTSTART:20241103T060000
END:STANDARD
BEGIN:DAYLIGHT
TZOFFSETFROM:-0500
TZOFFSETTO:-0400
TZNAME:EDT
DTSTART:20250309T070000
END:DAYLIGHT
BEGIN:STANDARD
TZOFFSETFROM:-0400
TZOFFSETTO:-0500
TZNAME:EST
DTSTART:20251102T060000
END:STANDARD
END:VTIMEZONE
BEGIN:VEVENT
DTSTART;TZID=America/New_York:20240218T020000
DTEND;TZID=America/New_York:20240218T023000
DTSTAMP:20260422T184713
CREATED:20230502T172839Z
LAST-MODIFIED:20230502T172839Z
UID:10000496-1708221600-1708223400@drmarkkauffman.org
SUMMARY:Apostolic Voice on Best Life TV
DESCRIPTION:Join Drs. Mark and Jill every day for the Apostolic Voice on Best Life TV Network at 2:00 AM\, 2:00 PM\, 7:00 AM\, and 7:00 PM. \n \nBest Life TV\nBest Life TV provides hope\, healing\, and entertainment for Christian singles and families with 24/7 programming and video on demand!\nJoin us on Roku\, Amazon Fire\, and Apple TV. Watch what you want\, when you want to watch it!
URL:https://drmarkkauffman.org/event/apostolic-voice-on-best-life-tv/2024-02-18/
LOCATION:PA
CATEGORIES:Broadcasting
END:VEVENT
BEGIN:VEVENT
DTSTART;TZID=America/New_York:20240218T070000
DTEND;TZID=America/New_York:20240218T073000
DTSTAMP:20260422T184713
CREATED:20230502T173111Z
LAST-MODIFIED:20230502T173331Z
UID:10000806-1708239600-1708241400@drmarkkauffman.org
SUMMARY:Apostolic Voice on Best Life TV
DESCRIPTION:Join Drs. Mark and Jill every day for the Apostolic Voice on Best Life TV Network at 2:00 AM\, 2:00 PM\, 7:00 AM\, and 7:00 PM. \n \nBest Life TV\nBest Life TV provides hope\, healing\, and entertainment for Christian singles and families with 24/7 programming and video on demand!\nJoin us on Roku\, Amazon Fire\, and Apple TV. Watch what you want\, when you want to watch it!
URL:https://drmarkkauffman.org/event/apostolic-voice-on-best-life-tv-2/2024-02-18/
LOCATION:PA
END:VEVENT
BEGIN:VEVENT
DTSTART;TZID=America/New_York:20240218T103000
DTEND;TZID=America/New_York:20240218T123000
DTSTAMP:20260422T184713
CREATED:20221116T195313Z
LAST-MODIFIED:20240308T002835Z
UID:10002231-1708252200-1708259400@drmarkkauffman.org
SUMMARY:Celebration Sunday
DESCRIPTION:
URL:https://drmarkkauffman.org/event/celebration-sunday/2024-02-18/
LOCATION:Jubilee Ministries International\, 14 East Chartes St\, New Castle\, PA\, 16102\, United States
CATEGORIES:Weekly Services
END:VEVENT
BEGIN:VEVENT
DTSTART;TZID=America/New_York:20240218T203000
DTEND;TZID=America/New_York:20240218T210000
DTSTAMP:20260422T184713
CREATED:20220517T170018Z
LAST-MODIFIED:20240308T000015Z
UID:10001811-1708288200-1708290000@drmarkkauffman.org
SUMMARY:Apostolic Voice on Dominion TV
DESCRIPTION:Join Drs. Mark & Jill Kauffman every Sunday and Monday for the Apostolic Voice on DominionTV as they bring insight and understanding to the Word of God. \n \n\nDominion Studios and Dominion.TV are the World Wide Media Outreach ministries of Dr. Joseph & Lynette Dutton\, and Dominion Harvest Ministries\, Inc.  Broadcasting from beautiful Myrtle Beach\, SC.\n\n 
URL:https://drmarkkauffman.org/event/apostolic-voice-3/2024-02-18/
LOCATION:PA
CATEGORIES:Broadcasting
END:VEVENT
BEGIN:VEVENT
DTSTART;TZID=America/New_York:20240219T020000
DTEND;TZID=America/New_York:20240219T023000
DTSTAMP:20260422T184713
CREATED:20230502T172839Z
LAST-MODIFIED:20230502T172839Z
UID:10000497-1708308000-1708309800@drmarkkauffman.org
SUMMARY:Apostolic Voice on Best Life TV
DESCRIPTION:Join Drs. Mark and Jill every day for the Apostolic Voice on Best Life TV Network at 2:00 AM\, 2:00 PM\, 7:00 AM\, and 7:00 PM. \n \nBest Life TV\nBest Life TV provides hope\, healing\, and entertainment for Christian singles and families with 24/7 programming and video on demand!\nJoin us on Roku\, Amazon Fire\, and Apple TV. Watch what you want\, when you want to watch it!
URL:https://drmarkkauffman.org/event/apostolic-voice-on-best-life-tv/2024-02-19/
LOCATION:PA
CATEGORIES:Broadcasting
END:VEVENT
BEGIN:VEVENT
DTSTART;TZID=America/New_York:20240219T070000
DTEND;TZID=America/New_York:20240219T073000
DTSTAMP:20260422T184713
CREATED:20230502T173111Z
LAST-MODIFIED:20230502T173331Z
UID:10000807-1708326000-1708327800@drmarkkauffman.org
SUMMARY:Apostolic Voice on Best Life TV
DESCRIPTION:Join Drs. Mark and Jill every day for the Apostolic Voice on Best Life TV Network at 2:00 AM\, 2:00 PM\, 7:00 AM\, and 7:00 PM. \n \nBest Life TV\nBest Life TV provides hope\, healing\, and entertainment for Christian singles and families with 24/7 programming and video on demand!\nJoin us on Roku\, Amazon Fire\, and Apple TV. Watch what you want\, when you want to watch it!
URL:https://drmarkkauffman.org/event/apostolic-voice-on-best-life-tv-2/2024-02-19/
LOCATION:PA
END:VEVENT
BEGIN:VEVENT
DTSTART;TZID=America/New_York:20240219T120000
DTEND;TZID=America/New_York:20240219T123000
DTSTAMP:20260422T184713
CREATED:20240307T141940Z
LAST-MODIFIED:20240307T235758Z
UID:10002009-1708344000-1708345800@drmarkkauffman.org
SUMMARY:Apostolic Voice on Dominion TV
DESCRIPTION:Join Drs. Mark & Jill Kauffman every Sunday and Monday for the Apostolic Voice on DominionTV as they bring insight and understanding to the Word of God. \n \n\nDominion Studios and Dominion.TV are the World Wide Media Outreach ministries of Dr. Joseph & Lynette Dutton\, and Dominion Harvest Ministries\, Inc.  Broadcasting from beautiful Myrtle Beach\, SC.\n\n 
URL:https://drmarkkauffman.org/event/apostolic-voice-2/2024-02-19/
LOCATION:PA
CATEGORIES:Broadcasting
END:VEVENT
BEGIN:VEVENT
DTSTART;TZID=America/New_York:20240220T020000
DTEND;TZID=America/New_York:20240220T023000
DTSTAMP:20260422T184713
CREATED:20230502T172839Z
LAST-MODIFIED:20230502T172839Z
UID:10000498-1708394400-1708396200@drmarkkauffman.org
SUMMARY:Apostolic Voice on Best Life TV
DESCRIPTION:Join Drs. Mark and Jill every day for the Apostolic Voice on Best Life TV Network at 2:00 AM\, 2:00 PM\, 7:00 AM\, and 7:00 PM. \n \nBest Life TV\nBest Life TV provides hope\, healing\, and entertainment for Christian singles and families with 24/7 programming and video on demand!\nJoin us on Roku\, Amazon Fire\, and Apple TV. Watch what you want\, when you want to watch it!
URL:https://drmarkkauffman.org/event/apostolic-voice-on-best-life-tv/2024-02-20/
LOCATION:PA
CATEGORIES:Broadcasting
END:VEVENT
BEGIN:VEVENT
DTSTART;TZID=America/New_York:20240220T070000
DTEND;TZID=America/New_York:20240220T073000
DTSTAMP:20260422T184713
CREATED:20230502T173111Z
LAST-MODIFIED:20230502T173331Z
UID:10000808-1708412400-1708414200@drmarkkauffman.org
SUMMARY:Apostolic Voice on Best Life TV
DESCRIPTION:Join Drs. Mark and Jill every day for the Apostolic Voice on Best Life TV Network at 2:00 AM\, 2:00 PM\, 7:00 AM\, and 7:00 PM. \n \nBest Life TV\nBest Life TV provides hope\, healing\, and entertainment for Christian singles and families with 24/7 programming and video on demand!\nJoin us on Roku\, Amazon Fire\, and Apple TV. Watch what you want\, when you want to watch it!
URL:https://drmarkkauffman.org/event/apostolic-voice-on-best-life-tv-2/2024-02-20/
LOCATION:PA
END:VEVENT
BEGIN:VEVENT
DTSTART;TZID=America/New_York:20240221T020000
DTEND;TZID=America/New_York:20240221T023000
DTSTAMP:20260422T184713
CREATED:20230502T172839Z
LAST-MODIFIED:20230502T172839Z
UID:10000499-1708480800-1708482600@drmarkkauffman.org
SUMMARY:Apostolic Voice on Best Life TV
DESCRIPTION:Join Drs. Mark and Jill every day for the Apostolic Voice on Best Life TV Network at 2:00 AM\, 2:00 PM\, 7:00 AM\, and 7:00 PM. \n \nBest Life TV\nBest Life TV provides hope\, healing\, and entertainment for Christian singles and families with 24/7 programming and video on demand!\nJoin us on Roku\, Amazon Fire\, and Apple TV. Watch what you want\, when you want to watch it!
URL:https://drmarkkauffman.org/event/apostolic-voice-on-best-life-tv/2024-02-21/
LOCATION:PA
CATEGORIES:Broadcasting
END:VEVENT
BEGIN:VEVENT
DTSTART;TZID=America/New_York:20240221T070000
DTEND;TZID=America/New_York:20240221T073000
DTSTAMP:20260422T184713
CREATED:20230502T173111Z
LAST-MODIFIED:20230502T173331Z
UID:10000809-1708498800-1708500600@drmarkkauffman.org
SUMMARY:Apostolic Voice on Best Life TV
DESCRIPTION:Join Drs. Mark and Jill every day for the Apostolic Voice on Best Life TV Network at 2:00 AM\, 2:00 PM\, 7:00 AM\, and 7:00 PM. \n \nBest Life TV\nBest Life TV provides hope\, healing\, and entertainment for Christian singles and families with 24/7 programming and video on demand!\nJoin us on Roku\, Amazon Fire\, and Apple TV. Watch what you want\, when you want to watch it!
URL:https://drmarkkauffman.org/event/apostolic-voice-on-best-life-tv-2/2024-02-21/
LOCATION:PA
END:VEVENT
BEGIN:VEVENT
DTSTART;TZID=America/New_York:20240221T190000
DTEND;TZID=America/New_York:20240221T200000
DTSTAMP:20260422T184713
CREATED:20220518T191308Z
LAST-MODIFIED:20220518T191308Z
UID:10000093-1708542000-1708545600@drmarkkauffman.org
SUMMARY:The Royal Kingdom Academy
DESCRIPTION:Join Dr. Mark Kauffman each week for the Royal Kingdom Academy at Jubilee Ministries International City Church in New Castle\, PA.
URL:https://drmarkkauffman.org/event/the-royal-kingdom-academy/2024-02-21/
LOCATION:Jubilee Ministries International\, 14 East Chartes St\, New Castle\, PA\, 16102\, United States
CATEGORIES:Weekly Services
END:VEVENT
BEGIN:VEVENT
DTSTART;TZID=America/New_York:20240222T020000
DTEND;TZID=America/New_York:20240222T023000
DTSTAMP:20260422T184713
CREATED:20230502T172839Z
LAST-MODIFIED:20230502T172839Z
UID:10000500-1708567200-1708569000@drmarkkauffman.org
SUMMARY:Apostolic Voice on Best Life TV
DESCRIPTION:Join Drs. Mark and Jill every day for the Apostolic Voice on Best Life TV Network at 2:00 AM\, 2:00 PM\, 7:00 AM\, and 7:00 PM. \n \nBest Life TV\nBest Life TV provides hope\, healing\, and entertainment for Christian singles and families with 24/7 programming and video on demand!\nJoin us on Roku\, Amazon Fire\, and Apple TV. Watch what you want\, when you want to watch it!
URL:https://drmarkkauffman.org/event/apostolic-voice-on-best-life-tv/2024-02-22/
LOCATION:PA
CATEGORIES:Broadcasting
END:VEVENT
BEGIN:VEVENT
DTSTART;TZID=America/New_York:20240222T070000
DTEND;TZID=America/New_York:20240222T073000
DTSTAMP:20260422T184713
CREATED:20230502T173111Z
LAST-MODIFIED:20230502T173331Z
UID:10000810-1708585200-1708587000@drmarkkauffman.org
SUMMARY:Apostolic Voice on Best Life TV
DESCRIPTION:Join Drs. Mark and Jill every day for the Apostolic Voice on Best Life TV Network at 2:00 AM\, 2:00 PM\, 7:00 AM\, and 7:00 PM. \n \nBest Life TV\nBest Life TV provides hope\, healing\, and entertainment for Christian singles and families with 24/7 programming and video on demand!\nJoin us on Roku\, Amazon Fire\, and Apple TV. Watch what you want\, when you want to watch it!
URL:https://drmarkkauffman.org/event/apostolic-voice-on-best-life-tv-2/2024-02-22/
LOCATION:PA
END:VEVENT
BEGIN:VEVENT
DTSTART;TZID=America/New_York:20240223T020000
DTEND;TZID=America/New_York:20240223T023000
DTSTAMP:20260422T184713
CREATED:20230502T172839Z
LAST-MODIFIED:20230502T172839Z
UID:10000501-1708653600-1708655400@drmarkkauffman.org
SUMMARY:Apostolic Voice on Best Life TV
DESCRIPTION:Join Drs. Mark and Jill every day for the Apostolic Voice on Best Life TV Network at 2:00 AM\, 2:00 PM\, 7:00 AM\, and 7:00 PM. \n \nBest Life TV\nBest Life TV provides hope\, healing\, and entertainment for Christian singles and families with 24/7 programming and video on demand!\nJoin us on Roku\, Amazon Fire\, and Apple TV. Watch what you want\, when you want to watch it!
URL:https://drmarkkauffman.org/event/apostolic-voice-on-best-life-tv/2024-02-23/
LOCATION:PA
CATEGORIES:Broadcasting
END:VEVENT
BEGIN:VEVENT
DTSTART;TZID=America/New_York:20240223T070000
DTEND;TZID=America/New_York:20240223T073000
DTSTAMP:20260422T184713
CREATED:20230502T173111Z
LAST-MODIFIED:20230502T173331Z
UID:10000811-1708671600-1708673400@drmarkkauffman.org
SUMMARY:Apostolic Voice on Best Life TV
DESCRIPTION:Join Drs. Mark and Jill every day for the Apostolic Voice on Best Life TV Network at 2:00 AM\, 2:00 PM\, 7:00 AM\, and 7:00 PM. \n \nBest Life TV\nBest Life TV provides hope\, healing\, and entertainment for Christian singles and families with 24/7 programming and video on demand!\nJoin us on Roku\, Amazon Fire\, and Apple TV. Watch what you want\, when you want to watch it!
URL:https://drmarkkauffman.org/event/apostolic-voice-on-best-life-tv-2/2024-02-23/
LOCATION:PA
END:VEVENT
BEGIN:VEVENT
DTSTART;TZID=America/New_York:20240224T020000
DTEND;TZID=America/New_York:20240224T023000
DTSTAMP:20260422T184713
CREATED:20230502T172839Z
LAST-MODIFIED:20230502T172839Z
UID:10000502-1708740000-1708741800@drmarkkauffman.org
SUMMARY:Apostolic Voice on Best Life TV
DESCRIPTION:Join Drs. Mark and Jill every day for the Apostolic Voice on Best Life TV Network at 2:00 AM\, 2:00 PM\, 7:00 AM\, and 7:00 PM. \n \nBest Life TV\nBest Life TV provides hope\, healing\, and entertainment for Christian singles and families with 24/7 programming and video on demand!\nJoin us on Roku\, Amazon Fire\, and Apple TV. Watch what you want\, when you want to watch it!
URL:https://drmarkkauffman.org/event/apostolic-voice-on-best-life-tv/2024-02-24/
LOCATION:PA
CATEGORIES:Broadcasting
END:VEVENT
BEGIN:VEVENT
DTSTART;TZID=America/New_York:20240224T070000
DTEND;TZID=America/New_York:20240224T073000
DTSTAMP:20260422T184713
CREATED:20230502T173111Z
LAST-MODIFIED:20230502T173331Z
UID:10000812-1708758000-1708759800@drmarkkauffman.org
SUMMARY:Apostolic Voice on Best Life TV
DESCRIPTION:Join Drs. Mark and Jill every day for the Apostolic Voice on Best Life TV Network at 2:00 AM\, 2:00 PM\, 7:00 AM\, and 7:00 PM. \n \nBest Life TV\nBest Life TV provides hope\, healing\, and entertainment for Christian singles and families with 24/7 programming and video on demand!\nJoin us on Roku\, Amazon Fire\, and Apple TV. Watch what you want\, when you want to watch it!
URL:https://drmarkkauffman.org/event/apostolic-voice-on-best-life-tv-2/2024-02-24/
LOCATION:PA
END:VEVENT
END:VCALENDAR