BEGIN:VCALENDAR
VERSION:2.0
PRODID:-//Dr. Mark Kauffman Ministries, New Castle PA - ECPv6.15.19//NONSGML v1.0//EN
CALSCALE:GREGORIAN
METHOD:PUBLISH
X-ORIGINAL-URL:https://drmarkkauffman.org
X-WR-CALDESC:Events for Dr. Mark Kauffman Ministries, New Castle PA
REFRESH-INTERVAL;VALUE=DURATION:PT1H
X-Robots-Tag:noindex
X-PUBLISHED-TTL:PT1H
BEGIN:VTIMEZONE
TZID:America/New_York
BEGIN:DAYLIGHT
TZOFFSETFROM:-0500
TZOFFSETTO:-0400
TZNAME:EDT
DTSTART:20230312T070000
END:DAYLIGHT
BEGIN:STANDARD
TZOFFSETFROM:-0400
TZOFFSETTO:-0500
TZNAME:EST
DTSTART:20231105T060000
END:STANDARD
BEGIN:DAYLIGHT
TZOFFSETFROM:-0500
TZOFFSETTO:-0400
TZNAME:EDT
DTSTART:20240310T070000
END:DAYLIGHT
BEGIN:STANDARD
TZOFFSETFROM:-0400
TZOFFSETTO:-0500
TZNAME:EST
DTSTART:20241103T060000
END:STANDARD
BEGIN:DAYLIGHT
TZOFFSETFROM:-0500
TZOFFSETTO:-0400
TZNAME:EDT
DTSTART:20250309T070000
END:DAYLIGHT
BEGIN:STANDARD
TZOFFSETFROM:-0400
TZOFFSETTO:-0500
TZNAME:EST
DTSTART:20251102T060000
END:STANDARD
END:VTIMEZONE
BEGIN:VEVENT
DTSTART;TZID=America/New_York:20240714T070000
DTEND;TZID=America/New_York:20240714T073000
DTSTAMP:20260421T231735
CREATED:20230502T173111Z
LAST-MODIFIED:20230502T173331Z
UID:10000953-1720940400-1720942200@drmarkkauffman.org
SUMMARY:Apostolic Voice on Best Life TV
DESCRIPTION:Join Drs. Mark and Jill every day for the Apostolic Voice on Best Life TV Network at 2:00 AM\, 2:00 PM\, 7:00 AM\, and 7:00 PM. \n \nBest Life TV\nBest Life TV provides hope\, healing\, and entertainment for Christian singles and families with 24/7 programming and video on demand!\nJoin us on Roku\, Amazon Fire\, and Apple TV. Watch what you want\, when you want to watch it!
URL:https://drmarkkauffman.org/event/apostolic-voice-on-best-life-tv-2/2024-07-14/
LOCATION:PA
END:VEVENT
BEGIN:VEVENT
DTSTART;TZID=America/New_York:20240714T103000
DTEND;TZID=America/New_York:20240714T123000
DTSTAMP:20260421T231735
CREATED:20221116T195313Z
LAST-MODIFIED:20240308T002835Z
UID:10002252-1720953000-1720960200@drmarkkauffman.org
SUMMARY:Celebration Sunday
DESCRIPTION:
URL:https://drmarkkauffman.org/event/celebration-sunday/2024-07-14/
LOCATION:Jubilee Ministries International\, 14 East Chartes St\, New Castle\, PA\, 16102\, United States
CATEGORIES:Weekly Services
END:VEVENT
BEGIN:VEVENT
DTSTART;TZID=America/New_York:20240714T203000
DTEND;TZID=America/New_York:20240714T210000
DTSTAMP:20260421T231735
CREATED:20220517T170018Z
LAST-MODIFIED:20240308T000015Z
UID:10001832-1720989000-1720990800@drmarkkauffman.org
SUMMARY:Apostolic Voice on Dominion TV
DESCRIPTION:Join Drs. Mark & Jill Kauffman every Sunday and Monday for the Apostolic Voice on DominionTV as they bring insight and understanding to the Word of God. \n \n\nDominion Studios and Dominion.TV are the World Wide Media Outreach ministries of Dr. Joseph & Lynette Dutton\, and Dominion Harvest Ministries\, Inc.  Broadcasting from beautiful Myrtle Beach\, SC.\n\n 
URL:https://drmarkkauffman.org/event/apostolic-voice-3/2024-07-14/
LOCATION:PA
CATEGORIES:Broadcasting
END:VEVENT
BEGIN:VEVENT
DTSTART;TZID=America/New_York:20240715T070000
DTEND;TZID=America/New_York:20240715T073000
DTSTAMP:20260421T231735
CREATED:20230502T173111Z
LAST-MODIFIED:20230502T173331Z
UID:10000954-1721026800-1721028600@drmarkkauffman.org
SUMMARY:Apostolic Voice on Best Life TV
DESCRIPTION:Join Drs. Mark and Jill every day for the Apostolic Voice on Best Life TV Network at 2:00 AM\, 2:00 PM\, 7:00 AM\, and 7:00 PM. \n \nBest Life TV\nBest Life TV provides hope\, healing\, and entertainment for Christian singles and families with 24/7 programming and video on demand!\nJoin us on Roku\, Amazon Fire\, and Apple TV. Watch what you want\, when you want to watch it!
URL:https://drmarkkauffman.org/event/apostolic-voice-on-best-life-tv-2/2024-07-15/
LOCATION:PA
END:VEVENT
BEGIN:VEVENT
DTSTART;TZID=America/New_York:20240715T120000
DTEND;TZID=America/New_York:20240715T123000
DTSTAMP:20260421T231735
CREATED:20240307T141940Z
LAST-MODIFIED:20240307T235758Z
UID:10002030-1721044800-1721046600@drmarkkauffman.org
SUMMARY:Apostolic Voice on Dominion TV
DESCRIPTION:Join Drs. Mark & Jill Kauffman every Sunday and Monday for the Apostolic Voice on DominionTV as they bring insight and understanding to the Word of God. \n \n\nDominion Studios and Dominion.TV are the World Wide Media Outreach ministries of Dr. Joseph & Lynette Dutton\, and Dominion Harvest Ministries\, Inc.  Broadcasting from beautiful Myrtle Beach\, SC.\n\n 
URL:https://drmarkkauffman.org/event/apostolic-voice-2/2024-07-15/
LOCATION:PA
CATEGORIES:Broadcasting
END:VEVENT
BEGIN:VEVENT
DTSTART;TZID=America/New_York:20240716T070000
DTEND;TZID=America/New_York:20240716T073000
DTSTAMP:20260421T231735
CREATED:20230502T173111Z
LAST-MODIFIED:20230502T173331Z
UID:10000955-1721113200-1721115000@drmarkkauffman.org
SUMMARY:Apostolic Voice on Best Life TV
DESCRIPTION:Join Drs. Mark and Jill every day for the Apostolic Voice on Best Life TV Network at 2:00 AM\, 2:00 PM\, 7:00 AM\, and 7:00 PM. \n \nBest Life TV\nBest Life TV provides hope\, healing\, and entertainment for Christian singles and families with 24/7 programming and video on demand!\nJoin us on Roku\, Amazon Fire\, and Apple TV. Watch what you want\, when you want to watch it!
URL:https://drmarkkauffman.org/event/apostolic-voice-on-best-life-tv-2/2024-07-16/
LOCATION:PA
END:VEVENT
BEGIN:VEVENT
DTSTART;TZID=America/New_York:20240717T070000
DTEND;TZID=America/New_York:20240717T073000
DTSTAMP:20260421T231735
CREATED:20230502T173111Z
LAST-MODIFIED:20230502T173331Z
UID:10000956-1721199600-1721201400@drmarkkauffman.org
SUMMARY:Apostolic Voice on Best Life TV
DESCRIPTION:Join Drs. Mark and Jill every day for the Apostolic Voice on Best Life TV Network at 2:00 AM\, 2:00 PM\, 7:00 AM\, and 7:00 PM. \n \nBest Life TV\nBest Life TV provides hope\, healing\, and entertainment for Christian singles and families with 24/7 programming and video on demand!\nJoin us on Roku\, Amazon Fire\, and Apple TV. Watch what you want\, when you want to watch it!
URL:https://drmarkkauffman.org/event/apostolic-voice-on-best-life-tv-2/2024-07-17/
LOCATION:PA
END:VEVENT
BEGIN:VEVENT
DTSTART;TZID=America/New_York:20240717T153000
DTEND;TZID=America/New_York:20240717T160000
DTSTAMP:20260421T231735
CREATED:20240308T000620Z
LAST-MODIFIED:20240308T000620Z
UID:10003606-1721230200-1721232000@drmarkkauffman.org
SUMMARY:Apostolic Voice on Faith TV
DESCRIPTION:Watch The Apostolic Voice with Drs. Mark & Jill Kauffman on Direct TV Channel 379 at 3:30 PM every Wednesday!
URL:https://drmarkkauffman.org/event/apostolic-voice-on-faith-tv-2/2024-07-17/
LOCATION:PA
END:VEVENT
BEGIN:VEVENT
DTSTART;TZID=America/New_York:20240717T190000
DTEND;TZID=America/New_York:20240717T200000
DTSTAMP:20260421T231735
CREATED:20220518T191308Z
LAST-MODIFIED:20220518T191308Z
UID:10000114-1721242800-1721246400@drmarkkauffman.org
SUMMARY:The Royal Kingdom Academy
DESCRIPTION:Join Dr. Mark Kauffman each week for the Royal Kingdom Academy at Jubilee Ministries International City Church in New Castle\, PA.
URL:https://drmarkkauffman.org/event/the-royal-kingdom-academy/2024-07-17/
LOCATION:Jubilee Ministries International\, 14 East Chartes St\, New Castle\, PA\, 16102\, United States
CATEGORIES:Weekly Services
END:VEVENT
BEGIN:VEVENT
DTSTART;TZID=America/New_York:20240718T070000
DTEND;TZID=America/New_York:20240718T073000
DTSTAMP:20260421T231735
CREATED:20230502T173111Z
LAST-MODIFIED:20230502T173331Z
UID:10000957-1721286000-1721287800@drmarkkauffman.org
SUMMARY:Apostolic Voice on Best Life TV
DESCRIPTION:Join Drs. Mark and Jill every day for the Apostolic Voice on Best Life TV Network at 2:00 AM\, 2:00 PM\, 7:00 AM\, and 7:00 PM. \n \nBest Life TV\nBest Life TV provides hope\, healing\, and entertainment for Christian singles and families with 24/7 programming and video on demand!\nJoin us on Roku\, Amazon Fire\, and Apple TV. Watch what you want\, when you want to watch it!
URL:https://drmarkkauffman.org/event/apostolic-voice-on-best-life-tv-2/2024-07-18/
LOCATION:PA
END:VEVENT
BEGIN:VEVENT
DTSTART;TZID=America/New_York:20240719T070000
DTEND;TZID=America/New_York:20240719T073000
DTSTAMP:20260421T231735
CREATED:20230502T173111Z
LAST-MODIFIED:20230502T173331Z
UID:10000958-1721372400-1721374200@drmarkkauffman.org
SUMMARY:Apostolic Voice on Best Life TV
DESCRIPTION:Join Drs. Mark and Jill every day for the Apostolic Voice on Best Life TV Network at 2:00 AM\, 2:00 PM\, 7:00 AM\, and 7:00 PM. \n \nBest Life TV\nBest Life TV provides hope\, healing\, and entertainment for Christian singles and families with 24/7 programming and video on demand!\nJoin us on Roku\, Amazon Fire\, and Apple TV. Watch what you want\, when you want to watch it!
URL:https://drmarkkauffman.org/event/apostolic-voice-on-best-life-tv-2/2024-07-19/
LOCATION:PA
END:VEVENT
BEGIN:VEVENT
DTSTART;TZID=America/New_York:20240719T183000
DTEND;TZID=America/New_York:20240719T203000
DTSTAMP:20260421T231735
CREATED:20240517T004208Z
LAST-MODIFIED:20240517T005455Z
UID:10004213-1721413800-1721421000@drmarkkauffman.org
SUMMARY:MAN CAVE July 2024
DESCRIPTION:MEN! Dr. Mark Kauffman hopes to see you at the next Man Cave on Friday\, July 19\, 2024\, at 6:30 PM located at KBN Studios\, 2801 Wilmington Rd.\, New Castle\, PA 16105.  Registration is now open. \nRegister Below\n\n\n                \n                        \n                            Man Cave July 19 2024\n                             \n                        \n        \n        	Step 1 of 4\n        	 \n            \n                25%\n            \n                        \n					Name(Required)\n                            \n                            \n                                                    First\n                                                    \n                                                \n                            \n                            \n                                                            Last\n                                                            \n                                                        \n                            \n                        Email(Required)\n                            \n                        PhoneDo you wish to Opt-Out of your image being used in advertising for the Man Cave?We love to take pictures at our events. If you DO NOT want your picture to be used when we post images to social media and for our advertising\, then select Yes to opt-out of your image being used. If you grant us permission to use photos with your image in them\, the leave No selected.\n								\n								No\n							\n								\n								Yes\n							\n                    \n                    \n                          \n                    \n                \n                \n                    \n                        Your Man Cave RegistrationThis is the price for your registration and is automatically added to your total.\n					\n					\n						Price:\n							\n					\n					\n				This field is hidden when viewing the formYour RegistrationThis value is set to 1\, it is your registration.1Your Guest Registration\, if anyDo not include yourself in this count\, only your guests by selecting the number of guests you will be bringing to the man cave below.\n					\n					\n						Price:\n							\n					\n					\n				Guest RegistrationHow many guests are you bringing to the Man Cave with you?0123456789101112\n                    \n                    \n                          \n                    \n                \n                \n                    \n                        If you intended to bring guests with you to the Man Cave\, please click on the "previous" button below and select the number of guests you are bringing.\nIf you are not brining any guests\, please select the "Next" button below to continue to checkout.Name of Guest 1Name of Guest 2Name of Guest 3Name of Guest 4Name of Guest 5Name of Guest 6Name of Guest 7Name of Guest 8Name of Guest 9Name of Guest 10Name of Guest 11Name of Guest 12\n                    \n                    \n                          \n                    \n                \n                \n                    \n                        Total\n							\n						Payment MethodPayPal CheckoutCredit Card\n                                    American ExpressDiscoverMasterCardVisaSupported Credit Cards: American Express\, Discover\, MasterCard\, Visa\n                                    Card Number\n                                    \n                                 \n                                            \n                                                Expiration Date\n                                                \n                                            \n                                                Security Code\n                                                \n                                                 \n                                             \n                                        \n                                            Cardholder Name\n                                            \n                                         \n          \n            \n            \n            \n            \n            \n            \n            \n            \n            \n            \n            \n            \n            \n        \n             \n                        Δ \n                        \n		                \n		                \n \n  \n 
URL:https://drmarkkauffman.org/event/man-cave-july-2024/
LOCATION:Kingdom Broadcasting Network Studio\, 2801 Wilmington Rd\, New Castle\, PA\, 16105\, United States
END:VEVENT
BEGIN:VEVENT
DTSTART;TZID=America/New_York:20240720T070000
DTEND;TZID=America/New_York:20240720T073000
DTSTAMP:20260421T231735
CREATED:20230502T173111Z
LAST-MODIFIED:20230502T173331Z
UID:10000959-1721458800-1721460600@drmarkkauffman.org
SUMMARY:Apostolic Voice on Best Life TV
DESCRIPTION:Join Drs. Mark and Jill every day for the Apostolic Voice on Best Life TV Network at 2:00 AM\, 2:00 PM\, 7:00 AM\, and 7:00 PM. \n \nBest Life TV\nBest Life TV provides hope\, healing\, and entertainment for Christian singles and families with 24/7 programming and video on demand!\nJoin us on Roku\, Amazon Fire\, and Apple TV. Watch what you want\, when you want to watch it!
URL:https://drmarkkauffman.org/event/apostolic-voice-on-best-life-tv-2/2024-07-20/
LOCATION:PA
END:VEVENT
BEGIN:VEVENT
DTSTART;TZID=America/New_York:20240720T180000
DTEND;TZID=America/New_York:20240720T183000
DTSTAMP:20260421T231735
CREATED:20240307T235306Z
LAST-MODIFIED:20240307T235306Z
UID:10002511-1721498400-1721500200@drmarkkauffman.org
SUMMARY:Apostolic Voice on Faith TV
DESCRIPTION:Watch The Apostolic Voice with Drs. Mark & Jill Kauffman on Direct TV Channel 379 at 6:00 PM every Saturday!
URL:https://drmarkkauffman.org/event/apostolic-voice-on-faith-tv/2024-07-20/
LOCATION:PA
END:VEVENT
END:VCALENDAR