BEGIN:VCALENDAR
VERSION:2.0
PRODID:-//Dr. Mark Kauffman Ministries, New Castle PA - ECPv6.15.19//NONSGML v1.0//EN
CALSCALE:GREGORIAN
METHOD:PUBLISH
X-ORIGINAL-URL:https://drmarkkauffman.org
X-WR-CALDESC:Events for Dr. Mark Kauffman Ministries, New Castle PA
REFRESH-INTERVAL;VALUE=DURATION:PT1H
X-Robots-Tag:noindex
X-PUBLISHED-TTL:PT1H
BEGIN:VTIMEZONE
TZID:America/New_York
BEGIN:DAYLIGHT
TZOFFSETFROM:-0500
TZOFFSETTO:-0400
TZNAME:EDT
DTSTART:20240310T070000
END:DAYLIGHT
BEGIN:STANDARD
TZOFFSETFROM:-0400
TZOFFSETTO:-0500
TZNAME:EST
DTSTART:20241103T060000
END:STANDARD
BEGIN:DAYLIGHT
TZOFFSETFROM:-0500
TZOFFSETTO:-0400
TZNAME:EDT
DTSTART:20250309T070000
END:DAYLIGHT
BEGIN:STANDARD
TZOFFSETFROM:-0400
TZOFFSETTO:-0500
TZNAME:EST
DTSTART:20251102T060000
END:STANDARD
BEGIN:DAYLIGHT
TZOFFSETFROM:-0500
TZOFFSETTO:-0400
TZNAME:EDT
DTSTART:20260308T070000
END:DAYLIGHT
BEGIN:STANDARD
TZOFFSETFROM:-0400
TZOFFSETTO:-0500
TZNAME:EST
DTSTART:20261101T060000
END:STANDARD
END:VTIMEZONE
BEGIN:VEVENT
DTSTART;TZID=America/New_York:20250817T203000
DTEND;TZID=America/New_York:20250817T210000
DTSTAMP:20260420T083923
CREATED:20220517T170018Z
LAST-MODIFIED:20240308T000015Z
UID:10001889-1755462600-1755464400@drmarkkauffman.org
SUMMARY:Apostolic Voice on Dominion TV
DESCRIPTION:Join Drs. Mark & Jill Kauffman every Sunday and Monday for the Apostolic Voice on DominionTV as they bring insight and understanding to the Word of God. \n \n\nDominion Studios and Dominion.TV are the World Wide Media Outreach ministries of Dr. Joseph & Lynette Dutton\, and Dominion Harvest Ministries\, Inc.  Broadcasting from beautiful Myrtle Beach\, SC.\n\n 
URL:https://drmarkkauffman.org/event/apostolic-voice-3/2025-08-17/
LOCATION:PA
CATEGORIES:Broadcasting
END:VEVENT
BEGIN:VEVENT
DTSTART;TZID=America/New_York:20250818T120000
DTEND;TZID=America/New_York:20250818T123000
DTSTAMP:20260420T083923
CREATED:20240307T141940Z
LAST-MODIFIED:20240307T235758Z
UID:10002087-1755518400-1755520200@drmarkkauffman.org
SUMMARY:Apostolic Voice on Dominion TV
DESCRIPTION:Join Drs. Mark & Jill Kauffman every Sunday and Monday for the Apostolic Voice on DominionTV as they bring insight and understanding to the Word of God. \n \n\nDominion Studios and Dominion.TV are the World Wide Media Outreach ministries of Dr. Joseph & Lynette Dutton\, and Dominion Harvest Ministries\, Inc.  Broadcasting from beautiful Myrtle Beach\, SC.\n\n 
URL:https://drmarkkauffman.org/event/apostolic-voice-2/2025-08-18/
LOCATION:PA
CATEGORIES:Broadcasting
END:VEVENT
BEGIN:VEVENT
DTSTART;TZID=America/New_York:20250820T153000
DTEND;TZID=America/New_York:20250820T160000
DTSTAMP:20260420T083923
CREATED:20240308T000620Z
LAST-MODIFIED:20240308T000620Z
UID:10003663-1755703800-1755705600@drmarkkauffman.org
SUMMARY:Apostolic Voice on Faith TV
DESCRIPTION:Watch The Apostolic Voice with Drs. Mark & Jill Kauffman on Direct TV Channel 379 at 3:30 PM every Wednesday!
URL:https://drmarkkauffman.org/event/apostolic-voice-on-faith-tv-2/2025-08-20/
LOCATION:PA
END:VEVENT
BEGIN:VEVENT
DTSTART;TZID=America/New_York:20250820T190000
DTEND;TZID=America/New_York:20250820T200000
DTSTAMP:20260420T083923
CREATED:20220518T191308Z
LAST-MODIFIED:20220518T191308Z
UID:10000171-1755716400-1755720000@drmarkkauffman.org
SUMMARY:The Royal Kingdom Academy
DESCRIPTION:Join Dr. Mark Kauffman each week for the Royal Kingdom Academy at Jubilee Ministries International City Church in New Castle\, PA.
URL:https://drmarkkauffman.org/event/the-royal-kingdom-academy/2025-08-20/
LOCATION:Jubilee Ministries International\, 14 East Chartes St\, New Castle\, PA\, 16102\, United States
CATEGORIES:Weekly Services
END:VEVENT
BEGIN:VEVENT
DTSTART;VALUE=DATE:20250821
DTEND;VALUE=DATE:20250824
DTSTAMP:20260420T083923
CREATED:20250708T052620Z
LAST-MODIFIED:20250708T052620Z
UID:10008406-1755734400-1755993599@drmarkkauffman.org
SUMMARY:Kings & Priests Conference – Harrisburg\, PA
DESCRIPTION:“For He has made us kings and priests…” – Revelation 1:6a \nJoin Dr. Mark Kauffman and an esteemed lineup of leaders at the Kings & Priests Conference\, a powerful gathering of believers pressing into identity\, purpose\, and Kingdom calling. Dr. Kauffman will serve as the keynote speaker on Saturday\, August 23\, for a special day dedicated to “Calling the Kings to the Table.” \nSpeakers:\n\nDr. Mark Kauffman\nRobert Henderson\nSenator Douglas Mastriano\nDr. Abby Abildness\nJamie Fitt\nPA Houses of Prayer\nKEY Fellowship Team Executive Team: Ruth Willard\, Lisa Hicks\, Astrid Lopez-Goldberg\, Cynthia Complese\, James Gurganus\, Bill & Michele Goodberlet\, Rabon & Beth Johnson\, Michael & Kareen Beatty\, Ricardo & Lillian Colon\, David & Melody Peng\, Jon & Mary Faus\n\nHotels:\nHost Hotel: Penn Harris Hotel\,1150 Camp Hill Bypass\, Camp Hill 17111\n$179 August 21-23\, 2025\, if you only want to reserve 1 night or check out on Sunday call the hotel to make reservation under KEY Fellowship. Phone: 717-763-7117\nKing or Queens RESERVATION LINK\n\n\n\nSchedule:\nFREE Registration 8/21 and 8/22\n\n8/21 ‘Judah Rising’ Honoring the First\n\n5 pm Doors Open\n6 pm Service\nWorship to be announced!\n\nAfter the meeting you will be able to fellowship in the lobby and visit our vendors tables.\n\n\n8/22 ‘Awaken Watchmen’\n\n8:30 am Doors Open Pre-worship\n9:30 am KEY Fellowship Team led by Ruth Willard & Lisa Hicks\n‘All Tribes\, All Nations Worship’ Prophetic flow! Worship teams to be announced.\nSpeakers: Robert Henderson – Dr. Mark Kauffman – Jamie Fitt and the KEY team!\n2 pm lunch break\n2 pm till 6 pm Pennsylvania Houses of Prayer\n\n2 pm till 6 pm vendors tables will be open.\n\n\n8/22 ‘Awaken Watchmen’\n\n6 pm Service\nWorship to be announced!\nSpeaker – Robert Henderson\n\nAfter the meeting you will be able to fellowship in the lobby and visit our vendors tables.\n\n\n8/23 Reserve a Seat at the Table Ticket Required (Click on the registration link to reserve your seat)\n\n‘Calling the Kings to the Table’\n8:30 am Doors Open Pre-worship\n9:30 am Service KEY Fellowship Team led by Ruth Willard & Lisa Hicks\nDr. Abby Abildness\, Who was William Penn?\nKeynote Speakers: Dr. Mark Kauffman – Senator Doug Mastriano\n\nAfter the meeting you will be able to fellowship in the lobby and visit our vendors tables.
URL:https://drmarkkauffman.org/event/kings-priests-conference-harrisburg-pa/
LOCATION:Penn Harris Hotel\, 1150 Camp Hill Bypass\, Camp Hill\, PA\, United States
END:VEVENT
BEGIN:VEVENT
DTSTART;TZID=America/New_York:20250823T180000
DTEND;TZID=America/New_York:20250823T183000
DTSTAMP:20260420T083923
CREATED:20240307T235306Z
LAST-MODIFIED:20240307T235306Z
UID:10002568-1755972000-1755973800@drmarkkauffman.org
SUMMARY:Apostolic Voice on Faith TV
DESCRIPTION:Watch The Apostolic Voice with Drs. Mark & Jill Kauffman on Direct TV Channel 379 at 6:00 PM every Saturday!
URL:https://drmarkkauffman.org/event/apostolic-voice-on-faith-tv/2025-08-23/
LOCATION:PA
END:VEVENT
END:VCALENDAR