BEGIN:VCALENDAR
VERSION:2.0
PRODID:-//Dr. Mark Kauffman Ministries, New Castle PA - ECPv6.15.19//NONSGML v1.0//EN
CALSCALE:GREGORIAN
METHOD:PUBLISH
X-ORIGINAL-URL:https://drmarkkauffman.org
X-WR-CALDESC:Events for Dr. Mark Kauffman Ministries, New Castle PA
REFRESH-INTERVAL;VALUE=DURATION:PT1H
X-Robots-Tag:noindex
X-PUBLISHED-TTL:PT1H
BEGIN:VTIMEZONE
TZID:America/New_York
BEGIN:DAYLIGHT
TZOFFSETFROM:-0500
TZOFFSETTO:-0400
TZNAME:EDT
DTSTART:20250309T070000
END:DAYLIGHT
BEGIN:STANDARD
TZOFFSETFROM:-0400
TZOFFSETTO:-0500
TZNAME:EST
DTSTART:20251102T060000
END:STANDARD
BEGIN:DAYLIGHT
TZOFFSETFROM:-0500
TZOFFSETTO:-0400
TZNAME:EDT
DTSTART:20260308T070000
END:DAYLIGHT
BEGIN:STANDARD
TZOFFSETFROM:-0400
TZOFFSETTO:-0500
TZNAME:EST
DTSTART:20261101T060000
END:STANDARD
BEGIN:DAYLIGHT
TZOFFSETFROM:-0500
TZOFFSETTO:-0400
TZNAME:EDT
DTSTART:20270314T070000
END:DAYLIGHT
BEGIN:STANDARD
TZOFFSETFROM:-0400
TZOFFSETTO:-0500
TZNAME:EST
DTSTART:20271107T060000
END:STANDARD
END:VTIMEZONE
BEGIN:VEVENT
DTSTART;TZID=America/New_York:20260426T203000
DTEND;TZID=America/New_York:20260426T210000
DTSTAMP:20260419T134712
CREATED:20220517T170018Z
LAST-MODIFIED:20240308T000015Z
UID:10002917-1777235400-1777237200@drmarkkauffman.org
SUMMARY:Apostolic Voice on Dominion TV
DESCRIPTION:Join Drs. Mark & Jill Kauffman every Sunday and Monday for the Apostolic Voice on DominionTV as they bring insight and understanding to the Word of God. \n \n\nDominion Studios and Dominion.TV are the World Wide Media Outreach ministries of Dr. Joseph & Lynette Dutton\, and Dominion Harvest Ministries\, Inc.  Broadcasting from beautiful Myrtle Beach\, SC.\n\n 
URL:https://drmarkkauffman.org/event/apostolic-voice-3/2026-04-26/
LOCATION:PA
CATEGORIES:Broadcasting
END:VEVENT
BEGIN:VEVENT
DTSTART;TZID=America/New_York:20260427T120000
DTEND;TZID=America/New_York:20260427T123000
DTSTAMP:20260419T134712
CREATED:20240307T141940Z
LAST-MODIFIED:20240307T235758Z
UID:10002760-1777291200-1777293000@drmarkkauffman.org
SUMMARY:Apostolic Voice on Dominion TV
DESCRIPTION:Join Drs. Mark & Jill Kauffman every Sunday and Monday for the Apostolic Voice on DominionTV as they bring insight and understanding to the Word of God. \n \n\nDominion Studios and Dominion.TV are the World Wide Media Outreach ministries of Dr. Joseph & Lynette Dutton\, and Dominion Harvest Ministries\, Inc.  Broadcasting from beautiful Myrtle Beach\, SC.\n\n 
URL:https://drmarkkauffman.org/event/apostolic-voice-2/2026-04-27/
LOCATION:PA
CATEGORIES:Broadcasting
END:VEVENT
BEGIN:VEVENT
DTSTART;TZID=America/New_York:20260429T153000
DTEND;TZID=America/New_York:20260429T160000
DTSTAMP:20260419T134712
CREATED:20240308T000620Z
LAST-MODIFIED:20240308T000620Z
UID:10003699-1777476600-1777478400@drmarkkauffman.org
SUMMARY:Apostolic Voice on Faith TV
DESCRIPTION:Watch The Apostolic Voice with Drs. Mark & Jill Kauffman on Direct TV Channel 379 at 3:30 PM every Wednesday!
URL:https://drmarkkauffman.org/event/apostolic-voice-on-faith-tv-2/2026-04-29/
LOCATION:PA
END:VEVENT
BEGIN:VEVENT
DTSTART;VALUE=DATE:20260501
DTEND;VALUE=DATE:20260503
DTSTAMP:20260419T134712
CREATED:20260223T104550Z
LAST-MODIFIED:20260223T104550Z
UID:10008422-1777593600-1777766399@drmarkkauffman.org
SUMMARY:Valor 2026 ~The Year of David’s Roar
DESCRIPTION:May 1–2\, 2026Father’s House Church724 North Park RoadGrantsville\, MD 21536 \nValor 2026 is a powerful two-day gathering focused on courage\, faith\, and bold spiritual leadership. This year’s theme\, The Year of David’s Roar\, calls believers to rise in strength\, authority\, and unwavering trust in God’s purpose. \nHostsDrs. Timothy and Sharon Colisino \nSession SpeakersDr. John Polis\, Revival Fellowship International\, Fairmont\, WVDr. Mark Kauffman\, Jubilee Ministries International\, New Castle\, PA \nWorshipPastor Gary and Tayanna JonesImpact Church\, Nemacolin\, PA \nService ScheduleFriday\, May 1\, 202610:00 AM6:30 PM \nSaturday\, May 2\, 202610:00 AM \nRegistration InformationEarly registration ends April 20\, 2026$43 per personGroup promotion: Every 8th person free \nAfter April 20\, registration is $48 per person (no group pricing). \nChecks payable to Father’s HousePO Box 7Grantsville\, MD 21536 \nTo register online\, visit fathershouse.infoFor additional information\, call 301-895-3868 \nJoin us for a transformative weekend of worship\, prophetic insight\, and dynamic teaching as we step into a year marked by bold faith and spiritual authority.
URL:https://drmarkkauffman.org/event/valor-2026-the-year-of-davids-roar/
LOCATION:Fathers House Church\, 724 North Park Road\, Grantsville\, MD\, 21536\, United States
END:VEVENT
BEGIN:VEVENT
DTSTART;TZID=America/New_York:20260502T180000
DTEND;TZID=America/New_York:20260502T183000
DTSTAMP:20260419T134712
CREATED:20240307T235306Z
LAST-MODIFIED:20240307T235306Z
UID:10002604-1777744800-1777746600@drmarkkauffman.org
SUMMARY:Apostolic Voice on Faith TV
DESCRIPTION:Watch The Apostolic Voice with Drs. Mark & Jill Kauffman on Direct TV Channel 379 at 6:00 PM every Saturday!
URL:https://drmarkkauffman.org/event/apostolic-voice-on-faith-tv/2026-05-02/
LOCATION:PA
END:VEVENT
END:VCALENDAR