BEGIN:VCALENDAR
VERSION:2.0
PRODID:-//Dr. Mark Kauffman Ministries, New Castle PA - ECPv6.15.19//NONSGML v1.0//EN
CALSCALE:GREGORIAN
METHOD:PUBLISH
X-WR-CALNAME:Dr. Mark Kauffman Ministries, New Castle PA
X-ORIGINAL-URL:https://drmarkkauffman.org
X-WR-CALDESC:Events for Dr. Mark Kauffman Ministries, New Castle PA
REFRESH-INTERVAL;VALUE=DURATION:PT1H
X-Robots-Tag:noindex
X-PUBLISHED-TTL:PT1H
BEGIN:VTIMEZONE
TZID:America/New_York
BEGIN:DAYLIGHT
TZOFFSETFROM:-0500
TZOFFSETTO:-0400
TZNAME:EDT
DTSTART:20250309T070000
END:DAYLIGHT
BEGIN:STANDARD
TZOFFSETFROM:-0400
TZOFFSETTO:-0500
TZNAME:EST
DTSTART:20251102T060000
END:STANDARD
BEGIN:DAYLIGHT
TZOFFSETFROM:-0500
TZOFFSETTO:-0400
TZNAME:EDT
DTSTART:20260308T070000
END:DAYLIGHT
BEGIN:STANDARD
TZOFFSETFROM:-0400
TZOFFSETTO:-0500
TZNAME:EST
DTSTART:20261101T060000
END:STANDARD
BEGIN:DAYLIGHT
TZOFFSETFROM:-0500
TZOFFSETTO:-0400
TZNAME:EDT
DTSTART:20270314T070000
END:DAYLIGHT
BEGIN:STANDARD
TZOFFSETFROM:-0400
TZOFFSETTO:-0500
TZNAME:EST
DTSTART:20271107T060000
END:STANDARD
END:VTIMEZONE
BEGIN:VEVENT
DTSTART;TZID=America/New_York:20260607T203000
DTEND;TZID=America/New_York:20260607T210000
DTSTAMP:20260419T204148
CREATED:20220517T170018Z
LAST-MODIFIED:20240308T000015Z
UID:10002923-1780864200-1780866000@drmarkkauffman.org
SUMMARY:Apostolic Voice on Dominion TV
DESCRIPTION:Join Drs. Mark & Jill Kauffman every Sunday and Monday for the Apostolic Voice on DominionTV as they bring insight and understanding to the Word of God. \n \n\nDominion Studios and Dominion.TV are the World Wide Media Outreach ministries of Dr. Joseph & Lynette Dutton\, and Dominion Harvest Ministries\, Inc.  Broadcasting from beautiful Myrtle Beach\, SC.\n\n 
URL:https://drmarkkauffman.org/event/apostolic-voice-3/2026-06-07/
LOCATION:PA
CATEGORIES:Broadcasting
END:VEVENT
BEGIN:VEVENT
DTSTART;TZID=America/New_York:20260608T120000
DTEND;TZID=America/New_York:20260608T123000
DTSTAMP:20260419T204148
CREATED:20240307T141940Z
LAST-MODIFIED:20240307T235758Z
UID:10002766-1780920000-1780921800@drmarkkauffman.org
SUMMARY:Apostolic Voice on Dominion TV
DESCRIPTION:Join Drs. Mark & Jill Kauffman every Sunday and Monday for the Apostolic Voice on DominionTV as they bring insight and understanding to the Word of God. \n \n\nDominion Studios and Dominion.TV are the World Wide Media Outreach ministries of Dr. Joseph & Lynette Dutton\, and Dominion Harvest Ministries\, Inc.  Broadcasting from beautiful Myrtle Beach\, SC.\n\n 
URL:https://drmarkkauffman.org/event/apostolic-voice-2/2026-06-08/
LOCATION:PA
CATEGORIES:Broadcasting
END:VEVENT
BEGIN:VEVENT
DTSTART;TZID=America/New_York:20260610T153000
DTEND;TZID=America/New_York:20260610T160000
DTSTAMP:20260419T204148
CREATED:20240308T000620Z
LAST-MODIFIED:20240308T000620Z
UID:10003705-1781105400-1781107200@drmarkkauffman.org
SUMMARY:Apostolic Voice on Faith TV
DESCRIPTION:Watch The Apostolic Voice with Drs. Mark & Jill Kauffman on Direct TV Channel 379 at 3:30 PM every Wednesday!
URL:https://drmarkkauffman.org/event/apostolic-voice-on-faith-tv-2/2026-06-10/
LOCATION:PA
END:VEVENT
BEGIN:VEVENT
DTSTART;VALUE=DATE:20260611
DTEND;VALUE=DATE:20260614
DTSTAMP:20260419T204148
CREATED:20251008T004923Z
LAST-MODIFIED:20251008T004923Z
UID:10008420-1781136000-1781395199@drmarkkauffman.org
SUMMARY:1st Annual Apostolic Congress of Pennsylvania Summit
DESCRIPTION:Save the Date:June 11–13\, 2026 \nJoin Dr. Kauffman for the 1st Annual Apostolic Congress of Pennsylvania Summit—a gathering of apostolic and prophetic leaders committed to reviving\, renewing\, and restoring the heart of the church while advancing Kingdom leadership across the region.This three-day summit will feature impactful keynote sessions\, worship\, and apostolic impartation from nationally recognized leaders. \nLocation:2801 Wilmington Rd.| New Castle\, Pennsylvania 16105 \nSummit Hosts:Dr. Mark KauffmanDr. Jill Kauffman \nKeynote Speakers:Dr. Mark KauffmanBishop Joseph GarlingtonClay NashRuth WillardAbby Albidness \nContact:For questions or registration inquiries\, please email: apostolic.congress@drmarkkauffman.org
URL:https://drmarkkauffman.org/event/1st-annual-apostolic-congress-of-pennsylvania-summit/
LOCATION:KBN Studios\, 2801 Wilmington Rd\, New Castle\, PA\, 16105\, United States
END:VEVENT
BEGIN:VEVENT
DTSTART;TZID=America/New_York:20260613T180000
DTEND;TZID=America/New_York:20260613T183000
DTSTAMP:20260419T204148
CREATED:20240307T235306Z
LAST-MODIFIED:20240307T235306Z
UID:10002610-1781373600-1781375400@drmarkkauffman.org
SUMMARY:Apostolic Voice on Faith TV
DESCRIPTION:Watch The Apostolic Voice with Drs. Mark & Jill Kauffman on Direct TV Channel 379 at 6:00 PM every Saturday!
URL:https://drmarkkauffman.org/event/apostolic-voice-on-faith-tv/2026-06-13/
LOCATION:PA
END:VEVENT
END:VCALENDAR