BEGIN:VCALENDAR
VERSION:2.0
PRODID:-//Dr. Mark Kauffman Ministries, New Castle PA - ECPv6.15.19//NONSGML v1.0//EN
CALSCALE:GREGORIAN
METHOD:PUBLISH
X-ORIGINAL-URL:https://drmarkkauffman.org
X-WR-CALDESC:Events for Dr. Mark Kauffman Ministries, New Castle PA
REFRESH-INTERVAL;VALUE=DURATION:PT1H
X-Robots-Tag:noindex
X-PUBLISHED-TTL:PT1H
BEGIN:VTIMEZONE
TZID:America/New_York
BEGIN:DAYLIGHT
TZOFFSETFROM:-0500
TZOFFSETTO:-0400
TZNAME:EDT
DTSTART:20230312T070000
END:DAYLIGHT
BEGIN:STANDARD
TZOFFSETFROM:-0400
TZOFFSETTO:-0500
TZNAME:EST
DTSTART:20231105T060000
END:STANDARD
BEGIN:DAYLIGHT
TZOFFSETFROM:-0500
TZOFFSETTO:-0400
TZNAME:EDT
DTSTART:20240310T070000
END:DAYLIGHT
BEGIN:STANDARD
TZOFFSETFROM:-0400
TZOFFSETTO:-0500
TZNAME:EST
DTSTART:20241103T060000
END:STANDARD
BEGIN:DAYLIGHT
TZOFFSETFROM:-0500
TZOFFSETTO:-0400
TZNAME:EDT
DTSTART:20250309T070000
END:DAYLIGHT
BEGIN:STANDARD
TZOFFSETFROM:-0400
TZOFFSETTO:-0500
TZNAME:EST
DTSTART:20251102T060000
END:STANDARD
END:VTIMEZONE
BEGIN:VEVENT
DTSTART;TZID=America/New_York:20240302T090000
DTEND;TZID=America/New_York:20240302T160000
DTSTAMP:20260421T014853
CREATED:20240130T170720Z
LAST-MODIFIED:20240130T171233Z
UID:10002483-1709370000-1709395200@drmarkkauffman.org
SUMMARY:2024 School of the Shepherds: Understanding The Times
DESCRIPTION:Drs. Mark and Jill Kauffman will be ministering at the 2024 SCHOOL OF THE SHEPHERDS on MARCH 2ND. To register\, go to https://rfiusa.org/events \n\n\nREGISTRATION COST: $129 Group  |   $19 single  |   $5 for lunch \n\n\n\n\nATTEND LIVE OR LIVESTREAM \n\n\n\n\nCONFERENCE LOCATION: Faith Church International 600 The Drive\, Fairmont\, WV 26554
URL:https://drmarkkauffman.org/event/2024-school-of-the-shepherds-understanding-the-times/
LOCATION:Faith Church Intetnational\, 600 The Drive\, FAIRMONT\, WV\, 26554\, United States
END:VEVENT
END:VCALENDAR