BEGIN:VCALENDAR
VERSION:2.0
PRODID:-//Dr. Mark Kauffman Ministries, New Castle PA - ECPv6.15.20//NONSGML v1.0//EN
CALSCALE:GREGORIAN
METHOD:PUBLISH
X-ORIGINAL-URL:https://drmarkkauffman.org
X-WR-CALDESC:Events for Dr. Mark Kauffman Ministries, New Castle PA
REFRESH-INTERVAL;VALUE=DURATION:PT1H
X-Robots-Tag:noindex
X-PUBLISHED-TTL:PT1H
BEGIN:VTIMEZONE
TZID:America/New_York
BEGIN:DAYLIGHT
TZOFFSETFROM:-0500
TZOFFSETTO:-0400
TZNAME:EDT
DTSTART:20220313T070000
END:DAYLIGHT
BEGIN:STANDARD
TZOFFSETFROM:-0400
TZOFFSETTO:-0500
TZNAME:EST
DTSTART:20221106T060000
END:STANDARD
BEGIN:DAYLIGHT
TZOFFSETFROM:-0500
TZOFFSETTO:-0400
TZNAME:EDT
DTSTART:20230312T070000
END:DAYLIGHT
BEGIN:STANDARD
TZOFFSETFROM:-0400
TZOFFSETTO:-0500
TZNAME:EST
DTSTART:20231105T060000
END:STANDARD
BEGIN:DAYLIGHT
TZOFFSETFROM:-0500
TZOFFSETTO:-0400
TZNAME:EDT
DTSTART:20240310T070000
END:DAYLIGHT
BEGIN:STANDARD
TZOFFSETFROM:-0400
TZOFFSETTO:-0500
TZNAME:EST
DTSTART:20241103T060000
END:STANDARD
END:VTIMEZONE
BEGIN:VEVENT
DTSTART;TZID=America/New_York:20230906T190000
DTEND;TZID=America/New_York:20230906T203000
DTSTAMP:20260424T100816
CREATED:20221116T192435Z
LAST-MODIFIED:20221116T192550Z
UID:10002468-1694026800-1694032200@drmarkkauffman.org
SUMMARY:Royal Kingdom Academy
DESCRIPTION:
URL:https://drmarkkauffman.org/event/royal-kingdom-academy-3/2023-09-06/
LOCATION:Jubilee Ministries International\, 14 East Chartes St\, New Castle\, PA\, 16102\, United States
CATEGORIES:Weekly Services
END:VEVENT
BEGIN:VEVENT
DTSTART;TZID=America/New_York:20230906T190000
DTEND;TZID=America/New_York:20230906T200000
DTSTAMP:20260424T100816
CREATED:20220518T191308Z
LAST-MODIFIED:20220518T191308Z
UID:10000069-1694026800-1694030400@drmarkkauffman.org
SUMMARY:The Royal Kingdom Academy
DESCRIPTION:Join Dr. Mark Kauffman each week for the Royal Kingdom Academy at Jubilee Ministries International City Church in New Castle\, PA.
URL:https://drmarkkauffman.org/event/the-royal-kingdom-academy/2023-09-06/
LOCATION:Jubilee Ministries International\, 14 East Chartes St\, New Castle\, PA\, 16102\, United States
CATEGORIES:Weekly Services
END:VEVENT
BEGIN:VEVENT
DTSTART;TZID=America/New_York:20230903T103000
DTEND;TZID=America/New_York:20230903T123000
DTSTAMP:20260424T100816
CREATED:20221116T195313Z
LAST-MODIFIED:20240308T002835Z
UID:10002207-1693737000-1693744200@drmarkkauffman.org
SUMMARY:Celebration Sunday
DESCRIPTION:
URL:https://drmarkkauffman.org/event/celebration-sunday/2023-09-03/
LOCATION:Jubilee Ministries International\, 14 East Chartes St\, New Castle\, PA\, 16102\, United States
CATEGORIES:Weekly Services
END:VEVENT
BEGIN:VEVENT
DTSTART;TZID=America/New_York:20230830T190000
DTEND;TZID=America/New_York:20230830T203000
DTSTAMP:20260424T100816
CREATED:20221116T192435Z
LAST-MODIFIED:20221116T192550Z
UID:10002467-1693422000-1693427400@drmarkkauffman.org
SUMMARY:Royal Kingdom Academy
DESCRIPTION:
URL:https://drmarkkauffman.org/event/royal-kingdom-academy-3/2023-08-30/
LOCATION:Jubilee Ministries International\, 14 East Chartes St\, New Castle\, PA\, 16102\, United States
CATEGORIES:Weekly Services
END:VEVENT
BEGIN:VEVENT
DTSTART;TZID=America/New_York:20230830T190000
DTEND;TZID=America/New_York:20230830T200000
DTSTAMP:20260424T100816
CREATED:20220518T191308Z
LAST-MODIFIED:20220518T191308Z
UID:10000068-1693422000-1693425600@drmarkkauffman.org
SUMMARY:The Royal Kingdom Academy
DESCRIPTION:Join Dr. Mark Kauffman each week for the Royal Kingdom Academy at Jubilee Ministries International City Church in New Castle\, PA.
URL:https://drmarkkauffman.org/event/the-royal-kingdom-academy/2023-08-30/
LOCATION:Jubilee Ministries International\, 14 East Chartes St\, New Castle\, PA\, 16102\, United States
CATEGORIES:Weekly Services
END:VEVENT
BEGIN:VEVENT
DTSTART;TZID=America/New_York:20230827T103000
DTEND;TZID=America/New_York:20230827T123000
DTSTAMP:20260424T100816
CREATED:20221116T195313Z
LAST-MODIFIED:20240308T002835Z
UID:10002206-1693132200-1693139400@drmarkkauffman.org
SUMMARY:Celebration Sunday
DESCRIPTION:
URL:https://drmarkkauffman.org/event/celebration-sunday/2023-08-27/
LOCATION:Jubilee Ministries International\, 14 East Chartes St\, New Castle\, PA\, 16102\, United States
CATEGORIES:Weekly Services
END:VEVENT
BEGIN:VEVENT
DTSTART;TZID=America/New_York:20230823T190000
DTEND;TZID=America/New_York:20230823T203000
DTSTAMP:20260424T100816
CREATED:20221116T192435Z
LAST-MODIFIED:20221116T192550Z
UID:10002466-1692817200-1692822600@drmarkkauffman.org
SUMMARY:Royal Kingdom Academy
DESCRIPTION:
URL:https://drmarkkauffman.org/event/royal-kingdom-academy-3/2023-08-23/
LOCATION:Jubilee Ministries International\, 14 East Chartes St\, New Castle\, PA\, 16102\, United States
CATEGORIES:Weekly Services
END:VEVENT
BEGIN:VEVENT
DTSTART;TZID=America/New_York:20230823T190000
DTEND;TZID=America/New_York:20230823T200000
DTSTAMP:20260424T100816
CREATED:20220518T191308Z
LAST-MODIFIED:20220518T191308Z
UID:10000067-1692817200-1692820800@drmarkkauffman.org
SUMMARY:The Royal Kingdom Academy
DESCRIPTION:Join Dr. Mark Kauffman each week for the Royal Kingdom Academy at Jubilee Ministries International City Church in New Castle\, PA.
URL:https://drmarkkauffman.org/event/the-royal-kingdom-academy/2023-08-23/
LOCATION:Jubilee Ministries International\, 14 East Chartes St\, New Castle\, PA\, 16102\, United States
CATEGORIES:Weekly Services
END:VEVENT
BEGIN:VEVENT
DTSTART;TZID=America/New_York:20230820T103000
DTEND;TZID=America/New_York:20230820T123000
DTSTAMP:20260424T100816
CREATED:20221116T195313Z
LAST-MODIFIED:20240308T002835Z
UID:10002205-1692527400-1692534600@drmarkkauffman.org
SUMMARY:Celebration Sunday
DESCRIPTION:
URL:https://drmarkkauffman.org/event/celebration-sunday/2023-08-20/
LOCATION:Jubilee Ministries International\, 14 East Chartes St\, New Castle\, PA\, 16102\, United States
CATEGORIES:Weekly Services
END:VEVENT
BEGIN:VEVENT
DTSTART;TZID=America/New_York:20230816T190000
DTEND;TZID=America/New_York:20230816T203000
DTSTAMP:20260424T100816
CREATED:20221116T192435Z
LAST-MODIFIED:20221116T192550Z
UID:10002465-1692212400-1692217800@drmarkkauffman.org
SUMMARY:Royal Kingdom Academy
DESCRIPTION:
URL:https://drmarkkauffman.org/event/royal-kingdom-academy-3/2023-08-16/
LOCATION:Jubilee Ministries International\, 14 East Chartes St\, New Castle\, PA\, 16102\, United States
CATEGORIES:Weekly Services
END:VEVENT
BEGIN:VEVENT
DTSTART;TZID=America/New_York:20230816T190000
DTEND;TZID=America/New_York:20230816T200000
DTSTAMP:20260424T100816
CREATED:20220518T191308Z
LAST-MODIFIED:20220518T191308Z
UID:10000066-1692212400-1692216000@drmarkkauffman.org
SUMMARY:The Royal Kingdom Academy
DESCRIPTION:Join Dr. Mark Kauffman each week for the Royal Kingdom Academy at Jubilee Ministries International City Church in New Castle\, PA.
URL:https://drmarkkauffman.org/event/the-royal-kingdom-academy/2023-08-16/
LOCATION:Jubilee Ministries International\, 14 East Chartes St\, New Castle\, PA\, 16102\, United States
CATEGORIES:Weekly Services
END:VEVENT
BEGIN:VEVENT
DTSTART;TZID=America/New_York:20230813T103000
DTEND;TZID=America/New_York:20230813T123000
DTSTAMP:20260424T100816
CREATED:20221116T195313Z
LAST-MODIFIED:20240308T002835Z
UID:10002204-1691922600-1691929800@drmarkkauffman.org
SUMMARY:Celebration Sunday
DESCRIPTION:
URL:https://drmarkkauffman.org/event/celebration-sunday/2023-08-13/
LOCATION:Jubilee Ministries International\, 14 East Chartes St\, New Castle\, PA\, 16102\, United States
CATEGORIES:Weekly Services
END:VEVENT
BEGIN:VEVENT
DTSTART;TZID=America/New_York:20230809T190000
DTEND;TZID=America/New_York:20230809T203000
DTSTAMP:20260424T100816
CREATED:20221116T192435Z
LAST-MODIFIED:20221116T192550Z
UID:10002464-1691607600-1691613000@drmarkkauffman.org
SUMMARY:Royal Kingdom Academy
DESCRIPTION:
URL:https://drmarkkauffman.org/event/royal-kingdom-academy-3/2023-08-09/
LOCATION:Jubilee Ministries International\, 14 East Chartes St\, New Castle\, PA\, 16102\, United States
CATEGORIES:Weekly Services
END:VEVENT
BEGIN:VEVENT
DTSTART;TZID=America/New_York:20230809T190000
DTEND;TZID=America/New_York:20230809T200000
DTSTAMP:20260424T100816
CREATED:20220518T191308Z
LAST-MODIFIED:20220518T191308Z
UID:10000065-1691607600-1691611200@drmarkkauffman.org
SUMMARY:The Royal Kingdom Academy
DESCRIPTION:Join Dr. Mark Kauffman each week for the Royal Kingdom Academy at Jubilee Ministries International City Church in New Castle\, PA.
URL:https://drmarkkauffman.org/event/the-royal-kingdom-academy/2023-08-09/
LOCATION:Jubilee Ministries International\, 14 East Chartes St\, New Castle\, PA\, 16102\, United States
CATEGORIES:Weekly Services
END:VEVENT
BEGIN:VEVENT
DTSTART;TZID=America/New_York:20230806T103000
DTEND;TZID=America/New_York:20230806T123000
DTSTAMP:20260424T100816
CREATED:20221116T195313Z
LAST-MODIFIED:20240308T002835Z
UID:10002203-1691317800-1691325000@drmarkkauffman.org
SUMMARY:Celebration Sunday
DESCRIPTION:
URL:https://drmarkkauffman.org/event/celebration-sunday/2023-08-06/
LOCATION:Jubilee Ministries International\, 14 East Chartes St\, New Castle\, PA\, 16102\, United States
CATEGORIES:Weekly Services
END:VEVENT
BEGIN:VEVENT
DTSTART;TZID=America/New_York:20230802T190000
DTEND;TZID=America/New_York:20230802T203000
DTSTAMP:20260424T100816
CREATED:20221116T192435Z
LAST-MODIFIED:20221116T192550Z
UID:10002463-1691002800-1691008200@drmarkkauffman.org
SUMMARY:Royal Kingdom Academy
DESCRIPTION:
URL:https://drmarkkauffman.org/event/royal-kingdom-academy-3/2023-08-02/
LOCATION:Jubilee Ministries International\, 14 East Chartes St\, New Castle\, PA\, 16102\, United States
CATEGORIES:Weekly Services
END:VEVENT
BEGIN:VEVENT
DTSTART;TZID=America/New_York:20230802T190000
DTEND;TZID=America/New_York:20230802T200000
DTSTAMP:20260424T100816
CREATED:20220518T191308Z
LAST-MODIFIED:20220518T191308Z
UID:10000064-1691002800-1691006400@drmarkkauffman.org
SUMMARY:The Royal Kingdom Academy
DESCRIPTION:Join Dr. Mark Kauffman each week for the Royal Kingdom Academy at Jubilee Ministries International City Church in New Castle\, PA.
URL:https://drmarkkauffman.org/event/the-royal-kingdom-academy/2023-08-02/
LOCATION:Jubilee Ministries International\, 14 East Chartes St\, New Castle\, PA\, 16102\, United States
CATEGORIES:Weekly Services
END:VEVENT
BEGIN:VEVENT
DTSTART;TZID=America/New_York:20230730T103000
DTEND;TZID=America/New_York:20230730T123000
DTSTAMP:20260424T100816
CREATED:20221116T195313Z
LAST-MODIFIED:20240308T002835Z
UID:10002202-1690713000-1690720200@drmarkkauffman.org
SUMMARY:Celebration Sunday
DESCRIPTION:
URL:https://drmarkkauffman.org/event/celebration-sunday/2023-07-30/
LOCATION:Jubilee Ministries International\, 14 East Chartes St\, New Castle\, PA\, 16102\, United States
CATEGORIES:Weekly Services
END:VEVENT
BEGIN:VEVENT
DTSTART;TZID=America/New_York:20230726T190000
DTEND;TZID=America/New_York:20230726T203000
DTSTAMP:20260424T100816
CREATED:20221116T192435Z
LAST-MODIFIED:20221116T192550Z
UID:10002462-1690398000-1690403400@drmarkkauffman.org
SUMMARY:Royal Kingdom Academy
DESCRIPTION:
URL:https://drmarkkauffman.org/event/royal-kingdom-academy-3/2023-07-26/
LOCATION:Jubilee Ministries International\, 14 East Chartes St\, New Castle\, PA\, 16102\, United States
CATEGORIES:Weekly Services
END:VEVENT
BEGIN:VEVENT
DTSTART;TZID=America/New_York:20230726T190000
DTEND;TZID=America/New_York:20230726T200000
DTSTAMP:20260424T100816
CREATED:20220518T191308Z
LAST-MODIFIED:20220518T191308Z
UID:10000063-1690398000-1690401600@drmarkkauffman.org
SUMMARY:The Royal Kingdom Academy
DESCRIPTION:Join Dr. Mark Kauffman each week for the Royal Kingdom Academy at Jubilee Ministries International City Church in New Castle\, PA.
URL:https://drmarkkauffman.org/event/the-royal-kingdom-academy/2023-07-26/
LOCATION:Jubilee Ministries International\, 14 East Chartes St\, New Castle\, PA\, 16102\, United States
CATEGORIES:Weekly Services
END:VEVENT
BEGIN:VEVENT
DTSTART;TZID=America/New_York:20230723T103000
DTEND;TZID=America/New_York:20230723T123000
DTSTAMP:20260424T100816
CREATED:20221116T195313Z
LAST-MODIFIED:20240308T002835Z
UID:10002201-1690108200-1690115400@drmarkkauffman.org
SUMMARY:Celebration Sunday
DESCRIPTION:
URL:https://drmarkkauffman.org/event/celebration-sunday/2023-07-23/
LOCATION:Jubilee Ministries International\, 14 East Chartes St\, New Castle\, PA\, 16102\, United States
CATEGORIES:Weekly Services
END:VEVENT
BEGIN:VEVENT
DTSTART;TZID=America/New_York:20230719T190000
DTEND;TZID=America/New_York:20230719T203000
DTSTAMP:20260424T100816
CREATED:20221116T192435Z
LAST-MODIFIED:20221116T192550Z
UID:10002461-1689793200-1689798600@drmarkkauffman.org
SUMMARY:Royal Kingdom Academy
DESCRIPTION:
URL:https://drmarkkauffman.org/event/royal-kingdom-academy-3/2023-07-19/
LOCATION:Jubilee Ministries International\, 14 East Chartes St\, New Castle\, PA\, 16102\, United States
CATEGORIES:Weekly Services
END:VEVENT
BEGIN:VEVENT
DTSTART;TZID=America/New_York:20230719T190000
DTEND;TZID=America/New_York:20230719T200000
DTSTAMP:20260424T100816
CREATED:20220518T191308Z
LAST-MODIFIED:20220518T191308Z
UID:10000062-1689793200-1689796800@drmarkkauffman.org
SUMMARY:The Royal Kingdom Academy
DESCRIPTION:Join Dr. Mark Kauffman each week for the Royal Kingdom Academy at Jubilee Ministries International City Church in New Castle\, PA.
URL:https://drmarkkauffman.org/event/the-royal-kingdom-academy/2023-07-19/
LOCATION:Jubilee Ministries International\, 14 East Chartes St\, New Castle\, PA\, 16102\, United States
CATEGORIES:Weekly Services
END:VEVENT
BEGIN:VEVENT
DTSTART;TZID=America/New_York:20230716T103000
DTEND;TZID=America/New_York:20230716T123000
DTSTAMP:20260424T100816
CREATED:20221116T195313Z
LAST-MODIFIED:20240308T002835Z
UID:10002200-1689503400-1689510600@drmarkkauffman.org
SUMMARY:Celebration Sunday
DESCRIPTION:
URL:https://drmarkkauffman.org/event/celebration-sunday/2023-07-16/
LOCATION:Jubilee Ministries International\, 14 East Chartes St\, New Castle\, PA\, 16102\, United States
CATEGORIES:Weekly Services
END:VEVENT
BEGIN:VEVENT
DTSTART;TZID=America/New_York:20230712T190000
DTEND;TZID=America/New_York:20230712T203000
DTSTAMP:20260424T100816
CREATED:20221116T192435Z
LAST-MODIFIED:20221116T192550Z
UID:10002460-1689188400-1689193800@drmarkkauffman.org
SUMMARY:Royal Kingdom Academy
DESCRIPTION:
URL:https://drmarkkauffman.org/event/royal-kingdom-academy-3/2023-07-12/
LOCATION:Jubilee Ministries International\, 14 East Chartes St\, New Castle\, PA\, 16102\, United States
CATEGORIES:Weekly Services
END:VEVENT
BEGIN:VEVENT
DTSTART;TZID=America/New_York:20230712T190000
DTEND;TZID=America/New_York:20230712T200000
DTSTAMP:20260424T100816
CREATED:20220518T191308Z
LAST-MODIFIED:20220518T191308Z
UID:10000061-1689188400-1689192000@drmarkkauffman.org
SUMMARY:The Royal Kingdom Academy
DESCRIPTION:Join Dr. Mark Kauffman each week for the Royal Kingdom Academy at Jubilee Ministries International City Church in New Castle\, PA.
URL:https://drmarkkauffman.org/event/the-royal-kingdom-academy/2023-07-12/
LOCATION:Jubilee Ministries International\, 14 East Chartes St\, New Castle\, PA\, 16102\, United States
CATEGORIES:Weekly Services
END:VEVENT
BEGIN:VEVENT
DTSTART;TZID=America/New_York:20230709T103000
DTEND;TZID=America/New_York:20230709T123000
DTSTAMP:20260424T100816
CREATED:20221116T195313Z
LAST-MODIFIED:20240308T002835Z
UID:10002199-1688898600-1688905800@drmarkkauffman.org
SUMMARY:Celebration Sunday
DESCRIPTION:
URL:https://drmarkkauffman.org/event/celebration-sunday/2023-07-09/
LOCATION:Jubilee Ministries International\, 14 East Chartes St\, New Castle\, PA\, 16102\, United States
CATEGORIES:Weekly Services
END:VEVENT
BEGIN:VEVENT
DTSTART;TZID=America/New_York:20230705T190000
DTEND;TZID=America/New_York:20230705T203000
DTSTAMP:20260424T100816
CREATED:20221116T192435Z
LAST-MODIFIED:20221116T192550Z
UID:10002459-1688583600-1688589000@drmarkkauffman.org
SUMMARY:Royal Kingdom Academy
DESCRIPTION:
URL:https://drmarkkauffman.org/event/royal-kingdom-academy-3/2023-07-05/
LOCATION:Jubilee Ministries International\, 14 East Chartes St\, New Castle\, PA\, 16102\, United States
CATEGORIES:Weekly Services
END:VEVENT
BEGIN:VEVENT
DTSTART;TZID=America/New_York:20230705T190000
DTEND;TZID=America/New_York:20230705T200000
DTSTAMP:20260424T100816
CREATED:20220518T191308Z
LAST-MODIFIED:20220518T191308Z
UID:10000060-1688583600-1688587200@drmarkkauffman.org
SUMMARY:The Royal Kingdom Academy
DESCRIPTION:Join Dr. Mark Kauffman each week for the Royal Kingdom Academy at Jubilee Ministries International City Church in New Castle\, PA.
URL:https://drmarkkauffman.org/event/the-royal-kingdom-academy/2023-07-05/
LOCATION:Jubilee Ministries International\, 14 East Chartes St\, New Castle\, PA\, 16102\, United States
CATEGORIES:Weekly Services
END:VEVENT
BEGIN:VEVENT
DTSTART;TZID=America/New_York:20230702T103000
DTEND;TZID=America/New_York:20230702T123000
DTSTAMP:20260424T100816
CREATED:20221116T195313Z
LAST-MODIFIED:20240308T002835Z
UID:10002198-1688293800-1688301000@drmarkkauffman.org
SUMMARY:Celebration Sunday
DESCRIPTION:
URL:https://drmarkkauffman.org/event/celebration-sunday/2023-07-02/
LOCATION:Jubilee Ministries International\, 14 East Chartes St\, New Castle\, PA\, 16102\, United States
CATEGORIES:Weekly Services
END:VEVENT
END:VCALENDAR